BEGIN:VCALENDAR
VERSION:2.0
PRODID:-//Rutherford Connect - ECPv6.15.20//NONSGML v1.0//EN
CALSCALE:GREGORIAN
METHOD:PUBLISH
X-ORIGINAL-URL:https://rutherfordconnect.com
X-WR-CALDESC:Events for Rutherford Connect
REFRESH-INTERVAL;VALUE=DURATION:PT1H
X-Robots-Tag:noindex
X-PUBLISHED-TTL:PT1H
BEGIN:VTIMEZONE
TZID:America/New_York
BEGIN:DAYLIGHT
TZOFFSETFROM:-0500
TZOFFSETTO:-0400
TZNAME:EDT
DTSTART:20250309T070000
END:DAYLIGHT
BEGIN:STANDARD
TZOFFSETFROM:-0400
TZOFFSETTO:-0500
TZNAME:EST
DTSTART:20251102T060000
END:STANDARD
BEGIN:DAYLIGHT
TZOFFSETFROM:-0500
TZOFFSETTO:-0400
TZNAME:EDT
DTSTART:20260308T070000
END:DAYLIGHT
BEGIN:STANDARD
TZOFFSETFROM:-0400
TZOFFSETTO:-0500
TZNAME:EST
DTSTART:20261101T060000
END:STANDARD
BEGIN:DAYLIGHT
TZOFFSETFROM:-0500
TZOFFSETTO:-0400
TZNAME:EDT
DTSTART:20270314T070000
END:DAYLIGHT
BEGIN:STANDARD
TZOFFSETFROM:-0400
TZOFFSETTO:-0500
TZNAME:EST
DTSTART:20271107T060000
END:STANDARD
END:VTIMEZONE
BEGIN:VEVENT
DTSTART;TZID=America/New_York:20260131T090000
DTEND;TZID=America/New_York:20260131T140000
DTSTAMP:20260425T114809
CREATED:20250720T124533Z
LAST-MODIFIED:20250720T124533Z
UID:10006924-1769850000-1769868000@rutherfordconnect.com
SUMMARY:Washburn Community Outreach Center Food Assistance
DESCRIPTION:Offers assistance with clothing and food. Hours of operation: 9am – 2pm\, Thursday\,\nFriday\, and Saturday.
URL:https://rutherfordconnect.com/event/washburn-community-outreach-center-food-assistance/2026-01-31/
LOCATION:Washburn Community Outreach Center\, 2934 Piney Mountain Church Rd\, Bostic\, NC\, 28018\, United States
CATEGORIES:Soup Kitchens & Free Meal Events
END:VEVENT
BEGIN:VEVENT
DTSTART;TZID=America/New_York:20260131T120000
DTEND;TZID=America/New_York:20260131T130000
DTSTAMP:20260425T114809
CREATED:20250725T160053Z
LAST-MODIFIED:20250725T160500Z
UID:10008435-1769860800-1769864400@rutherfordconnect.com
SUMMARY:ODAT Group (AA meeting)
DESCRIPTION:Alcoholics Anonymous meeting \nDiscussion\nIn-person\nOpen
URL:https://rutherfordconnect.com/event/odat-group-aa-meeting/2026-01-31/
LOCATION:Perry Moore House\, 278 N Main St\, Rutherfordton\, NC\, 28139\, United States
CATEGORIES:Faith-Based Support Groups,Mental Health & Recovery Support Events,Substance Use Recovery Meetings
END:VEVENT
BEGIN:VEVENT
DTSTART;TZID=America/New_York:20260131T160000
DTEND;TZID=America/New_York:20260131T173000
DTSTAMP:20260425T114809
CREATED:20250720T114540Z
LAST-MODIFIED:20250720T114540Z
UID:10000962-1769875200-1769880600@rutherfordconnect.com
SUMMARY:Grace of God Rescue Mission Meals
DESCRIPTION:Hot Meal Monday-Saturday 4pm-5:30pm.
URL:https://rutherfordconnect.com/event/grace-of-god-rescue-mission-meals/2026-01-31/
LOCATION:Grace of God Rescue Mission\, 537 W. Main St.\, Forest City\, NC\, 28043\, United States
CATEGORIES:Soup Kitchens & Free Meal Events
END:VEVENT
BEGIN:VEVENT
DTSTART;TZID=America/New_York:20260131T190000
DTEND;TZID=America/New_York:20260131T210000
DTSTAMP:20260425T114809
CREATED:20260105T182530Z
LAST-MODIFIED:20260105T182530Z
UID:10015662-1769886000-1769893200@rutherfordconnect.com
SUMMARY:Honor Dr MLK's Legacy with Sacred Jazz for Social Justice
DESCRIPTION:Come hear  Warren Cooper’s night of “Sacred Jazz for Social Justice\,” a concert presenting stunning arrangements of familiar spirituals.  Warren will lead listeners through an experience highlighting the liberatory message of African spirituals and unpack the gifts they offer to all of humanity. \nTickets available $10 – $35 at dreamingstone.org
URL:https://rutherfordconnect.com/event/honor-dr-mlks-legacy-with-sacred-jazz-for-social-justice/
LOCATION:Dreaming Stone Art and Ecology Center\, 382 Pleasant Hill Rd\, Rutherfordton\, NC\, 28139\, United States
ORGANIZER;CN="Dreaming Stone Arts and Ecology Center":MAILTO:info@dreamingstone.org
END:VEVENT
END:VCALENDAR