BEGIN:VCALENDAR
VERSION:2.0
PRODID:-//Rutherford Connect - ECPv6.15.20//NONSGML v1.0//EN
CALSCALE:GREGORIAN
METHOD:PUBLISH
X-ORIGINAL-URL:https://rutherfordconnect.com
X-WR-CALDESC:Events for Rutherford Connect
REFRESH-INTERVAL;VALUE=DURATION:PT1H
X-Robots-Tag:noindex
X-PUBLISHED-TTL:PT1H
BEGIN:VTIMEZONE
TZID:America/New_York
BEGIN:DAYLIGHT
TZOFFSETFROM:-0500
TZOFFSETTO:-0400
TZNAME:EDT
DTSTART:20250309T070000
END:DAYLIGHT
BEGIN:STANDARD
TZOFFSETFROM:-0400
TZOFFSETTO:-0500
TZNAME:EST
DTSTART:20251102T060000
END:STANDARD
BEGIN:DAYLIGHT
TZOFFSETFROM:-0500
TZOFFSETTO:-0400
TZNAME:EDT
DTSTART:20260308T070000
END:DAYLIGHT
BEGIN:STANDARD
TZOFFSETFROM:-0400
TZOFFSETTO:-0500
TZNAME:EST
DTSTART:20261101T060000
END:STANDARD
BEGIN:DAYLIGHT
TZOFFSETFROM:-0500
TZOFFSETTO:-0400
TZNAME:EDT
DTSTART:20270314T070000
END:DAYLIGHT
BEGIN:STANDARD
TZOFFSETFROM:-0400
TZOFFSETTO:-0500
TZNAME:EST
DTSTART:20271107T060000
END:STANDARD
END:VTIMEZONE
BEGIN:VEVENT
DTSTART;TZID=America/New_York:20260401T080000
DTEND;TZID=America/New_York:20260401T170000
DTSTAMP:20260421T064226
CREATED:20250720T122956Z
LAST-MODIFIED:20250720T122956Z
UID:10004152-1775030400-1775062800@rutherfordconnect.com
SUMMARY:Congregant Meals
DESCRIPTION:Home Delivered Meals – Seniors over 60.\nCongregant Meals – register at least one day in advance. Meals provided at 193 Callahan-\nKoon Road. Congregant meals offered Monday through Friday. Call to register.\nCommodities Supplemental Food Program (CSFP)\nFood assistance for seniors ages 60 and up. Call to register.
URL:https://rutherfordconnect.com/event/congregant-meals/2026-04-01/
LOCATION:Rutherford County Senior Center\, 193 Callahan-Koon Rd\, Spindale\, NC\, 28160\, United States
CATEGORIES:Soup Kitchens & Free Meal Events
END:VEVENT
BEGIN:VEVENT
DTSTART;TZID=America/New_York:20260401T090000
DTEND;TZID=America/New_York:20260401T140000
DTSTAMP:20260421T064226
CREATED:20250720T114142Z
LAST-MODIFIED:20250720T114142Z
UID:10000570-1775034000-1775052000@rutherfordconnect.com
SUMMARY:Chase Corner Ministries Food Pantry
DESCRIPTION:Emergency assistance for food\, clothing\, utility\, rent\nand medication assistance once every 6 months.\nEmergency Food Pantry: Monday\, Tuesday\, Thursday\, Friday from 9:00am – 2:00pm.\nWednesday food distribution from 9:00am – 2:00pm.
URL:https://rutherfordconnect.com/event/chase-corner-ministries-food-pantry/2026-04-01/
LOCATION:Chase Corner Ministries\, 1604 Chase High Road\, Forest City\, NC\, 28043\, United States
CATEGORIES:Soup Kitchens & Free Meal Events
END:VEVENT
BEGIN:VEVENT
DTSTART;TZID=America/New_York:20260401T100000
DTEND;TZID=America/New_York:20260401T120000
DTSTAMP:20260421T064226
CREATED:20250720T124208Z
LAST-MODIFIED:20250720T124208Z
UID:10006616-1775037600-1775044800@rutherfordconnect.com
SUMMARY:Jericho Road Soup Kitchen
DESCRIPTION:Jericho Road Soup Kitchen – serves a free meal every Wednesday from 10:00 am\nto 12:00 pm.
URL:https://rutherfordconnect.com/event/jericho-road-soup-kitchen/2026-04-01/
LOCATION:St. Gabriel Episcopal Church\, 264 N. Ridgecrest Ave.\, Rutherfordton\, NC\, 28139\, United States
CATEGORIES:Soup Kitchens & Free Meal Events
END:VEVENT
BEGIN:VEVENT
DTSTART;TZID=America/New_York:20260401T100000
DTEND;TZID=America/New_York:20260401T170000
DTSTAMP:20260421T064226
CREATED:20250720T123541Z
LAST-MODIFIED:20250720T123541Z
UID:10005420-1775037600-1775062800@rutherfordconnect.com
SUMMARY:Salvation Army Food Assistance
DESCRIPTION:Food assistance. Tuesday-Friday 10am-5pm.
URL:https://rutherfordconnect.com/event/salvation-army-food-assistance/2026-04-01/
LOCATION:Salvation Army\, 256 Main Street\, Forest City\, NC\, 28043\, United States
CATEGORIES:Soup Kitchens & Free Meal Events
END:VEVENT
BEGIN:VEVENT
DTSTART;TZID=America/New_York:20260401T110000
DTEND;TZID=America/New_York:20260401T160000
DTSTAMP:20260421T064226
CREATED:20250720T123846Z
LAST-MODIFIED:20250720T123846Z
UID:10006355-1775041200-1775059200@rutherfordconnect.com
SUMMARY:The Source Ministries / Loving Arms Ministry
DESCRIPTION:Food distribution on Wednesdays from 11:00am – 4:00pm. Clothing\, baby products\,\nhygiene products.
URL:https://rutherfordconnect.com/event/the-source-ministries-loving-arms-ministry/2026-04-01/
LOCATION:The Source Ministries\, 661 W Main St\, Forest City\, NC\, 28043\, United States
CATEGORIES:Soup Kitchens & Free Meal Events
END:VEVENT
BEGIN:VEVENT
DTSTART;TZID=America/New_York:20260401T120000
DTEND;TZID=America/New_York:20260401T130000
DTSTAMP:20260421T064226
CREATED:20250806T151627Z
LAST-MODIFIED:20250806T151627Z
UID:10011840-1775044800-1775048400@rutherfordconnect.com
SUMMARY:Moms in Recovery
DESCRIPTION:Come as you are. \nThis is a safe\, judgement-free space for mothers in any stage of recovery to connect\, share\, and grow together. Whether you’re just starting out or years into your journey- you’re not alone. \nPeer-led conversations \nEncouragement & resources
URL:https://rutherfordconnect.com/event/moms-in-recovery/2026-04-01/
LOCATION:Healing\, Recovery\, and Thriving Center\, 646 Withrow Rd\, Forest City\, NC\, 28043\, United States
CATEGORIES:Mental Health & Recovery Support Events,Substance Use Recovery Meetings
ORGANIZER;CN="United Way of Rutherford County":MAILTO:bdblack59@uwrcinc.org
END:VEVENT
BEGIN:VEVENT
DTSTART;TZID=America/New_York:20260401T120000
DTEND;TZID=America/New_York:20260401T130000
DTSTAMP:20260421T064226
CREATED:20251003T173222Z
LAST-MODIFIED:20251003T173222Z
UID:10013605-1775044800-1775048400@rutherfordconnect.com
SUMMARY:Moms in Recovery
DESCRIPTION:Where moms in any stage of recovery can connect\, share\, & grow. \n648 Withrow Rd\, Forest City\, NC 28043 \n828-286-3929
URL:https://rutherfordconnect.com/event/moms-in-recovery-2/2026-04-01/
LOCATION:United Way of Rutherford County\, 668 Withrow Rd\, Forest City\, NC\, 28043\, United States
CATEGORIES:Mental Health & Recovery Support Events
ORGANIZER;CN="United Way of Rutherford County":MAILTO:bdblack59@uwrcinc.org
END:VEVENT
BEGIN:VEVENT
DTSTART;TZID=America/New_York:20260401T153000
DTEND;TZID=America/New_York:20260401T180000
DTSTAMP:20260421T064226
CREATED:20250920T211852Z
LAST-MODIFIED:20250920T211852Z
UID:10012692-1775057400-1775066400@rutherfordconnect.com
SUMMARY:HOPEworks Afterschool Program
DESCRIPTION:Hopeworks is for any students 5th-12th grade. This program is FREE and designed to inspire students to become community leaders. In addition\, students can. get help with homework and assignments in a safe and positive environment. \nOur 5th-8th graders meet on Wednesdays\nOur 9th-12th graders meet on Thursdays.\nThis occurs weekly\, 3:30-6:00pm at The Blue Ridge Village\n654 W. Main St in Forest City
URL:https://rutherfordconnect.com/event/hopeworks-afterschool-program-2/2026-04-01/
LOCATION:Blue Ridge Hope Village\, 654 West Main St\, Forest City\, NC\, 28043\, United States
CATEGORIES:Youth Camps & After-School Programs
ATTACH;FMTTYPE=image/png:https://rutherfordconnect.com/wp-content/uploads/2025/09/Fall-25-HW-schedule-1.png
END:VEVENT
BEGIN:VEVENT
DTSTART;TZID=America/New_York:20260401T160000
DTEND;TZID=America/New_York:20260401T173000
DTSTAMP:20260421T064226
CREATED:20250720T114540Z
LAST-MODIFIED:20250720T114540Z
UID:10001013-1775059200-1775064600@rutherfordconnect.com
SUMMARY:Grace of God Rescue Mission Meals
DESCRIPTION:Hot Meal Monday-Saturday 4pm-5:30pm.
URL:https://rutherfordconnect.com/event/grace-of-god-rescue-mission-meals/2026-04-01/
LOCATION:Grace of God Rescue Mission\, 537 W. Main St.\, Forest City\, NC\, 28043\, United States
CATEGORIES:Soup Kitchens & Free Meal Events
END:VEVENT
BEGIN:VEVENT
DTSTART;TZID=America/New_York:20260401T164500
DTEND;TZID=America/New_York:20260401T180000
DTSTAMP:20260421T064226
CREATED:20250720T113330Z
LAST-MODIFIED:20250720T113330Z
UID:10000048-1775061900-1775066400@rutherfordconnect.com
SUMMARY:Adaville Baptist Church / REACH
DESCRIPTION:Drive through food distribution on Wednesdays at 4:45 pm.
URL:https://rutherfordconnect.com/event/adaville-baptist-church-reach/2026-04-01/
LOCATION:Adaville Baptist Church\, 805 Oakland Rd\, Spindale\, NC\, 28160\, United States
CATEGORIES:Soup Kitchens & Free Meal Events
END:VEVENT
BEGIN:VEVENT
DTSTART;TZID=America/New_York:20260401T180000
DTEND;TZID=America/New_York:20260401T190000
DTSTAMP:20260421T064226
CREATED:20250725T160239Z
LAST-MODIFIED:20250725T161051Z
UID:10009263-1775066400-1775070000@rutherfordconnect.com
SUMMARY:Promises Group (AA meeting)
DESCRIPTION:Alcoholics Anonymous meeting \nBig Book\nIn-person\nOpen
URL:https://rutherfordconnect.com/event/promises-group-aa-meeting/2026-04-01/
LOCATION:Rutherfordton Presbyterian Church\, 252 N Washington St\, Rutherfordton\, NC\, 28139\, United States
CATEGORIES:Faith-Based Support Groups,Mental Health & Recovery Support Events,Substance Use Recovery Meetings
END:VEVENT
BEGIN:VEVENT
DTSTART;TZID=America/New_York:20260401T180000
DTEND;TZID=America/New_York:20260401T190000
DTSTAMP:20260421T064226
CREATED:20250806T154033Z
LAST-MODIFIED:20250806T154033Z
UID:10012363-1775066400-1775070000@rutherfordconnect.com
SUMMARY:Free Community Meal
DESCRIPTION:The Hill Ministries offers a free community meal every Wednesday at 6pm \nAll are welcome
URL:https://rutherfordconnect.com/event/free-community-meal/2026-04-01/
LOCATION:Caroleen Baptist Church\, 205 Spencer St\, Caroleen\, NC\, 28019\, United States
CATEGORIES:Church Events & Services,Community Dinners or Potlucks,Faith & Spiritual Life,Food & Social Events,Soup Kitchens & Free Meal Events
ORGANIZER;CN="Caroleen Baptist Church":MAILTO:Caroleenbaptistchurch@gmail.com
END:VEVENT
BEGIN:VEVENT
DTSTART;TZID=America/New_York:20260401T200000
DTEND;TZID=America/New_York:20260401T210000
DTSTAMP:20260421T064226
CREATED:20250725T155659Z
LAST-MODIFIED:20250725T161128Z
UID:10009749-1775073600-1775077200@rutherfordconnect.com
SUMMARY:Out of the Ashes Group (AA meeting)
DESCRIPTION:Alcoholics Anonymous meeting \nDiscussion\nIn-person\nNewcomer\nOpen
URL:https://rutherfordconnect.com/event/out-of-the-ashes-group-aa-meeting/2026-04-01/
LOCATION:Out of the Ashes\, 131 Countryside Dr\, Forest City\, NC\, 28043\, United States
CATEGORIES:Faith-Based Support Groups,Mental Health & Recovery Support Events,Substance Use Recovery Meetings
END:VEVENT
BEGIN:VEVENT
DTSTART;TZID=America/New_York:20260401T200000
DTEND;TZID=America/New_York:20260401T210000
DTSTAMP:20260421T064226
CREATED:20250803T185832Z
LAST-MODIFIED:20250803T185832Z
UID:10011317-1775073600-1775077200@rutherfordconnect.com
SUMMARY:Never too Late Group (NA meeting)
DESCRIPTION:This meeting is open to addicts and non-addicts alike. All are welcome.\n    This meeting invites participation by all attendees.
URL:https://rutherfordconnect.com/event/never-too-late-group-na-meeting-3/2026-04-01/
LOCATION:First Presbyterian Church\, 438 W Main St\, Forest City\, NC\, 28043\, United States
CATEGORIES:Faith-Based Support Groups,Mental Health & Recovery Support Events,Substance Use Recovery Meetings
END:VEVENT
END:VCALENDAR