BEGIN:VCALENDAR
VERSION:2.0
PRODID:-//Rutherford Connect - ECPv6.15.20//NONSGML v1.0//EN
CALSCALE:GREGORIAN
METHOD:PUBLISH
X-ORIGINAL-URL:https://rutherfordconnect.com
X-WR-CALDESC:Events for Rutherford Connect
REFRESH-INTERVAL;VALUE=DURATION:PT1H
X-Robots-Tag:noindex
X-PUBLISHED-TTL:PT1H
BEGIN:VTIMEZONE
TZID:America/New_York
BEGIN:DAYLIGHT
TZOFFSETFROM:-0500
TZOFFSETTO:-0400
TZNAME:EDT
DTSTART:20240310T070000
END:DAYLIGHT
BEGIN:STANDARD
TZOFFSETFROM:-0400
TZOFFSETTO:-0500
TZNAME:EST
DTSTART:20241103T060000
END:STANDARD
BEGIN:DAYLIGHT
TZOFFSETFROM:-0500
TZOFFSETTO:-0400
TZNAME:EDT
DTSTART:20250309T070000
END:DAYLIGHT
BEGIN:STANDARD
TZOFFSETFROM:-0400
TZOFFSETTO:-0500
TZNAME:EST
DTSTART:20251102T060000
END:STANDARD
BEGIN:DAYLIGHT
TZOFFSETFROM:-0500
TZOFFSETTO:-0400
TZNAME:EDT
DTSTART:20260308T070000
END:DAYLIGHT
BEGIN:STANDARD
TZOFFSETFROM:-0400
TZOFFSETTO:-0500
TZNAME:EST
DTSTART:20261101T060000
END:STANDARD
BEGIN:DAYLIGHT
TZOFFSETFROM:-0500
TZOFFSETTO:-0400
TZNAME:EDT
DTSTART:20270314T070000
END:DAYLIGHT
BEGIN:STANDARD
TZOFFSETFROM:-0400
TZOFFSETTO:-0500
TZNAME:EST
DTSTART:20271107T060000
END:STANDARD
END:VTIMEZONE
BEGIN:VEVENT
DTSTART;TZID=America/New_York:20260211T180000
DTEND;TZID=America/New_York:20260211T190000
DTSTAMP:20260425T105835
CREATED:20250806T154033Z
LAST-MODIFIED:20250806T154033Z
UID:10012356-1770832800-1770836400@rutherfordconnect.com
SUMMARY:Free Community Meal
DESCRIPTION:The Hill Ministries offers a free community meal every Wednesday at 6pm \nAll are welcome
URL:https://rutherfordconnect.com/event/free-community-meal/2026-02-11/
LOCATION:Caroleen Baptist Church\, 205 Spencer St\, Caroleen\, NC\, 28019\, United States
CATEGORIES:Church Events & Services,Community Dinners or Potlucks,Faith & Spiritual Life,Food & Social Events,Soup Kitchens & Free Meal Events
ORGANIZER;CN="Caroleen Baptist Church":MAILTO:Caroleenbaptistchurch@gmail.com
END:VEVENT
BEGIN:VEVENT
DTSTART;TZID=America/New_York:20260204T180000
DTEND;TZID=America/New_York:20260204T190000
DTSTAMP:20260425T105835
CREATED:20250806T154033Z
LAST-MODIFIED:20250806T154033Z
UID:10012355-1770228000-1770231600@rutherfordconnect.com
SUMMARY:Free Community Meal
DESCRIPTION:The Hill Ministries offers a free community meal every Wednesday at 6pm \nAll are welcome
URL:https://rutherfordconnect.com/event/free-community-meal/2026-02-04/
LOCATION:Caroleen Baptist Church\, 205 Spencer St\, Caroleen\, NC\, 28019\, United States
CATEGORIES:Church Events & Services,Community Dinners or Potlucks,Faith & Spiritual Life,Food & Social Events,Soup Kitchens & Free Meal Events
ORGANIZER;CN="Caroleen Baptist Church":MAILTO:Caroleenbaptistchurch@gmail.com
END:VEVENT
BEGIN:VEVENT
DTSTART;TZID=America/New_York:20260128T180000
DTEND;TZID=America/New_York:20260128T190000
DTSTAMP:20260425T105835
CREATED:20250806T154033Z
LAST-MODIFIED:20250806T154033Z
UID:10012354-1769623200-1769626800@rutherfordconnect.com
SUMMARY:Free Community Meal
DESCRIPTION:The Hill Ministries offers a free community meal every Wednesday at 6pm \nAll are welcome
URL:https://rutherfordconnect.com/event/free-community-meal/2026-01-28/
LOCATION:Caroleen Baptist Church\, 205 Spencer St\, Caroleen\, NC\, 28019\, United States
CATEGORIES:Church Events & Services,Community Dinners or Potlucks,Faith & Spiritual Life,Food & Social Events,Soup Kitchens & Free Meal Events
ORGANIZER;CN="Caroleen Baptist Church":MAILTO:Caroleenbaptistchurch@gmail.com
END:VEVENT
BEGIN:VEVENT
DTSTART;TZID=America/New_York:20260121T180000
DTEND;TZID=America/New_York:20260121T190000
DTSTAMP:20260425T105835
CREATED:20250806T154033Z
LAST-MODIFIED:20250806T154033Z
UID:10012353-1769018400-1769022000@rutherfordconnect.com
SUMMARY:Free Community Meal
DESCRIPTION:The Hill Ministries offers a free community meal every Wednesday at 6pm \nAll are welcome
URL:https://rutherfordconnect.com/event/free-community-meal/2026-01-21/
LOCATION:Caroleen Baptist Church\, 205 Spencer St\, Caroleen\, NC\, 28019\, United States
CATEGORIES:Church Events & Services,Community Dinners or Potlucks,Faith & Spiritual Life,Food & Social Events,Soup Kitchens & Free Meal Events
ORGANIZER;CN="Caroleen Baptist Church":MAILTO:Caroleenbaptistchurch@gmail.com
END:VEVENT
BEGIN:VEVENT
DTSTART;TZID=America/New_York:20260114T180000
DTEND;TZID=America/New_York:20260114T190000
DTSTAMP:20260425T105835
CREATED:20250806T154033Z
LAST-MODIFIED:20250806T154033Z
UID:10012352-1768413600-1768417200@rutherfordconnect.com
SUMMARY:Free Community Meal
DESCRIPTION:The Hill Ministries offers a free community meal every Wednesday at 6pm \nAll are welcome
URL:https://rutherfordconnect.com/event/free-community-meal/2026-01-14/
LOCATION:Caroleen Baptist Church\, 205 Spencer St\, Caroleen\, NC\, 28019\, United States
CATEGORIES:Church Events & Services,Community Dinners or Potlucks,Faith & Spiritual Life,Food & Social Events,Soup Kitchens & Free Meal Events
ORGANIZER;CN="Caroleen Baptist Church":MAILTO:Caroleenbaptistchurch@gmail.com
END:VEVENT
BEGIN:VEVENT
DTSTART;TZID=America/New_York:20260107T180000
DTEND;TZID=America/New_York:20260107T190000
DTSTAMP:20260425T105835
CREATED:20250806T154033Z
LAST-MODIFIED:20250806T154033Z
UID:10012351-1767808800-1767812400@rutherfordconnect.com
SUMMARY:Free Community Meal
DESCRIPTION:The Hill Ministries offers a free community meal every Wednesday at 6pm \nAll are welcome
URL:https://rutherfordconnect.com/event/free-community-meal/2026-01-07/
LOCATION:Caroleen Baptist Church\, 205 Spencer St\, Caroleen\, NC\, 28019\, United States
CATEGORIES:Church Events & Services,Community Dinners or Potlucks,Faith & Spiritual Life,Food & Social Events,Soup Kitchens & Free Meal Events
ORGANIZER;CN="Caroleen Baptist Church":MAILTO:Caroleenbaptistchurch@gmail.com
END:VEVENT
BEGIN:VEVENT
DTSTART;TZID=America/New_York:20251231T180000
DTEND;TZID=America/New_York:20251231T190000
DTSTAMP:20260425T105835
CREATED:20250806T154033Z
LAST-MODIFIED:20250806T154033Z
UID:10012350-1767204000-1767207600@rutherfordconnect.com
SUMMARY:Free Community Meal
DESCRIPTION:The Hill Ministries offers a free community meal every Wednesday at 6pm \nAll are welcome
URL:https://rutherfordconnect.com/event/free-community-meal/2025-12-31/
LOCATION:Caroleen Baptist Church\, 205 Spencer St\, Caroleen\, NC\, 28019\, United States
CATEGORIES:Church Events & Services,Community Dinners or Potlucks,Faith & Spiritual Life,Food & Social Events,Soup Kitchens & Free Meal Events
ORGANIZER;CN="Caroleen Baptist Church":MAILTO:Caroleenbaptistchurch@gmail.com
END:VEVENT
BEGIN:VEVENT
DTSTART;TZID=America/New_York:20251224T180000
DTEND;TZID=America/New_York:20251224T190000
DTSTAMP:20260425T105835
CREATED:20250806T154033Z
LAST-MODIFIED:20250806T154033Z
UID:10012349-1766599200-1766602800@rutherfordconnect.com
SUMMARY:Free Community Meal
DESCRIPTION:The Hill Ministries offers a free community meal every Wednesday at 6pm \nAll are welcome
URL:https://rutherfordconnect.com/event/free-community-meal/2025-12-24/
LOCATION:Caroleen Baptist Church\, 205 Spencer St\, Caroleen\, NC\, 28019\, United States
CATEGORIES:Church Events & Services,Community Dinners or Potlucks,Faith & Spiritual Life,Food & Social Events,Soup Kitchens & Free Meal Events
ORGANIZER;CN="Caroleen Baptist Church":MAILTO:Caroleenbaptistchurch@gmail.com
END:VEVENT
BEGIN:VEVENT
DTSTART;TZID=America/New_York:20251217T180000
DTEND;TZID=America/New_York:20251217T190000
DTSTAMP:20260425T105835
CREATED:20250806T154033Z
LAST-MODIFIED:20250806T154033Z
UID:10012348-1765994400-1765998000@rutherfordconnect.com
SUMMARY:Free Community Meal
DESCRIPTION:The Hill Ministries offers a free community meal every Wednesday at 6pm \nAll are welcome
URL:https://rutherfordconnect.com/event/free-community-meal/2025-12-17/
LOCATION:Caroleen Baptist Church\, 205 Spencer St\, Caroleen\, NC\, 28019\, United States
CATEGORIES:Church Events & Services,Community Dinners or Potlucks,Faith & Spiritual Life,Food & Social Events,Soup Kitchens & Free Meal Events
ORGANIZER;CN="Caroleen Baptist Church":MAILTO:Caroleenbaptistchurch@gmail.com
END:VEVENT
BEGIN:VEVENT
DTSTART;TZID=America/New_York:20251210T180000
DTEND;TZID=America/New_York:20251210T190000
DTSTAMP:20260425T105835
CREATED:20250806T154033Z
LAST-MODIFIED:20250806T154033Z
UID:10012347-1765389600-1765393200@rutherfordconnect.com
SUMMARY:Free Community Meal
DESCRIPTION:The Hill Ministries offers a free community meal every Wednesday at 6pm \nAll are welcome
URL:https://rutherfordconnect.com/event/free-community-meal/2025-12-10/
LOCATION:Caroleen Baptist Church\, 205 Spencer St\, Caroleen\, NC\, 28019\, United States
CATEGORIES:Church Events & Services,Community Dinners or Potlucks,Faith & Spiritual Life,Food & Social Events,Soup Kitchens & Free Meal Events
ORGANIZER;CN="Caroleen Baptist Church":MAILTO:Caroleenbaptistchurch@gmail.com
END:VEVENT
BEGIN:VEVENT
DTSTART;TZID=America/New_York:20251203T180000
DTEND;TZID=America/New_York:20251203T190000
DTSTAMP:20260425T105835
CREATED:20250806T154033Z
LAST-MODIFIED:20250806T154033Z
UID:10012346-1764784800-1764788400@rutherfordconnect.com
SUMMARY:Free Community Meal
DESCRIPTION:The Hill Ministries offers a free community meal every Wednesday at 6pm \nAll are welcome
URL:https://rutherfordconnect.com/event/free-community-meal/2025-12-03/
LOCATION:Caroleen Baptist Church\, 205 Spencer St\, Caroleen\, NC\, 28019\, United States
CATEGORIES:Church Events & Services,Community Dinners or Potlucks,Faith & Spiritual Life,Food & Social Events,Soup Kitchens & Free Meal Events
ORGANIZER;CN="Caroleen Baptist Church":MAILTO:Caroleenbaptistchurch@gmail.com
END:VEVENT
BEGIN:VEVENT
DTSTART;TZID=America/New_York:20251126T180000
DTEND;TZID=America/New_York:20251126T190000
DTSTAMP:20260425T105835
CREATED:20250806T154033Z
LAST-MODIFIED:20250806T154033Z
UID:10012345-1764180000-1764183600@rutherfordconnect.com
SUMMARY:Free Community Meal
DESCRIPTION:The Hill Ministries offers a free community meal every Wednesday at 6pm \nAll are welcome
URL:https://rutherfordconnect.com/event/free-community-meal/2025-11-26/
LOCATION:Caroleen Baptist Church\, 205 Spencer St\, Caroleen\, NC\, 28019\, United States
CATEGORIES:Church Events & Services,Community Dinners or Potlucks,Faith & Spiritual Life,Food & Social Events,Soup Kitchens & Free Meal Events
ORGANIZER;CN="Caroleen Baptist Church":MAILTO:Caroleenbaptistchurch@gmail.com
END:VEVENT
BEGIN:VEVENT
DTSTART;TZID=America/New_York:20251119T180000
DTEND;TZID=America/New_York:20251119T190000
DTSTAMP:20260425T105835
CREATED:20250806T154033Z
LAST-MODIFIED:20250806T154033Z
UID:10012344-1763575200-1763578800@rutherfordconnect.com
SUMMARY:Free Community Meal
DESCRIPTION:The Hill Ministries offers a free community meal every Wednesday at 6pm \nAll are welcome
URL:https://rutherfordconnect.com/event/free-community-meal/2025-11-19/
LOCATION:Caroleen Baptist Church\, 205 Spencer St\, Caroleen\, NC\, 28019\, United States
CATEGORIES:Church Events & Services,Community Dinners or Potlucks,Faith & Spiritual Life,Food & Social Events,Soup Kitchens & Free Meal Events
ORGANIZER;CN="Caroleen Baptist Church":MAILTO:Caroleenbaptistchurch@gmail.com
END:VEVENT
BEGIN:VEVENT
DTSTART;TZID=America/New_York:20251115T080000
DTEND;TZID=America/New_York:20251115T170000
DTSTAMP:20260425T105835
CREATED:20251104T184703Z
LAST-MODIFIED:20251104T184703Z
UID:10015333-1763193600-1763226000@rutherfordconnect.com
SUMMARY:Stronger Together Day of Caring
DESCRIPTION:From Worship to Work \nRHP and the Multi-Denominational Coalition of Clergy (MDCC) will join forces once again for our Stronger Together Day where we provide home repairs for members of our community who are in need. \nNovember 15\, 2025 8:00 am \n799 Academy St\, Spindale 28160 \nContact us: 828-248-3431 ext 105 \nINFO@RHPWNC.org
URL:https://rutherfordconnect.com/event/stronger-together-day-of-caring/
LOCATION:Gold Hill Free Will Baptist Assembly Hall\, 799 Academy St.\, Spindale\, NC\, 28160\, United States
CATEGORIES:Church Events & Services,Faith & Spiritual Life,Interfaith Gatherings
END:VEVENT
BEGIN:VEVENT
DTSTART;TZID=America/New_York:20251112T180000
DTEND;TZID=America/New_York:20251112T190000
DTSTAMP:20260425T105835
CREATED:20250806T154033Z
LAST-MODIFIED:20250806T154033Z
UID:10012343-1762970400-1762974000@rutherfordconnect.com
SUMMARY:Free Community Meal
DESCRIPTION:The Hill Ministries offers a free community meal every Wednesday at 6pm \nAll are welcome
URL:https://rutherfordconnect.com/event/free-community-meal/2025-11-12/
LOCATION:Caroleen Baptist Church\, 205 Spencer St\, Caroleen\, NC\, 28019\, United States
CATEGORIES:Church Events & Services,Community Dinners or Potlucks,Faith & Spiritual Life,Food & Social Events,Soup Kitchens & Free Meal Events
ORGANIZER;CN="Caroleen Baptist Church":MAILTO:Caroleenbaptistchurch@gmail.com
END:VEVENT
BEGIN:VEVENT
DTSTART;TZID=America/New_York:20251105T180000
DTEND;TZID=America/New_York:20251105T190000
DTSTAMP:20260425T105835
CREATED:20250806T154033Z
LAST-MODIFIED:20250806T154033Z
UID:10012342-1762365600-1762369200@rutherfordconnect.com
SUMMARY:Free Community Meal
DESCRIPTION:The Hill Ministries offers a free community meal every Wednesday at 6pm \nAll are welcome
URL:https://rutherfordconnect.com/event/free-community-meal/2025-11-05/
LOCATION:Caroleen Baptist Church\, 205 Spencer St\, Caroleen\, NC\, 28019\, United States
CATEGORIES:Church Events & Services,Community Dinners or Potlucks,Faith & Spiritual Life,Food & Social Events,Soup Kitchens & Free Meal Events
ORGANIZER;CN="Caroleen Baptist Church":MAILTO:Caroleenbaptistchurch@gmail.com
END:VEVENT
BEGIN:VEVENT
DTSTART;TZID=America/New_York:20251029T180000
DTEND;TZID=America/New_York:20251029T190000
DTSTAMP:20260425T105835
CREATED:20250806T154033Z
LAST-MODIFIED:20250806T154033Z
UID:10012341-1761760800-1761764400@rutherfordconnect.com
SUMMARY:Free Community Meal
DESCRIPTION:The Hill Ministries offers a free community meal every Wednesday at 6pm \nAll are welcome
URL:https://rutherfordconnect.com/event/free-community-meal/2025-10-29/
LOCATION:Caroleen Baptist Church\, 205 Spencer St\, Caroleen\, NC\, 28019\, United States
CATEGORIES:Church Events & Services,Community Dinners or Potlucks,Faith & Spiritual Life,Food & Social Events,Soup Kitchens & Free Meal Events
ORGANIZER;CN="Caroleen Baptist Church":MAILTO:Caroleenbaptistchurch@gmail.com
END:VEVENT
BEGIN:VEVENT
DTSTART;TZID=America/New_York:20251022T180000
DTEND;TZID=America/New_York:20251022T190000
DTSTAMP:20260425T105835
CREATED:20250806T154033Z
LAST-MODIFIED:20250806T154033Z
UID:10012340-1761156000-1761159600@rutherfordconnect.com
SUMMARY:Free Community Meal
DESCRIPTION:The Hill Ministries offers a free community meal every Wednesday at 6pm \nAll are welcome
URL:https://rutherfordconnect.com/event/free-community-meal/2025-10-22/
LOCATION:Caroleen Baptist Church\, 205 Spencer St\, Caroleen\, NC\, 28019\, United States
CATEGORIES:Church Events & Services,Community Dinners or Potlucks,Faith & Spiritual Life,Food & Social Events,Soup Kitchens & Free Meal Events
ORGANIZER;CN="Caroleen Baptist Church":MAILTO:Caroleenbaptistchurch@gmail.com
END:VEVENT
BEGIN:VEVENT
DTSTART;TZID=America/New_York:20251015T180000
DTEND;TZID=America/New_York:20251015T190000
DTSTAMP:20260425T105835
CREATED:20250806T154033Z
LAST-MODIFIED:20250806T154033Z
UID:10012339-1760551200-1760554800@rutherfordconnect.com
SUMMARY:Free Community Meal
DESCRIPTION:The Hill Ministries offers a free community meal every Wednesday at 6pm \nAll are welcome
URL:https://rutherfordconnect.com/event/free-community-meal/2025-10-15/
LOCATION:Caroleen Baptist Church\, 205 Spencer St\, Caroleen\, NC\, 28019\, United States
CATEGORIES:Church Events & Services,Community Dinners or Potlucks,Faith & Spiritual Life,Food & Social Events,Soup Kitchens & Free Meal Events
ORGANIZER;CN="Caroleen Baptist Church":MAILTO:Caroleenbaptistchurch@gmail.com
END:VEVENT
BEGIN:VEVENT
DTSTART;TZID=America/New_York:20251008T180000
DTEND;TZID=America/New_York:20251008T190000
DTSTAMP:20260425T105835
CREATED:20250806T154033Z
LAST-MODIFIED:20250806T154033Z
UID:10012338-1759946400-1759950000@rutherfordconnect.com
SUMMARY:Free Community Meal
DESCRIPTION:The Hill Ministries offers a free community meal every Wednesday at 6pm \nAll are welcome
URL:https://rutherfordconnect.com/event/free-community-meal/2025-10-08/
LOCATION:Caroleen Baptist Church\, 205 Spencer St\, Caroleen\, NC\, 28019\, United States
CATEGORIES:Church Events & Services,Community Dinners or Potlucks,Faith & Spiritual Life,Food & Social Events,Soup Kitchens & Free Meal Events
ORGANIZER;CN="Caroleen Baptist Church":MAILTO:Caroleenbaptistchurch@gmail.com
END:VEVENT
BEGIN:VEVENT
DTSTART;TZID=America/New_York:20251001T180000
DTEND;TZID=America/New_York:20251001T190000
DTSTAMP:20260425T105835
CREATED:20250806T154033Z
LAST-MODIFIED:20250806T154033Z
UID:10012337-1759341600-1759345200@rutherfordconnect.com
SUMMARY:Free Community Meal
DESCRIPTION:The Hill Ministries offers a free community meal every Wednesday at 6pm \nAll are welcome
URL:https://rutherfordconnect.com/event/free-community-meal/2025-10-01/
LOCATION:Caroleen Baptist Church\, 205 Spencer St\, Caroleen\, NC\, 28019\, United States
CATEGORIES:Church Events & Services,Community Dinners or Potlucks,Faith & Spiritual Life,Food & Social Events,Soup Kitchens & Free Meal Events
ORGANIZER;CN="Caroleen Baptist Church":MAILTO:Caroleenbaptistchurch@gmail.com
END:VEVENT
BEGIN:VEVENT
DTSTART;TZID=America/New_York:20250924T180000
DTEND;TZID=America/New_York:20250924T190000
DTSTAMP:20260425T105835
CREATED:20250806T154033Z
LAST-MODIFIED:20250806T154033Z
UID:10012336-1758736800-1758740400@rutherfordconnect.com
SUMMARY:Free Community Meal
DESCRIPTION:The Hill Ministries offers a free community meal every Wednesday at 6pm \nAll are welcome
URL:https://rutherfordconnect.com/event/free-community-meal/2025-09-24/
LOCATION:Caroleen Baptist Church\, 205 Spencer St\, Caroleen\, NC\, 28019\, United States
CATEGORIES:Church Events & Services,Community Dinners or Potlucks,Faith & Spiritual Life,Food & Social Events,Soup Kitchens & Free Meal Events
ORGANIZER;CN="Caroleen Baptist Church":MAILTO:Caroleenbaptistchurch@gmail.com
END:VEVENT
BEGIN:VEVENT
DTSTART;TZID=America/New_York:20250917T180000
DTEND;TZID=America/New_York:20250917T190000
DTSTAMP:20260425T105835
CREATED:20250806T154033Z
LAST-MODIFIED:20250806T154033Z
UID:10012335-1758132000-1758135600@rutherfordconnect.com
SUMMARY:Free Community Meal
DESCRIPTION:The Hill Ministries offers a free community meal every Wednesday at 6pm \nAll are welcome
URL:https://rutherfordconnect.com/event/free-community-meal/2025-09-17/
LOCATION:Caroleen Baptist Church\, 205 Spencer St\, Caroleen\, NC\, 28019\, United States
CATEGORIES:Church Events & Services,Community Dinners or Potlucks,Faith & Spiritual Life,Food & Social Events,Soup Kitchens & Free Meal Events
ORGANIZER;CN="Caroleen Baptist Church":MAILTO:Caroleenbaptistchurch@gmail.com
END:VEVENT
BEGIN:VEVENT
DTSTART;TZID=America/New_York:20250910T180000
DTEND;TZID=America/New_York:20250910T190000
DTSTAMP:20260425T105835
CREATED:20250806T154033Z
LAST-MODIFIED:20250806T154033Z
UID:10012334-1757527200-1757530800@rutherfordconnect.com
SUMMARY:Free Community Meal
DESCRIPTION:The Hill Ministries offers a free community meal every Wednesday at 6pm \nAll are welcome
URL:https://rutherfordconnect.com/event/free-community-meal/2025-09-10/
LOCATION:Caroleen Baptist Church\, 205 Spencer St\, Caroleen\, NC\, 28019\, United States
CATEGORIES:Church Events & Services,Community Dinners or Potlucks,Faith & Spiritual Life,Food & Social Events,Soup Kitchens & Free Meal Events
ORGANIZER;CN="Caroleen Baptist Church":MAILTO:Caroleenbaptistchurch@gmail.com
END:VEVENT
BEGIN:VEVENT
DTSTART;TZID=America/New_York:20250906T080000
DTEND;TZID=America/New_York:20250906T130000
DTSTAMP:20260425T105835
CREATED:20250831T211739Z
LAST-MODIFIED:20250831T211739Z
UID:10012594-1757145600-1757163600@rutherfordconnect.com
SUMMARY:Huge Church Yard Sale to Benefit Church Youth Group
DESCRIPTION:Get great deals on a wide variety of household goods\, home decor\, electronics\, kitchenware\, tools\, kids’ toys\, clothing\, and more!
URL:https://rutherfordconnect.com/event/huge-church-yard-sale-to-benefit-church-youth-group/
LOCATION:Perry Moore House\, 278 N Main St\, Rutherfordton\, NC\, 28139\, United States
CATEGORIES:Church Events & Services,Faith & Spiritual Life
END:VEVENT
BEGIN:VEVENT
DTSTART;TZID=America/New_York:20250903T180000
DTEND;TZID=America/New_York:20250903T190000
DTSTAMP:20260425T105835
CREATED:20250806T154033Z
LAST-MODIFIED:20250806T154033Z
UID:10012333-1756922400-1756926000@rutherfordconnect.com
SUMMARY:Free Community Meal
DESCRIPTION:The Hill Ministries offers a free community meal every Wednesday at 6pm \nAll are welcome
URL:https://rutherfordconnect.com/event/free-community-meal/2025-09-03/
LOCATION:Caroleen Baptist Church\, 205 Spencer St\, Caroleen\, NC\, 28019\, United States
CATEGORIES:Church Events & Services,Community Dinners or Potlucks,Faith & Spiritual Life,Food & Social Events,Soup Kitchens & Free Meal Events
ORGANIZER;CN="Caroleen Baptist Church":MAILTO:Caroleenbaptistchurch@gmail.com
END:VEVENT
BEGIN:VEVENT
DTSTART;TZID=America/New_York:20250827T180000
DTEND;TZID=America/New_York:20250827T190000
DTSTAMP:20260425T105835
CREATED:20250806T154033Z
LAST-MODIFIED:20250806T154033Z
UID:10012332-1756317600-1756321200@rutherfordconnect.com
SUMMARY:Free Community Meal
DESCRIPTION:The Hill Ministries offers a free community meal every Wednesday at 6pm \nAll are welcome
URL:https://rutherfordconnect.com/event/free-community-meal/2025-08-27/
LOCATION:Caroleen Baptist Church\, 205 Spencer St\, Caroleen\, NC\, 28019\, United States
CATEGORIES:Church Events & Services,Community Dinners or Potlucks,Faith & Spiritual Life,Food & Social Events,Soup Kitchens & Free Meal Events
ORGANIZER;CN="Caroleen Baptist Church":MAILTO:Caroleenbaptistchurch@gmail.com
END:VEVENT
BEGIN:VEVENT
DTSTART;TZID=America/New_York:20250823T070000
DTEND;TZID=America/New_York:20250823T140000
DTSTAMP:20260425T105835
CREATED:20250806T151213Z
LAST-MODIFIED:20250806T151213Z
UID:10011805-1755932400-1755957600@rutherfordconnect.com
SUMMARY:Church Yard Sale & Hotdog Sale
DESCRIPTION:Yard sale starts at 7:00am \nHot dog sale starts at 10:30am \nHot dog plate $7.50 (includes 2 hot dogs\, chips\, and drink) \nHot dog $2.00 each \nAll proceeds will go toward Saving Grace Fellowship general funds
URL:https://rutherfordconnect.com/event/church-yard-sale-hotdog-sale/
LOCATION:Saving Grace Fellowship\, 940 Withrow Rd\, Spindale\, NC\, 28160\, United States
CATEGORIES:Church Events & Services,Community Dinners or Potlucks,Faith & Spiritual Life,Family Fun,Food & Social Events
ORGANIZER;CN="Saving Grace Fellowship":MAILTO:SavingGraceFellowshipNC@gmail.com
END:VEVENT
BEGIN:VEVENT
DTSTART;TZID=America/New_York:20250820T180000
DTEND;TZID=America/New_York:20250820T190000
DTSTAMP:20260425T105835
CREATED:20250806T154033Z
LAST-MODIFIED:20250806T154033Z
UID:10012331-1755712800-1755716400@rutherfordconnect.com
SUMMARY:Free Community Meal
DESCRIPTION:The Hill Ministries offers a free community meal every Wednesday at 6pm \nAll are welcome
URL:https://rutherfordconnect.com/event/free-community-meal/2025-08-20/
LOCATION:Caroleen Baptist Church\, 205 Spencer St\, Caroleen\, NC\, 28019\, United States
CATEGORIES:Church Events & Services,Community Dinners or Potlucks,Faith & Spiritual Life,Food & Social Events,Soup Kitchens & Free Meal Events
ORGANIZER;CN="Caroleen Baptist Church":MAILTO:Caroleenbaptistchurch@gmail.com
END:VEVENT
BEGIN:VEVENT
DTSTART;TZID=America/New_York:20250813T180000
DTEND;TZID=America/New_York:20250813T190000
DTSTAMP:20260425T105835
CREATED:20250806T154033Z
LAST-MODIFIED:20250806T154033Z
UID:10012330-1755108000-1755111600@rutherfordconnect.com
SUMMARY:Free Community Meal
DESCRIPTION:The Hill Ministries offers a free community meal every Wednesday at 6pm \nAll are welcome
URL:https://rutherfordconnect.com/event/free-community-meal/2025-08-13/
LOCATION:Caroleen Baptist Church\, 205 Spencer St\, Caroleen\, NC\, 28019\, United States
CATEGORIES:Church Events & Services,Community Dinners or Potlucks,Faith & Spiritual Life,Food & Social Events,Soup Kitchens & Free Meal Events
ORGANIZER;CN="Caroleen Baptist Church":MAILTO:Caroleenbaptistchurch@gmail.com
END:VEVENT
END:VCALENDAR