BEGIN:VCALENDAR
VERSION:2.0
PRODID:-//Rutherford Connect - ECPv6.15.20//NONSGML v1.0//EN
CALSCALE:GREGORIAN
METHOD:PUBLISH
X-WR-CALNAME:Rutherford Connect
X-ORIGINAL-URL:https://rutherfordconnect.com
X-WR-CALDESC:Events for Rutherford Connect
REFRESH-INTERVAL;VALUE=DURATION:PT1H
X-Robots-Tag:noindex
X-PUBLISHED-TTL:PT1H
BEGIN:VTIMEZONE
TZID:America/New_York
BEGIN:DAYLIGHT
TZOFFSETFROM:-0500
TZOFFSETTO:-0400
TZNAME:EDT
DTSTART:20250309T070000
END:DAYLIGHT
BEGIN:STANDARD
TZOFFSETFROM:-0400
TZOFFSETTO:-0500
TZNAME:EST
DTSTART:20251102T060000
END:STANDARD
BEGIN:DAYLIGHT
TZOFFSETFROM:-0500
TZOFFSETTO:-0400
TZNAME:EDT
DTSTART:20260308T070000
END:DAYLIGHT
BEGIN:STANDARD
TZOFFSETFROM:-0400
TZOFFSETTO:-0500
TZNAME:EST
DTSTART:20261101T060000
END:STANDARD
BEGIN:DAYLIGHT
TZOFFSETFROM:-0500
TZOFFSETTO:-0400
TZNAME:EDT
DTSTART:20270314T070000
END:DAYLIGHT
BEGIN:STANDARD
TZOFFSETFROM:-0400
TZOFFSETTO:-0500
TZNAME:EST
DTSTART:20271107T060000
END:STANDARD
BEGIN:DAYLIGHT
TZOFFSETFROM:-0500
TZOFFSETTO:-0400
TZNAME:EDT
DTSTART:20280312T070000
END:DAYLIGHT
BEGIN:STANDARD
TZOFFSETFROM:-0400
TZOFFSETTO:-0500
TZNAME:EST
DTSTART:20281105T060000
END:STANDARD
END:VTIMEZONE
BEGIN:VEVENT
DTSTART;TZID=America/New_York:20260909T180000
DTEND;TZID=America/New_York:20260909T190000
DTSTAMP:20260421T205000
CREATED:20250806T154033Z
LAST-MODIFIED:20250806T154033Z
UID:10012386-1788976800-1788980400@rutherfordconnect.com
SUMMARY:Free Community Meal
DESCRIPTION:The Hill Ministries offers a free community meal every Wednesday at 6pm \nAll are welcome
URL:https://rutherfordconnect.com/event/free-community-meal/2026-09-09/
LOCATION:Caroleen Baptist Church\, 205 Spencer St\, Caroleen\, NC\, 28019\, United States
CATEGORIES:Church Events & Services,Community Dinners or Potlucks,Faith & Spiritual Life,Food & Social Events,Soup Kitchens & Free Meal Events
ORGANIZER;CN="Caroleen Baptist Church":MAILTO:Caroleenbaptistchurch@gmail.com
END:VEVENT
BEGIN:VEVENT
DTSTART;TZID=America/New_York:20260916T180000
DTEND;TZID=America/New_York:20260916T190000
DTSTAMP:20260421T205000
CREATED:20250806T154033Z
LAST-MODIFIED:20250806T154033Z
UID:10012387-1789581600-1789585200@rutherfordconnect.com
SUMMARY:Free Community Meal
DESCRIPTION:The Hill Ministries offers a free community meal every Wednesday at 6pm \nAll are welcome
URL:https://rutherfordconnect.com/event/free-community-meal/2026-09-16/
LOCATION:Caroleen Baptist Church\, 205 Spencer St\, Caroleen\, NC\, 28019\, United States
CATEGORIES:Church Events & Services,Community Dinners or Potlucks,Faith & Spiritual Life,Food & Social Events,Soup Kitchens & Free Meal Events
ORGANIZER;CN="Caroleen Baptist Church":MAILTO:Caroleenbaptistchurch@gmail.com
END:VEVENT
BEGIN:VEVENT
DTSTART;TZID=America/New_York:20260923T180000
DTEND;TZID=America/New_York:20260923T190000
DTSTAMP:20260421T205000
CREATED:20250806T154033Z
LAST-MODIFIED:20250806T154033Z
UID:10012388-1790186400-1790190000@rutherfordconnect.com
SUMMARY:Free Community Meal
DESCRIPTION:The Hill Ministries offers a free community meal every Wednesday at 6pm \nAll are welcome
URL:https://rutherfordconnect.com/event/free-community-meal/2026-09-23/
LOCATION:Caroleen Baptist Church\, 205 Spencer St\, Caroleen\, NC\, 28019\, United States
CATEGORIES:Church Events & Services,Community Dinners or Potlucks,Faith & Spiritual Life,Food & Social Events,Soup Kitchens & Free Meal Events
ORGANIZER;CN="Caroleen Baptist Church":MAILTO:Caroleenbaptistchurch@gmail.com
END:VEVENT
BEGIN:VEVENT
DTSTART;TZID=America/New_York:20260930T180000
DTEND;TZID=America/New_York:20260930T190000
DTSTAMP:20260421T205000
CREATED:20250806T154033Z
LAST-MODIFIED:20250806T154033Z
UID:10012389-1790791200-1790794800@rutherfordconnect.com
SUMMARY:Free Community Meal
DESCRIPTION:The Hill Ministries offers a free community meal every Wednesday at 6pm \nAll are welcome
URL:https://rutherfordconnect.com/event/free-community-meal/2026-09-30/
LOCATION:Caroleen Baptist Church\, 205 Spencer St\, Caroleen\, NC\, 28019\, United States
CATEGORIES:Church Events & Services,Community Dinners or Potlucks,Faith & Spiritual Life,Food & Social Events,Soup Kitchens & Free Meal Events
ORGANIZER;CN="Caroleen Baptist Church":MAILTO:Caroleenbaptistchurch@gmail.com
END:VEVENT
BEGIN:VEVENT
DTSTART;TZID=America/New_York:20261007T180000
DTEND;TZID=America/New_York:20261007T190000
DTSTAMP:20260421T205000
CREATED:20250806T154033Z
LAST-MODIFIED:20250806T154033Z
UID:10012390-1791396000-1791399600@rutherfordconnect.com
SUMMARY:Free Community Meal
DESCRIPTION:The Hill Ministries offers a free community meal every Wednesday at 6pm \nAll are welcome
URL:https://rutherfordconnect.com/event/free-community-meal/2026-10-07/
LOCATION:Caroleen Baptist Church\, 205 Spencer St\, Caroleen\, NC\, 28019\, United States
CATEGORIES:Church Events & Services,Community Dinners or Potlucks,Faith & Spiritual Life,Food & Social Events,Soup Kitchens & Free Meal Events
ORGANIZER;CN="Caroleen Baptist Church":MAILTO:Caroleenbaptistchurch@gmail.com
END:VEVENT
BEGIN:VEVENT
DTSTART;TZID=America/New_York:20261014T180000
DTEND;TZID=America/New_York:20261014T190000
DTSTAMP:20260421T205000
CREATED:20250806T154033Z
LAST-MODIFIED:20250806T154033Z
UID:10012391-1792000800-1792004400@rutherfordconnect.com
SUMMARY:Free Community Meal
DESCRIPTION:The Hill Ministries offers a free community meal every Wednesday at 6pm \nAll are welcome
URL:https://rutherfordconnect.com/event/free-community-meal/2026-10-14/
LOCATION:Caroleen Baptist Church\, 205 Spencer St\, Caroleen\, NC\, 28019\, United States
CATEGORIES:Church Events & Services,Community Dinners or Potlucks,Faith & Spiritual Life,Food & Social Events,Soup Kitchens & Free Meal Events
ORGANIZER;CN="Caroleen Baptist Church":MAILTO:Caroleenbaptistchurch@gmail.com
END:VEVENT
BEGIN:VEVENT
DTSTART;TZID=America/New_York:20261021T180000
DTEND;TZID=America/New_York:20261021T190000
DTSTAMP:20260421T205000
CREATED:20250806T154033Z
LAST-MODIFIED:20250806T154033Z
UID:10012392-1792605600-1792609200@rutherfordconnect.com
SUMMARY:Free Community Meal
DESCRIPTION:The Hill Ministries offers a free community meal every Wednesday at 6pm \nAll are welcome
URL:https://rutherfordconnect.com/event/free-community-meal/2026-10-21/
LOCATION:Caroleen Baptist Church\, 205 Spencer St\, Caroleen\, NC\, 28019\, United States
CATEGORIES:Church Events & Services,Community Dinners or Potlucks,Faith & Spiritual Life,Food & Social Events,Soup Kitchens & Free Meal Events
ORGANIZER;CN="Caroleen Baptist Church":MAILTO:Caroleenbaptistchurch@gmail.com
END:VEVENT
BEGIN:VEVENT
DTSTART;TZID=America/New_York:20261028T180000
DTEND;TZID=America/New_York:20261028T190000
DTSTAMP:20260421T205000
CREATED:20250806T154033Z
LAST-MODIFIED:20250806T154033Z
UID:10012393-1793210400-1793214000@rutherfordconnect.com
SUMMARY:Free Community Meal
DESCRIPTION:The Hill Ministries offers a free community meal every Wednesday at 6pm \nAll are welcome
URL:https://rutherfordconnect.com/event/free-community-meal/2026-10-28/
LOCATION:Caroleen Baptist Church\, 205 Spencer St\, Caroleen\, NC\, 28019\, United States
CATEGORIES:Church Events & Services,Community Dinners or Potlucks,Faith & Spiritual Life,Food & Social Events,Soup Kitchens & Free Meal Events
ORGANIZER;CN="Caroleen Baptist Church":MAILTO:Caroleenbaptistchurch@gmail.com
END:VEVENT
BEGIN:VEVENT
DTSTART;TZID=America/New_York:20261104T180000
DTEND;TZID=America/New_York:20261104T190000
DTSTAMP:20260421T205000
CREATED:20250806T154033Z
LAST-MODIFIED:20250806T154033Z
UID:10012394-1793815200-1793818800@rutherfordconnect.com
SUMMARY:Free Community Meal
DESCRIPTION:The Hill Ministries offers a free community meal every Wednesday at 6pm \nAll are welcome
URL:https://rutherfordconnect.com/event/free-community-meal/2026-11-04/
LOCATION:Caroleen Baptist Church\, 205 Spencer St\, Caroleen\, NC\, 28019\, United States
CATEGORIES:Church Events & Services,Community Dinners or Potlucks,Faith & Spiritual Life,Food & Social Events,Soup Kitchens & Free Meal Events
ORGANIZER;CN="Caroleen Baptist Church":MAILTO:Caroleenbaptistchurch@gmail.com
END:VEVENT
BEGIN:VEVENT
DTSTART;TZID=America/New_York:20261111T180000
DTEND;TZID=America/New_York:20261111T190000
DTSTAMP:20260421T205000
CREATED:20250806T154033Z
LAST-MODIFIED:20250806T154033Z
UID:10012395-1794420000-1794423600@rutherfordconnect.com
SUMMARY:Free Community Meal
DESCRIPTION:The Hill Ministries offers a free community meal every Wednesday at 6pm \nAll are welcome
URL:https://rutherfordconnect.com/event/free-community-meal/2026-11-11/
LOCATION:Caroleen Baptist Church\, 205 Spencer St\, Caroleen\, NC\, 28019\, United States
CATEGORIES:Church Events & Services,Community Dinners or Potlucks,Faith & Spiritual Life,Food & Social Events,Soup Kitchens & Free Meal Events
ORGANIZER;CN="Caroleen Baptist Church":MAILTO:Caroleenbaptistchurch@gmail.com
END:VEVENT
BEGIN:VEVENT
DTSTART;TZID=America/New_York:20261118T180000
DTEND;TZID=America/New_York:20261118T190000
DTSTAMP:20260421T205000
CREATED:20250806T154033Z
LAST-MODIFIED:20250806T154033Z
UID:10012396-1795024800-1795028400@rutherfordconnect.com
SUMMARY:Free Community Meal
DESCRIPTION:The Hill Ministries offers a free community meal every Wednesday at 6pm \nAll are welcome
URL:https://rutherfordconnect.com/event/free-community-meal/2026-11-18/
LOCATION:Caroleen Baptist Church\, 205 Spencer St\, Caroleen\, NC\, 28019\, United States
CATEGORIES:Church Events & Services,Community Dinners or Potlucks,Faith & Spiritual Life,Food & Social Events,Soup Kitchens & Free Meal Events
ORGANIZER;CN="Caroleen Baptist Church":MAILTO:Caroleenbaptistchurch@gmail.com
END:VEVENT
BEGIN:VEVENT
DTSTART;TZID=America/New_York:20261125T180000
DTEND;TZID=America/New_York:20261125T190000
DTSTAMP:20260421T205000
CREATED:20250806T154033Z
LAST-MODIFIED:20250806T154033Z
UID:10012397-1795629600-1795633200@rutherfordconnect.com
SUMMARY:Free Community Meal
DESCRIPTION:The Hill Ministries offers a free community meal every Wednesday at 6pm \nAll are welcome
URL:https://rutherfordconnect.com/event/free-community-meal/2026-11-25/
LOCATION:Caroleen Baptist Church\, 205 Spencer St\, Caroleen\, NC\, 28019\, United States
CATEGORIES:Church Events & Services,Community Dinners or Potlucks,Faith & Spiritual Life,Food & Social Events,Soup Kitchens & Free Meal Events
ORGANIZER;CN="Caroleen Baptist Church":MAILTO:Caroleenbaptistchurch@gmail.com
END:VEVENT
BEGIN:VEVENT
DTSTART;TZID=America/New_York:20261202T180000
DTEND;TZID=America/New_York:20261202T190000
DTSTAMP:20260421T205000
CREATED:20250806T154033Z
LAST-MODIFIED:20250806T154033Z
UID:10012398-1796234400-1796238000@rutherfordconnect.com
SUMMARY:Free Community Meal
DESCRIPTION:The Hill Ministries offers a free community meal every Wednesday at 6pm \nAll are welcome
URL:https://rutherfordconnect.com/event/free-community-meal/2026-12-02/
LOCATION:Caroleen Baptist Church\, 205 Spencer St\, Caroleen\, NC\, 28019\, United States
CATEGORIES:Church Events & Services,Community Dinners or Potlucks,Faith & Spiritual Life,Food & Social Events,Soup Kitchens & Free Meal Events
ORGANIZER;CN="Caroleen Baptist Church":MAILTO:Caroleenbaptistchurch@gmail.com
END:VEVENT
BEGIN:VEVENT
DTSTART;TZID=America/New_York:20261209T180000
DTEND;TZID=America/New_York:20261209T190000
DTSTAMP:20260421T205000
CREATED:20250806T154033Z
LAST-MODIFIED:20250806T154033Z
UID:10012399-1796839200-1796842800@rutherfordconnect.com
SUMMARY:Free Community Meal
DESCRIPTION:The Hill Ministries offers a free community meal every Wednesday at 6pm \nAll are welcome
URL:https://rutherfordconnect.com/event/free-community-meal/2026-12-09/
LOCATION:Caroleen Baptist Church\, 205 Spencer St\, Caroleen\, NC\, 28019\, United States
CATEGORIES:Church Events & Services,Community Dinners or Potlucks,Faith & Spiritual Life,Food & Social Events,Soup Kitchens & Free Meal Events
ORGANIZER;CN="Caroleen Baptist Church":MAILTO:Caroleenbaptistchurch@gmail.com
END:VEVENT
BEGIN:VEVENT
DTSTART;TZID=America/New_York:20261216T180000
DTEND;TZID=America/New_York:20261216T190000
DTSTAMP:20260421T205000
CREATED:20250806T154033Z
LAST-MODIFIED:20250806T154033Z
UID:10012400-1797444000-1797447600@rutherfordconnect.com
SUMMARY:Free Community Meal
DESCRIPTION:The Hill Ministries offers a free community meal every Wednesday at 6pm \nAll are welcome
URL:https://rutherfordconnect.com/event/free-community-meal/2026-12-16/
LOCATION:Caroleen Baptist Church\, 205 Spencer St\, Caroleen\, NC\, 28019\, United States
CATEGORIES:Church Events & Services,Community Dinners or Potlucks,Faith & Spiritual Life,Food & Social Events,Soup Kitchens & Free Meal Events
ORGANIZER;CN="Caroleen Baptist Church":MAILTO:Caroleenbaptistchurch@gmail.com
END:VEVENT
BEGIN:VEVENT
DTSTART;TZID=America/New_York:20261223T180000
DTEND;TZID=America/New_York:20261223T190000
DTSTAMP:20260421T205000
CREATED:20250806T154033Z
LAST-MODIFIED:20250806T154033Z
UID:10012401-1798048800-1798052400@rutherfordconnect.com
SUMMARY:Free Community Meal
DESCRIPTION:The Hill Ministries offers a free community meal every Wednesday at 6pm \nAll are welcome
URL:https://rutherfordconnect.com/event/free-community-meal/2026-12-23/
LOCATION:Caroleen Baptist Church\, 205 Spencer St\, Caroleen\, NC\, 28019\, United States
CATEGORIES:Church Events & Services,Community Dinners or Potlucks,Faith & Spiritual Life,Food & Social Events,Soup Kitchens & Free Meal Events
ORGANIZER;CN="Caroleen Baptist Church":MAILTO:Caroleenbaptistchurch@gmail.com
END:VEVENT
BEGIN:VEVENT
DTSTART;TZID=America/New_York:20261230T180000
DTEND;TZID=America/New_York:20261230T190000
DTSTAMP:20260421T205000
CREATED:20250806T154033Z
LAST-MODIFIED:20250806T154033Z
UID:10012402-1798653600-1798657200@rutherfordconnect.com
SUMMARY:Free Community Meal
DESCRIPTION:The Hill Ministries offers a free community meal every Wednesday at 6pm \nAll are welcome
URL:https://rutherfordconnect.com/event/free-community-meal/2026-12-30/
LOCATION:Caroleen Baptist Church\, 205 Spencer St\, Caroleen\, NC\, 28019\, United States
CATEGORIES:Church Events & Services,Community Dinners or Potlucks,Faith & Spiritual Life,Food & Social Events,Soup Kitchens & Free Meal Events
ORGANIZER;CN="Caroleen Baptist Church":MAILTO:Caroleenbaptistchurch@gmail.com
END:VEVENT
BEGIN:VEVENT
DTSTART;TZID=America/New_York:20270106T180000
DTEND;TZID=America/New_York:20270106T190000
DTSTAMP:20260421T205000
CREATED:20250806T154033Z
LAST-MODIFIED:20250806T154033Z
UID:10012403-1799258400-1799262000@rutherfordconnect.com
SUMMARY:Free Community Meal
DESCRIPTION:The Hill Ministries offers a free community meal every Wednesday at 6pm \nAll are welcome
URL:https://rutherfordconnect.com/event/free-community-meal/2027-01-06/
LOCATION:Caroleen Baptist Church\, 205 Spencer St\, Caroleen\, NC\, 28019\, United States
CATEGORIES:Church Events & Services,Community Dinners or Potlucks,Faith & Spiritual Life,Food & Social Events,Soup Kitchens & Free Meal Events
ORGANIZER;CN="Caroleen Baptist Church":MAILTO:Caroleenbaptistchurch@gmail.com
END:VEVENT
BEGIN:VEVENT
DTSTART;TZID=America/New_York:20270113T180000
DTEND;TZID=America/New_York:20270113T190000
DTSTAMP:20260421T205000
CREATED:20250806T154033Z
LAST-MODIFIED:20250806T154033Z
UID:10012404-1799863200-1799866800@rutherfordconnect.com
SUMMARY:Free Community Meal
DESCRIPTION:The Hill Ministries offers a free community meal every Wednesday at 6pm \nAll are welcome
URL:https://rutherfordconnect.com/event/free-community-meal/2027-01-13/
LOCATION:Caroleen Baptist Church\, 205 Spencer St\, Caroleen\, NC\, 28019\, United States
CATEGORIES:Church Events & Services,Community Dinners or Potlucks,Faith & Spiritual Life,Food & Social Events,Soup Kitchens & Free Meal Events
ORGANIZER;CN="Caroleen Baptist Church":MAILTO:Caroleenbaptistchurch@gmail.com
END:VEVENT
BEGIN:VEVENT
DTSTART;TZID=America/New_York:20270120T180000
DTEND;TZID=America/New_York:20270120T190000
DTSTAMP:20260421T205000
CREATED:20250806T154033Z
LAST-MODIFIED:20250806T154033Z
UID:10012405-1800468000-1800471600@rutherfordconnect.com
SUMMARY:Free Community Meal
DESCRIPTION:The Hill Ministries offers a free community meal every Wednesday at 6pm \nAll are welcome
URL:https://rutherfordconnect.com/event/free-community-meal/2027-01-20/
LOCATION:Caroleen Baptist Church\, 205 Spencer St\, Caroleen\, NC\, 28019\, United States
CATEGORIES:Church Events & Services,Community Dinners or Potlucks,Faith & Spiritual Life,Food & Social Events,Soup Kitchens & Free Meal Events
ORGANIZER;CN="Caroleen Baptist Church":MAILTO:Caroleenbaptistchurch@gmail.com
END:VEVENT
BEGIN:VEVENT
DTSTART;TZID=America/New_York:20270127T180000
DTEND;TZID=America/New_York:20270127T190000
DTSTAMP:20260421T205000
CREATED:20250806T154033Z
LAST-MODIFIED:20250806T154033Z
UID:10012406-1801072800-1801076400@rutherfordconnect.com
SUMMARY:Free Community Meal
DESCRIPTION:The Hill Ministries offers a free community meal every Wednesday at 6pm \nAll are welcome
URL:https://rutherfordconnect.com/event/free-community-meal/2027-01-27/
LOCATION:Caroleen Baptist Church\, 205 Spencer St\, Caroleen\, NC\, 28019\, United States
CATEGORIES:Church Events & Services,Community Dinners or Potlucks,Faith & Spiritual Life,Food & Social Events,Soup Kitchens & Free Meal Events
ORGANIZER;CN="Caroleen Baptist Church":MAILTO:Caroleenbaptistchurch@gmail.com
END:VEVENT
BEGIN:VEVENT
DTSTART;TZID=America/New_York:20270203T180000
DTEND;TZID=America/New_York:20270203T190000
DTSTAMP:20260421T205000
CREATED:20250806T154033Z
LAST-MODIFIED:20250806T154033Z
UID:10012407-1801677600-1801681200@rutherfordconnect.com
SUMMARY:Free Community Meal
DESCRIPTION:The Hill Ministries offers a free community meal every Wednesday at 6pm \nAll are welcome
URL:https://rutherfordconnect.com/event/free-community-meal/2027-02-03/
LOCATION:Caroleen Baptist Church\, 205 Spencer St\, Caroleen\, NC\, 28019\, United States
CATEGORIES:Church Events & Services,Community Dinners or Potlucks,Faith & Spiritual Life,Food & Social Events,Soup Kitchens & Free Meal Events
ORGANIZER;CN="Caroleen Baptist Church":MAILTO:Caroleenbaptistchurch@gmail.com
END:VEVENT
BEGIN:VEVENT
DTSTART;TZID=America/New_York:20270210T180000
DTEND;TZID=America/New_York:20270210T190000
DTSTAMP:20260421T205000
CREATED:20250806T154033Z
LAST-MODIFIED:20250806T154033Z
UID:10012408-1802282400-1802286000@rutherfordconnect.com
SUMMARY:Free Community Meal
DESCRIPTION:The Hill Ministries offers a free community meal every Wednesday at 6pm \nAll are welcome
URL:https://rutherfordconnect.com/event/free-community-meal/2027-02-10/
LOCATION:Caroleen Baptist Church\, 205 Spencer St\, Caroleen\, NC\, 28019\, United States
CATEGORIES:Church Events & Services,Community Dinners or Potlucks,Faith & Spiritual Life,Food & Social Events,Soup Kitchens & Free Meal Events
ORGANIZER;CN="Caroleen Baptist Church":MAILTO:Caroleenbaptistchurch@gmail.com
END:VEVENT
BEGIN:VEVENT
DTSTART;TZID=America/New_York:20270217T180000
DTEND;TZID=America/New_York:20270217T190000
DTSTAMP:20260421T205000
CREATED:20250806T154033Z
LAST-MODIFIED:20250806T154033Z
UID:10012409-1802887200-1802890800@rutherfordconnect.com
SUMMARY:Free Community Meal
DESCRIPTION:The Hill Ministries offers a free community meal every Wednesday at 6pm \nAll are welcome
URL:https://rutherfordconnect.com/event/free-community-meal/2027-02-17/
LOCATION:Caroleen Baptist Church\, 205 Spencer St\, Caroleen\, NC\, 28019\, United States
CATEGORIES:Church Events & Services,Community Dinners or Potlucks,Faith & Spiritual Life,Food & Social Events,Soup Kitchens & Free Meal Events
ORGANIZER;CN="Caroleen Baptist Church":MAILTO:Caroleenbaptistchurch@gmail.com
END:VEVENT
BEGIN:VEVENT
DTSTART;TZID=America/New_York:20270224T180000
DTEND;TZID=America/New_York:20270224T190000
DTSTAMP:20260421T205000
CREATED:20250806T154033Z
LAST-MODIFIED:20250806T154033Z
UID:10012410-1803492000-1803495600@rutherfordconnect.com
SUMMARY:Free Community Meal
DESCRIPTION:The Hill Ministries offers a free community meal every Wednesday at 6pm \nAll are welcome
URL:https://rutherfordconnect.com/event/free-community-meal/2027-02-24/
LOCATION:Caroleen Baptist Church\, 205 Spencer St\, Caroleen\, NC\, 28019\, United States
CATEGORIES:Church Events & Services,Community Dinners or Potlucks,Faith & Spiritual Life,Food & Social Events,Soup Kitchens & Free Meal Events
ORGANIZER;CN="Caroleen Baptist Church":MAILTO:Caroleenbaptistchurch@gmail.com
END:VEVENT
BEGIN:VEVENT
DTSTART;TZID=America/New_York:20270303T180000
DTEND;TZID=America/New_York:20270303T190000
DTSTAMP:20260421T205000
CREATED:20250806T154033Z
LAST-MODIFIED:20250806T154033Z
UID:10012411-1804096800-1804100400@rutherfordconnect.com
SUMMARY:Free Community Meal
DESCRIPTION:The Hill Ministries offers a free community meal every Wednesday at 6pm \nAll are welcome
URL:https://rutherfordconnect.com/event/free-community-meal/2027-03-03/
LOCATION:Caroleen Baptist Church\, 205 Spencer St\, Caroleen\, NC\, 28019\, United States
CATEGORIES:Church Events & Services,Community Dinners or Potlucks,Faith & Spiritual Life,Food & Social Events,Soup Kitchens & Free Meal Events
ORGANIZER;CN="Caroleen Baptist Church":MAILTO:Caroleenbaptistchurch@gmail.com
END:VEVENT
BEGIN:VEVENT
DTSTART;TZID=America/New_York:20270310T180000
DTEND;TZID=America/New_York:20270310T190000
DTSTAMP:20260421T205000
CREATED:20250806T154033Z
LAST-MODIFIED:20250806T154033Z
UID:10012412-1804701600-1804705200@rutherfordconnect.com
SUMMARY:Free Community Meal
DESCRIPTION:The Hill Ministries offers a free community meal every Wednesday at 6pm \nAll are welcome
URL:https://rutherfordconnect.com/event/free-community-meal/2027-03-10/
LOCATION:Caroleen Baptist Church\, 205 Spencer St\, Caroleen\, NC\, 28019\, United States
CATEGORIES:Church Events & Services,Community Dinners or Potlucks,Faith & Spiritual Life,Food & Social Events,Soup Kitchens & Free Meal Events
ORGANIZER;CN="Caroleen Baptist Church":MAILTO:Caroleenbaptistchurch@gmail.com
END:VEVENT
BEGIN:VEVENT
DTSTART;TZID=America/New_York:20270317T180000
DTEND;TZID=America/New_York:20270317T190000
DTSTAMP:20260421T205000
CREATED:20250806T154033Z
LAST-MODIFIED:20250806T154033Z
UID:10012413-1805306400-1805310000@rutherfordconnect.com
SUMMARY:Free Community Meal
DESCRIPTION:The Hill Ministries offers a free community meal every Wednesday at 6pm \nAll are welcome
URL:https://rutherfordconnect.com/event/free-community-meal/2027-03-17/
LOCATION:Caroleen Baptist Church\, 205 Spencer St\, Caroleen\, NC\, 28019\, United States
CATEGORIES:Church Events & Services,Community Dinners or Potlucks,Faith & Spiritual Life,Food & Social Events,Soup Kitchens & Free Meal Events
ORGANIZER;CN="Caroleen Baptist Church":MAILTO:Caroleenbaptistchurch@gmail.com
END:VEVENT
BEGIN:VEVENT
DTSTART;TZID=America/New_York:20270324T180000
DTEND;TZID=America/New_York:20270324T190000
DTSTAMP:20260421T205000
CREATED:20250806T154033Z
LAST-MODIFIED:20250806T154033Z
UID:10012414-1805911200-1805914800@rutherfordconnect.com
SUMMARY:Free Community Meal
DESCRIPTION:The Hill Ministries offers a free community meal every Wednesday at 6pm \nAll are welcome
URL:https://rutherfordconnect.com/event/free-community-meal/2027-03-24/
LOCATION:Caroleen Baptist Church\, 205 Spencer St\, Caroleen\, NC\, 28019\, United States
CATEGORIES:Church Events & Services,Community Dinners or Potlucks,Faith & Spiritual Life,Food & Social Events,Soup Kitchens & Free Meal Events
ORGANIZER;CN="Caroleen Baptist Church":MAILTO:Caroleenbaptistchurch@gmail.com
END:VEVENT
BEGIN:VEVENT
DTSTART;TZID=America/New_York:20270331T180000
DTEND;TZID=America/New_York:20270331T190000
DTSTAMP:20260421T205000
CREATED:20250806T154033Z
LAST-MODIFIED:20250806T154033Z
UID:10012415-1806516000-1806519600@rutherfordconnect.com
SUMMARY:Free Community Meal
DESCRIPTION:The Hill Ministries offers a free community meal every Wednesday at 6pm \nAll are welcome
URL:https://rutherfordconnect.com/event/free-community-meal/2027-03-31/
LOCATION:Caroleen Baptist Church\, 205 Spencer St\, Caroleen\, NC\, 28019\, United States
CATEGORIES:Church Events & Services,Community Dinners or Potlucks,Faith & Spiritual Life,Food & Social Events,Soup Kitchens & Free Meal Events
ORGANIZER;CN="Caroleen Baptist Church":MAILTO:Caroleenbaptistchurch@gmail.com
END:VEVENT
END:VCALENDAR