BEGIN:VCALENDAR
VERSION:2.0
PRODID:-//Rutherford Connect - ECPv6.15.20//NONSGML v1.0//EN
CALSCALE:GREGORIAN
METHOD:PUBLISH
X-WR-CALNAME:Rutherford Connect
X-ORIGINAL-URL:https://rutherfordconnect.com
X-WR-CALDESC:Events for Rutherford Connect
REFRESH-INTERVAL;VALUE=DURATION:PT1H
X-Robots-Tag:noindex
X-PUBLISHED-TTL:PT1H
BEGIN:VTIMEZONE
TZID:America/New_York
BEGIN:DAYLIGHT
TZOFFSETFROM:-0500
TZOFFSETTO:-0400
TZNAME:EDT
DTSTART:20250309T070000
END:DAYLIGHT
BEGIN:STANDARD
TZOFFSETFROM:-0400
TZOFFSETTO:-0500
TZNAME:EST
DTSTART:20251102T060000
END:STANDARD
BEGIN:DAYLIGHT
TZOFFSETFROM:-0500
TZOFFSETTO:-0400
TZNAME:EDT
DTSTART:20260308T070000
END:DAYLIGHT
BEGIN:STANDARD
TZOFFSETFROM:-0400
TZOFFSETTO:-0500
TZNAME:EST
DTSTART:20261101T060000
END:STANDARD
BEGIN:DAYLIGHT
TZOFFSETFROM:-0500
TZOFFSETTO:-0400
TZNAME:EDT
DTSTART:20270314T070000
END:DAYLIGHT
BEGIN:STANDARD
TZOFFSETFROM:-0400
TZOFFSETTO:-0500
TZNAME:EST
DTSTART:20271107T060000
END:STANDARD
END:VTIMEZONE
BEGIN:VEVENT
DTSTART;TZID=America/New_York:20260504T100000
DTEND;TZID=America/New_York:20260504T120000
DTSTAMP:20260424T155600
CREATED:20250806T152717Z
LAST-MODIFIED:20250806T152717Z
UID:10012105-1777888800-1777896000@rutherfordconnect.com
SUMMARY:Hope. Help. Healing
DESCRIPTION:Struggling with addiction to opioids?\nRecovery starts here. \nFree medication assisted treatment for uninsured Rutherford County residents \nCall ICGH for more information about MAT and other addiction treatment services:\n828.322.5915
URL:https://rutherfordconnect.com/event/hope-help-healing/2026-05-04/
LOCATION:Harvest House Baptist Church\, 2938 Harris Henrietta Rd.\, Mooresboro\, NC\, 28114\, United States
CATEGORIES:Faith-Based Support Groups,Health & Wellness,Mental Health & Recovery Support Events,Substance Use Recovery Meetings
ORGANIZER;CN="Harvest House Baptist Church":MAILTO:hhnmerciescenter@gmail.com
END:VEVENT
BEGIN:VEVENT
DTSTART;TZID=America/New_York:20260504T100000
DTEND;TZID=America/New_York:20260504T140000
DTSTAMP:20260424T155600
CREATED:20251125T135433Z
LAST-MODIFIED:20251125T135433Z
UID:10015366-1777888800-1777903200@rutherfordconnect.com
SUMMARY:Showers of Blessing
DESCRIPTION:First Baptist Church Spindale \n871 Thunder Rd\, Spindale NC \nOffers a shower and a snack on Mondays from 10am to 2pm. \nSoap\, towel\, and wash cloth supplied
URL:https://rutherfordconnect.com/event/showers-of-blessing/2026-05-04/
LOCATION:First Baptist Church Spindale\, 871 Thunder Rd\, Spindale\, NC\, 28160\, United States
CATEGORIES:Community Support Event,Faith & Spiritual Life,Faith-Based Support Groups,Health & Wellness
END:VEVENT
BEGIN:VEVENT
DTSTART;TZID=America/New_York:20260504T170000
DTEND;TZID=America/New_York:20260504T183000
DTSTAMP:20260424T155600
CREATED:20260105T183624Z
LAST-MODIFIED:20260105T183624Z
UID:10015625-1777914000-1777919400@rutherfordconnect.com
SUMMARY:Welcome Table Community Meal
DESCRIPTION:Come enjoy a free hot meal served by local Rutherfordton Churches and Ruff’ton Roots.  All all welcome!  Meals served 5-6:30 pm each Monday following the county school calendar.
URL:https://rutherfordconnect.com/event/welcome-table-community-meal/2026-05-04/2/
LOCATION:First United Methodist Church of Rutherfordton\, 264 N Main St\, Rutherfordton\, 28139
CATEGORIES:Faith-Based Support Groups,Soup Kitchens & Free Meal Events
END:VEVENT
BEGIN:VEVENT
DTSTART;TZID=America/New_York:20260504T180000
DTEND;TZID=America/New_York:20260504T193000
DTSTAMP:20260424T155600
CREATED:20251029T171018Z
LAST-MODIFIED:20251029T171018Z
UID:10015096-1777917600-1777923000@rutherfordconnect.com
SUMMARY:P.A.L.s (Parents of Addicted Loved Ones)
DESCRIPTION:Support group for parents of loved ones struggling with addiction.
URL:https://rutherfordconnect.com/event/p-a-l-s-parents-of-addicted-loved-ones/2026-05-04/
LOCATION:Adaville Baptist Church\, 805 Oakland Rd\, Spindale\, NC\, 28160\, United States
CATEGORIES:Faith-Based Support Groups
END:VEVENT
BEGIN:VEVENT
DTSTART;TZID=America/New_York:20260504T190000
DTEND;TZID=America/New_York:20260504T200000
DTSTAMP:20260424T155600
CREATED:20250725T160928Z
LAST-MODIFIED:20250725T161322Z
UID:10008971-1777921200-1777924800@rutherfordconnect.com
SUMMARY:Sobriety & Beyond Group (AA meeting)
DESCRIPTION:Alcoholics Anonymous meeting \nDiscussion\nIn-person\nLiterature\nOpen\nWheelchair Access
URL:https://rutherfordconnect.com/event/sobriety-beyond-group-aa-meeting/2026-05-04/
LOCATION:First Presbyterian Church\, 438 W Main St\, Forest City\, NC\, 28043\, United States
CATEGORIES:Faith-Based Support Groups,Mental Health & Recovery Support Events,Substance Use Recovery Meetings
END:VEVENT
BEGIN:VEVENT
DTSTART;TZID=America/New_York:20260504T200000
DTEND;TZID=America/New_York:20260504T210000
DTSTAMP:20260424T155600
CREATED:20250803T185703Z
LAST-MODIFIED:20250803T185703Z
UID:10011061-1777924800-1777928400@rutherfordconnect.com
SUMMARY:Never too Late Group (NA meeting)
DESCRIPTION:This meeting is open to addicts and non-addicts alike. All are welcome.\n    Approved N.A. Books
URL:https://rutherfordconnect.com/event/never-too-late-group-na-meeting-2/2026-05-04/
LOCATION:Wells Spring United Methodist Church\, 201 Wells Spring Rd\, Forest City\, NC\, 28043\, United States
CATEGORIES:Faith-Based Support Groups,Mental Health & Recovery Support Events,Substance Use Recovery Meetings
END:VEVENT
BEGIN:VEVENT
DTSTART;TZID=America/New_York:20260505T180000
DTEND;TZID=America/New_York:20260505T190000
DTSTAMP:20260424T155600
CREATED:20250725T160239Z
LAST-MODIFIED:20250725T161051Z
UID:10009272-1778004000-1778007600@rutherfordconnect.com
SUMMARY:Promises Group (AA meeting)
DESCRIPTION:Alcoholics Anonymous meeting \nBig Book\nIn-person\nOpen
URL:https://rutherfordconnect.com/event/promises-group-aa-meeting/2026-05-05/
LOCATION:Rutherfordton Presbyterian Church\, 252 N Washington St\, Rutherfordton\, NC\, 28139\, United States
CATEGORIES:Faith-Based Support Groups,Mental Health & Recovery Support Events,Substance Use Recovery Meetings
END:VEVENT
BEGIN:VEVENT
DTSTART;TZID=America/New_York:20260505T200000
DTEND;TZID=America/New_York:20260505T210000
DTSTAMP:20260424T155600
CREATED:20250803T185538Z
LAST-MODIFIED:20250803T185538Z
UID:10010800-1778011200-1778014800@rutherfordconnect.com
SUMMARY:Never too Late Group (NA meeting)
DESCRIPTION:This meeting is open to addicts and non-addicts alike. All are welcome.\nThis meeting is focused on discussion of the Basic Text of Narcotics Anonymous.\nThis meeting invites participation by all attendees.
URL:https://rutherfordconnect.com/event/never-too-late-group-na-meeting/2026-05-05/
LOCATION:Wells Spring United Methodist Church\, 201 Wells Spring Rd\, Forest City\, NC\, 28043\, United States
CATEGORIES:Faith-Based Support Groups,Mental Health & Recovery Support Events,Substance Use Recovery Meetings
END:VEVENT
BEGIN:VEVENT
DTSTART;TZID=America/New_York:20260506T180000
DTEND;TZID=America/New_York:20260506T190000
DTSTAMP:20260424T155600
CREATED:20250725T160239Z
LAST-MODIFIED:20250725T161051Z
UID:10009273-1778090400-1778094000@rutherfordconnect.com
SUMMARY:Promises Group (AA meeting)
DESCRIPTION:Alcoholics Anonymous meeting \nBig Book\nIn-person\nOpen
URL:https://rutherfordconnect.com/event/promises-group-aa-meeting/2026-05-06/
LOCATION:Rutherfordton Presbyterian Church\, 252 N Washington St\, Rutherfordton\, NC\, 28139\, United States
CATEGORIES:Faith-Based Support Groups,Mental Health & Recovery Support Events,Substance Use Recovery Meetings
END:VEVENT
BEGIN:VEVENT
DTSTART;TZID=America/New_York:20260506T180000
DTEND;TZID=America/New_York:20260506T190000
DTSTAMP:20260424T155600
CREATED:20250806T154033Z
LAST-MODIFIED:20250806T154033Z
UID:10012368-1778090400-1778094000@rutherfordconnect.com
SUMMARY:Free Community Meal
DESCRIPTION:The Hill Ministries offers a free community meal every Wednesday at 6pm \nAll are welcome
URL:https://rutherfordconnect.com/event/free-community-meal/2026-05-06/
LOCATION:Caroleen Baptist Church\, 205 Spencer St\, Caroleen\, NC\, 28019\, United States
CATEGORIES:Church Events & Services,Community Dinners or Potlucks,Faith & Spiritual Life,Food & Social Events,Soup Kitchens & Free Meal Events
ORGANIZER;CN="Caroleen Baptist Church":MAILTO:Caroleenbaptistchurch@gmail.com
END:VEVENT
BEGIN:VEVENT
DTSTART;TZID=America/New_York:20260506T200000
DTEND;TZID=America/New_York:20260506T210000
DTSTAMP:20260424T155600
CREATED:20250725T155659Z
LAST-MODIFIED:20250725T161128Z
UID:10009754-1778097600-1778101200@rutherfordconnect.com
SUMMARY:Out of the Ashes Group (AA meeting)
DESCRIPTION:Alcoholics Anonymous meeting \nDiscussion\nIn-person\nNewcomer\nOpen
URL:https://rutherfordconnect.com/event/out-of-the-ashes-group-aa-meeting/2026-05-06/
LOCATION:Out of the Ashes\, 131 Countryside Dr\, Forest City\, NC\, 28043\, United States
CATEGORIES:Faith-Based Support Groups,Mental Health & Recovery Support Events,Substance Use Recovery Meetings
END:VEVENT
BEGIN:VEVENT
DTSTART;TZID=America/New_York:20260506T200000
DTEND;TZID=America/New_York:20260506T210000
DTSTAMP:20260424T155600
CREATED:20250803T185832Z
LAST-MODIFIED:20250803T185832Z
UID:10011322-1778097600-1778101200@rutherfordconnect.com
SUMMARY:Never too Late Group (NA meeting)
DESCRIPTION:This meeting is open to addicts and non-addicts alike. All are welcome.\n    This meeting invites participation by all attendees.
URL:https://rutherfordconnect.com/event/never-too-late-group-na-meeting-3/2026-05-06/
LOCATION:First Presbyterian Church\, 438 W Main St\, Forest City\, NC\, 28043\, United States
CATEGORIES:Faith-Based Support Groups,Mental Health & Recovery Support Events,Substance Use Recovery Meetings
END:VEVENT
BEGIN:VEVENT
DTSTART;TZID=America/New_York:20260507T190000
DTEND;TZID=America/New_York:20260507T200000
DTSTAMP:20260424T155600
CREATED:20250725T160928Z
LAST-MODIFIED:20250725T161322Z
UID:10010536-1778180400-1778184000@rutherfordconnect.com
SUMMARY:Sobriety & Beyond Group (AA meeting)
DESCRIPTION:Alcoholics Anonymous meeting \nDiscussion\nIn-person\nLiterature\nOpen\nWheelchair Access
URL:https://rutherfordconnect.com/event/sobriety-beyond-group-aa-meeting/2026-05-07/
LOCATION:First Presbyterian Church\, 438 W Main St\, Forest City\, NC\, 28043\, United States
CATEGORIES:Faith-Based Support Groups,Mental Health & Recovery Support Events,Substance Use Recovery Meetings
END:VEVENT
BEGIN:VEVENT
DTSTART;TZID=America/New_York:20260507T193000
DTEND;TZID=America/New_York:20260507T203000
DTSTAMP:20260424T155600
CREATED:20250725T160804Z
LAST-MODIFIED:20250725T161214Z
UID:10010055-1778182200-1778185800@rutherfordconnect.com
SUMMARY:Live & Let Live Group (AA meeting)
DESCRIPTION:Alcoholics Anonymous meeting \nDiscussion\nIn-person
URL:https://rutherfordconnect.com/event/live-let-live-group-aa-meeting/2026-05-07/
LOCATION:Immaculate Conception Catholic Church\, 1024 W Main St\, Forest City\, NC\, 28043\, United States
CATEGORIES:Faith-Based Support Groups,Mental Health & Recovery Support Events,Substance Use Recovery Meetings
END:VEVENT
BEGIN:VEVENT
DTSTART;TZID=America/New_York:20260507T200000
DTEND;TZID=America/New_York:20260507T210000
DTSTAMP:20260424T155600
CREATED:20250803T190135Z
LAST-MODIFIED:20250803T190135Z
UID:10011583-1778184000-1778187600@rutherfordconnect.com
SUMMARY:Never too Late Group (NA meeting)
DESCRIPTION:This meeting is open to addicts and non-addicts alike. All are welcome.\n    This meeting invites participation by all attendees.
URL:https://rutherfordconnect.com/event/never-too-late-group-na-meeting-4/2026-05-07/
LOCATION:Bethel Baptist Church\, 479 Main St\, Ellenboro\, NC\, 28040\, United States
CATEGORIES:Faith-Based Support Groups,Mental Health & Recovery Support Events,Substance Use Recovery Meetings
END:VEVENT
BEGIN:VEVENT
DTSTART;TZID=America/New_York:20260508T120000
DTEND;TZID=America/New_York:20260508T130000
DTSTAMP:20260424T155600
CREATED:20250725T154851Z
LAST-MODIFIED:20250725T160321Z
UID:10007666-1778241600-1778245200@rutherfordconnect.com
SUMMARY:Mid-Day Miracles (AA meeting)
DESCRIPTION:Alcoholics Anonymous meeting. \nDiscussion\nIn-person\nLiterature
URL:https://rutherfordconnect.com/event/mid-day-miracles/2026-05-08/
LOCATION:Rutherfordton Presbyterian Church\, 252 N Washington St\, Rutherfordton\, NC\, 28139\, United States
CATEGORIES:Faith-Based Support Groups,Mental Health & Recovery Support Events,Substance Use Recovery Meetings
END:VEVENT
BEGIN:VEVENT
DTSTART;TZID=America/New_York:20260508T190000
DTEND;TZID=America/New_York:20260508T200000
DTSTAMP:20260424T155600
CREATED:20250725T155321Z
LAST-MODIFIED:20250725T160358Z
UID:10007927-1778266800-1778270400@rutherfordconnect.com
SUMMARY:Forest City Group (AA meeting)
DESCRIPTION:Alcoholics Anonymous meeting \nBig Book\nClosed\nIn-person
URL:https://rutherfordconnect.com/event/forest-city-group-aa-meeting/2026-05-08/
LOCATION:First Presbyterian Church\, 438 W Main St\, Forest City\, NC\, 28043\, United States
CATEGORIES:Faith-Based Support Groups,Mental Health & Recovery Support Events,Substance Use Recovery Meetings
END:VEVENT
BEGIN:VEVENT
DTSTART;TZID=America/New_York:20260508T200000
DTEND;TZID=America/New_York:20260508T210000
DTSTAMP:20260424T155600
CREATED:20250725T155659Z
LAST-MODIFIED:20250725T161128Z
UID:10008188-1778270400-1778274000@rutherfordconnect.com
SUMMARY:Out of the Ashes Group (AA meeting)
DESCRIPTION:Alcoholics Anonymous meeting \nDiscussion\nIn-person\nNewcomer\nOpen
URL:https://rutherfordconnect.com/event/out-of-the-ashes-group-aa-meeting/2026-05-08/
LOCATION:Out of the Ashes\, 131 Countryside Dr\, Forest City\, NC\, 28043\, United States
CATEGORIES:Faith-Based Support Groups,Mental Health & Recovery Support Events,Substance Use Recovery Meetings
END:VEVENT
BEGIN:VEVENT
DTSTART;TZID=America/New_York:20260509T120000
DTEND;TZID=America/New_York:20260509T130000
DTSTAMP:20260424T155600
CREATED:20250725T160053Z
LAST-MODIFIED:20250725T160500Z
UID:10008449-1778328000-1778331600@rutherfordconnect.com
SUMMARY:ODAT Group (AA meeting)
DESCRIPTION:Alcoholics Anonymous meeting \nDiscussion\nIn-person\nOpen
URL:https://rutherfordconnect.com/event/odat-group-aa-meeting/2026-05-09/
LOCATION:Perry Moore House\, 278 N Main St\, Rutherfordton\, NC\, 28139\, United States
CATEGORIES:Faith-Based Support Groups,Mental Health & Recovery Support Events,Substance Use Recovery Meetings
END:VEVENT
BEGIN:VEVENT
DTSTART;TZID=America/New_York:20260510T180000
DTEND;TZID=America/New_York:20260510T190000
DTSTAMP:20260424T155600
CREATED:20250725T160239Z
LAST-MODIFIED:20250725T161051Z
UID:10008710-1778436000-1778439600@rutherfordconnect.com
SUMMARY:Promises Group (AA meeting)
DESCRIPTION:Alcoholics Anonymous meeting \nBig Book\nIn-person\nOpen
URL:https://rutherfordconnect.com/event/promises-group-aa-meeting/2026-05-10/
LOCATION:Rutherfordton Presbyterian Church\, 252 N Washington St\, Rutherfordton\, NC\, 28139\, United States
CATEGORIES:Faith-Based Support Groups,Mental Health & Recovery Support Events,Substance Use Recovery Meetings
END:VEVENT
BEGIN:VEVENT
DTSTART;TZID=America/New_York:20260510T193000
DTEND;TZID=America/New_York:20260510T203000
DTSTAMP:20260424T155600
CREATED:20250725T160804Z
LAST-MODIFIED:20250725T161214Z
UID:10010056-1778441400-1778445000@rutherfordconnect.com
SUMMARY:Live & Let Live Group (AA meeting)
DESCRIPTION:Alcoholics Anonymous meeting \nDiscussion\nIn-person
URL:https://rutherfordconnect.com/event/live-let-live-group-aa-meeting/2026-05-10/
LOCATION:Immaculate Conception Catholic Church\, 1024 W Main St\, Forest City\, NC\, 28043\, United States
CATEGORIES:Faith-Based Support Groups,Mental Health & Recovery Support Events,Substance Use Recovery Meetings
END:VEVENT
BEGIN:VEVENT
DTSTART;TZID=America/New_York:20260511T080000
DTEND;TZID=America/New_York:20260511T170000
DTSTAMP:20260424T155600
CREATED:20260105T183624Z
LAST-MODIFIED:20260105T183624Z
UID:10015678-1778486400-1778518800@rutherfordconnect.com
SUMMARY:Welcome Table Community Meal
DESCRIPTION:Come enjoy a free hot meal served by local Rutherfordton Churches and Ruff’ton Roots.  All all welcome!  Meals served 5-6:30 pm each Monday following the county school calendar.
URL:https://rutherfordconnect.com/event/welcome-table-community-meal/2026-05-11/1/
LOCATION:First United Methodist Church of Rutherfordton\, 264 N Main St\, Rutherfordton\, 28139
CATEGORIES:Faith-Based Support Groups,Soup Kitchens & Free Meal Events
END:VEVENT
BEGIN:VEVENT
DTSTART;TZID=America/New_York:20260511T100000
DTEND;TZID=America/New_York:20260511T120000
DTSTAMP:20260424T155600
CREATED:20250806T152717Z
LAST-MODIFIED:20250806T152717Z
UID:10012106-1778493600-1778500800@rutherfordconnect.com
SUMMARY:Hope. Help. Healing
DESCRIPTION:Struggling with addiction to opioids?\nRecovery starts here. \nFree medication assisted treatment for uninsured Rutherford County residents \nCall ICGH for more information about MAT and other addiction treatment services:\n828.322.5915
URL:https://rutherfordconnect.com/event/hope-help-healing/2026-05-11/
LOCATION:Harvest House Baptist Church\, 2938 Harris Henrietta Rd.\, Mooresboro\, NC\, 28114\, United States
CATEGORIES:Faith-Based Support Groups,Health & Wellness,Mental Health & Recovery Support Events,Substance Use Recovery Meetings
ORGANIZER;CN="Harvest House Baptist Church":MAILTO:hhnmerciescenter@gmail.com
END:VEVENT
BEGIN:VEVENT
DTSTART;TZID=America/New_York:20260511T100000
DTEND;TZID=America/New_York:20260511T140000
DTSTAMP:20260424T155600
CREATED:20251125T135433Z
LAST-MODIFIED:20251125T135433Z
UID:10015367-1778493600-1778508000@rutherfordconnect.com
SUMMARY:Showers of Blessing
DESCRIPTION:First Baptist Church Spindale \n871 Thunder Rd\, Spindale NC \nOffers a shower and a snack on Mondays from 10am to 2pm. \nSoap\, towel\, and wash cloth supplied
URL:https://rutherfordconnect.com/event/showers-of-blessing/2026-05-11/
LOCATION:First Baptist Church Spindale\, 871 Thunder Rd\, Spindale\, NC\, 28160\, United States
CATEGORIES:Community Support Event,Faith & Spiritual Life,Faith-Based Support Groups,Health & Wellness
END:VEVENT
BEGIN:VEVENT
DTSTART;TZID=America/New_York:20260511T170000
DTEND;TZID=America/New_York:20260511T183000
DTSTAMP:20260424T155600
CREATED:20260105T183624Z
LAST-MODIFIED:20260105T183624Z
UID:10015626-1778518800-1778524200@rutherfordconnect.com
SUMMARY:Welcome Table Community Meal
DESCRIPTION:Come enjoy a free hot meal served by local Rutherfordton Churches and Ruff’ton Roots.  All all welcome!  Meals served 5-6:30 pm each Monday following the county school calendar.
URL:https://rutherfordconnect.com/event/welcome-table-community-meal/2026-05-11/2/
LOCATION:First United Methodist Church of Rutherfordton\, 264 N Main St\, Rutherfordton\, 28139
CATEGORIES:Faith-Based Support Groups,Soup Kitchens & Free Meal Events
END:VEVENT
BEGIN:VEVENT
DTSTART;TZID=America/New_York:20260511T180000
DTEND;TZID=America/New_York:20260511T193000
DTSTAMP:20260424T155600
CREATED:20251029T171018Z
LAST-MODIFIED:20251029T171018Z
UID:10015097-1778522400-1778527800@rutherfordconnect.com
SUMMARY:P.A.L.s (Parents of Addicted Loved Ones)
DESCRIPTION:Support group for parents of loved ones struggling with addiction.
URL:https://rutherfordconnect.com/event/p-a-l-s-parents-of-addicted-loved-ones/2026-05-11/
LOCATION:Adaville Baptist Church\, 805 Oakland Rd\, Spindale\, NC\, 28160\, United States
CATEGORIES:Faith-Based Support Groups
END:VEVENT
BEGIN:VEVENT
DTSTART;TZID=America/New_York:20260511T190000
DTEND;TZID=America/New_York:20260511T200000
DTSTAMP:20260424T155600
CREATED:20250725T160928Z
LAST-MODIFIED:20250725T161322Z
UID:10008972-1778526000-1778529600@rutherfordconnect.com
SUMMARY:Sobriety & Beyond Group (AA meeting)
DESCRIPTION:Alcoholics Anonymous meeting \nDiscussion\nIn-person\nLiterature\nOpen\nWheelchair Access
URL:https://rutherfordconnect.com/event/sobriety-beyond-group-aa-meeting/2026-05-11/
LOCATION:First Presbyterian Church\, 438 W Main St\, Forest City\, NC\, 28043\, United States
CATEGORIES:Faith-Based Support Groups,Mental Health & Recovery Support Events,Substance Use Recovery Meetings
END:VEVENT
BEGIN:VEVENT
DTSTART;TZID=America/New_York:20260511T200000
DTEND;TZID=America/New_York:20260511T210000
DTSTAMP:20260424T155600
CREATED:20250803T185703Z
LAST-MODIFIED:20250803T185703Z
UID:10011062-1778529600-1778533200@rutherfordconnect.com
SUMMARY:Never too Late Group (NA meeting)
DESCRIPTION:This meeting is open to addicts and non-addicts alike. All are welcome.\n    Approved N.A. Books
URL:https://rutherfordconnect.com/event/never-too-late-group-na-meeting-2/2026-05-11/
LOCATION:Wells Spring United Methodist Church\, 201 Wells Spring Rd\, Forest City\, NC\, 28043\, United States
CATEGORIES:Faith-Based Support Groups,Mental Health & Recovery Support Events,Substance Use Recovery Meetings
END:VEVENT
BEGIN:VEVENT
DTSTART;TZID=America/New_York:20260512T180000
DTEND;TZID=America/New_York:20260512T190000
DTSTAMP:20260424T155600
CREATED:20250725T160239Z
LAST-MODIFIED:20250725T161051Z
UID:10009274-1778608800-1778612400@rutherfordconnect.com
SUMMARY:Promises Group (AA meeting)
DESCRIPTION:Alcoholics Anonymous meeting \nBig Book\nIn-person\nOpen
URL:https://rutherfordconnect.com/event/promises-group-aa-meeting/2026-05-12/
LOCATION:Rutherfordton Presbyterian Church\, 252 N Washington St\, Rutherfordton\, NC\, 28139\, United States
CATEGORIES:Faith-Based Support Groups,Mental Health & Recovery Support Events,Substance Use Recovery Meetings
END:VEVENT
BEGIN:VEVENT
DTSTART;TZID=America/New_York:20260512T200000
DTEND;TZID=America/New_York:20260512T210000
DTSTAMP:20260424T155600
CREATED:20250803T185538Z
LAST-MODIFIED:20250803T185538Z
UID:10010801-1778616000-1778619600@rutherfordconnect.com
SUMMARY:Never too Late Group (NA meeting)
DESCRIPTION:This meeting is open to addicts and non-addicts alike. All are welcome.\nThis meeting is focused on discussion of the Basic Text of Narcotics Anonymous.\nThis meeting invites participation by all attendees.
URL:https://rutherfordconnect.com/event/never-too-late-group-na-meeting/2026-05-12/
LOCATION:Wells Spring United Methodist Church\, 201 Wells Spring Rd\, Forest City\, NC\, 28043\, United States
CATEGORIES:Faith-Based Support Groups,Mental Health & Recovery Support Events,Substance Use Recovery Meetings
END:VEVENT
END:VCALENDAR