BEGIN:VCALENDAR
VERSION:2.0
PRODID:-//Rutherford Connect - ECPv6.15.20//NONSGML v1.0//EN
CALSCALE:GREGORIAN
METHOD:PUBLISH
X-ORIGINAL-URL:https://rutherfordconnect.com
X-WR-CALDESC:Events for Rutherford Connect
REFRESH-INTERVAL;VALUE=DURATION:PT1H
X-Robots-Tag:noindex
X-PUBLISHED-TTL:PT1H
BEGIN:VTIMEZONE
TZID:America/New_York
BEGIN:DAYLIGHT
TZOFFSETFROM:-0500
TZOFFSETTO:-0400
TZNAME:EDT
DTSTART:20250309T070000
END:DAYLIGHT
BEGIN:STANDARD
TZOFFSETFROM:-0400
TZOFFSETTO:-0500
TZNAME:EST
DTSTART:20251102T060000
END:STANDARD
BEGIN:DAYLIGHT
TZOFFSETFROM:-0500
TZOFFSETTO:-0400
TZNAME:EDT
DTSTART:20260308T070000
END:DAYLIGHT
BEGIN:STANDARD
TZOFFSETFROM:-0400
TZOFFSETTO:-0500
TZNAME:EST
DTSTART:20261101T060000
END:STANDARD
BEGIN:DAYLIGHT
TZOFFSETFROM:-0500
TZOFFSETTO:-0400
TZNAME:EDT
DTSTART:20270314T070000
END:DAYLIGHT
BEGIN:STANDARD
TZOFFSETFROM:-0400
TZOFFSETTO:-0500
TZNAME:EST
DTSTART:20271107T060000
END:STANDARD
END:VTIMEZONE
BEGIN:VEVENT
DTSTART;TZID=America/New_York:20260301T180000
DTEND;TZID=America/New_York:20260301T190000
DTSTAMP:20260424T084742
CREATED:20250725T160239Z
LAST-MODIFIED:20250725T161051Z
UID:10008700-1772388000-1772391600@rutherfordconnect.com
SUMMARY:Promises Group (AA meeting)
DESCRIPTION:Alcoholics Anonymous meeting \nBig Book\nIn-person\nOpen
URL:https://rutherfordconnect.com/event/promises-group-aa-meeting/2026-03-01/
LOCATION:Rutherfordton Presbyterian Church\, 252 N Washington St\, Rutherfordton\, NC\, 28139\, United States
CATEGORIES:Faith-Based Support Groups,Mental Health & Recovery Support Events,Substance Use Recovery Meetings
END:VEVENT
BEGIN:VEVENT
DTSTART;TZID=America/New_York:20260301T193000
DTEND;TZID=America/New_York:20260301T203000
DTSTAMP:20260424T084742
CREATED:20250725T160804Z
LAST-MODIFIED:20250725T161214Z
UID:10010036-1772393400-1772397000@rutherfordconnect.com
SUMMARY:Live & Let Live Group (AA meeting)
DESCRIPTION:Alcoholics Anonymous meeting \nDiscussion\nIn-person
URL:https://rutherfordconnect.com/event/live-let-live-group-aa-meeting/2026-03-01/
LOCATION:Immaculate Conception Catholic Church\, 1024 W Main St\, Forest City\, NC\, 28043\, United States
CATEGORIES:Faith-Based Support Groups,Mental Health & Recovery Support Events,Substance Use Recovery Meetings
END:VEVENT
BEGIN:VEVENT
DTSTART;TZID=America/New_York:20260302T100000
DTEND;TZID=America/New_York:20260302T120000
DTSTAMP:20260424T084742
CREATED:20250806T152717Z
LAST-MODIFIED:20250806T152717Z
UID:10012096-1772445600-1772452800@rutherfordconnect.com
SUMMARY:Hope. Help. Healing
DESCRIPTION:Struggling with addiction to opioids?\nRecovery starts here. \nFree medication assisted treatment for uninsured Rutherford County residents \nCall ICGH for more information about MAT and other addiction treatment services:\n828.322.5915
URL:https://rutherfordconnect.com/event/hope-help-healing/2026-03-02/
LOCATION:Harvest House Baptist Church\, 2938 Harris Henrietta Rd.\, Mooresboro\, NC\, 28114\, United States
CATEGORIES:Faith-Based Support Groups,Health & Wellness,Mental Health & Recovery Support Events,Substance Use Recovery Meetings
ORGANIZER;CN="Harvest House Baptist Church":MAILTO:hhnmerciescenter@gmail.com
END:VEVENT
BEGIN:VEVENT
DTSTART;TZID=America/New_York:20260302T100000
DTEND;TZID=America/New_York:20260302T140000
DTSTAMP:20260424T084742
CREATED:20251125T135433Z
LAST-MODIFIED:20251125T135433Z
UID:10015357-1772445600-1772460000@rutherfordconnect.com
SUMMARY:Showers of Blessing
DESCRIPTION:First Baptist Church Spindale \n871 Thunder Rd\, Spindale NC \nOffers a shower and a snack on Mondays from 10am to 2pm. \nSoap\, towel\, and wash cloth supplied
URL:https://rutherfordconnect.com/event/showers-of-blessing/2026-03-02/
LOCATION:First Baptist Church Spindale\, 871 Thunder Rd\, Spindale\, NC\, 28160\, United States
CATEGORIES:Community Support Event,Faith & Spiritual Life,Faith-Based Support Groups,Health & Wellness
END:VEVENT
BEGIN:VEVENT
DTSTART;TZID=America/New_York:20260302T110000
DTEND;TZID=America/New_York:20260302T130000
DTSTAMP:20260424T084742
CREATED:20251003T172159Z
LAST-MODIFIED:20251003T172159Z
UID:10012818-1772449200-1772456400@rutherfordconnect.com
SUMMARY:Acceptance\, Resilience\, and Togetherness (A.R.T)
DESCRIPTION:Where we can use creative expression & shared experiences to foster healing\, connection\, & personal growth. \nMondays from 11am to 1pm \n648 Withrow Rd\, Forest City\, NC 28043
URL:https://rutherfordconnect.com/event/acceptance-resilience-and-togetherness-a-r-t/2026-03-02/
LOCATION:United Way of Rutherford County\, 668 Withrow Rd\, Forest City\, NC\, 28043\, United States
CATEGORIES:Mental Health & Recovery Support Events
ORGANIZER;CN="United Way of Rutherford County":MAILTO:bdblack59@uwrcinc.org
END:VEVENT
BEGIN:VEVENT
DTSTART;TZID=America/New_York:20260302T190000
DTEND;TZID=America/New_York:20260302T200000
DTSTAMP:20260424T084742
CREATED:20250725T160928Z
LAST-MODIFIED:20250725T161322Z
UID:10008962-1772478000-1772481600@rutherfordconnect.com
SUMMARY:Sobriety & Beyond Group (AA meeting)
DESCRIPTION:Alcoholics Anonymous meeting \nDiscussion\nIn-person\nLiterature\nOpen\nWheelchair Access
URL:https://rutherfordconnect.com/event/sobriety-beyond-group-aa-meeting/2026-03-02/
LOCATION:First Presbyterian Church\, 438 W Main St\, Forest City\, NC\, 28043\, United States
CATEGORIES:Faith-Based Support Groups,Mental Health & Recovery Support Events,Substance Use Recovery Meetings
END:VEVENT
BEGIN:VEVENT
DTSTART;TZID=America/New_York:20260302T200000
DTEND;TZID=America/New_York:20260302T210000
DTSTAMP:20260424T084742
CREATED:20250803T185703Z
LAST-MODIFIED:20250803T185703Z
UID:10011052-1772481600-1772485200@rutherfordconnect.com
SUMMARY:Never too Late Group (NA meeting)
DESCRIPTION:This meeting is open to addicts and non-addicts alike. All are welcome.\n    Approved N.A. Books
URL:https://rutherfordconnect.com/event/never-too-late-group-na-meeting-2/2026-03-02/
LOCATION:Wells Spring United Methodist Church\, 201 Wells Spring Rd\, Forest City\, NC\, 28043\, United States
CATEGORIES:Faith-Based Support Groups,Mental Health & Recovery Support Events,Substance Use Recovery Meetings
END:VEVENT
BEGIN:VEVENT
DTSTART;TZID=America/New_York:20260303T100000
DTEND;TZID=America/New_York:20260303T110000
DTSTAMP:20260424T084742
CREATED:20251003T172620Z
LAST-MODIFIED:20251003T174734Z
UID:10013079-1772532000-1772535600@rutherfordconnect.com
SUMMARY:Coffee & Connection
DESCRIPTION:Coffee & morning meditation to start your day. \n648 Withrow Rd\, Forest City\, NC 28043 \n828-286-3929
URL:https://rutherfordconnect.com/event/coffee-connection/2026-03-03/
LOCATION:United Way of Rutherford County\, 668 Withrow Rd\, Forest City\, NC\, 28043\, United States
CATEGORIES:Mental Health & Recovery Support Events
ORGANIZER;CN="United Way of Rutherford County":MAILTO:bdblack59@uwrcinc.org
END:VEVENT
BEGIN:VEVENT
DTSTART;TZID=America/New_York:20260303T180000
DTEND;TZID=America/New_York:20260303T190000
DTSTAMP:20260424T084742
CREATED:20250725T160239Z
LAST-MODIFIED:20250725T161051Z
UID:10009254-1772560800-1772564400@rutherfordconnect.com
SUMMARY:Promises Group (AA meeting)
DESCRIPTION:Alcoholics Anonymous meeting \nBig Book\nIn-person\nOpen
URL:https://rutherfordconnect.com/event/promises-group-aa-meeting/2026-03-03/
LOCATION:Rutherfordton Presbyterian Church\, 252 N Washington St\, Rutherfordton\, NC\, 28139\, United States
CATEGORIES:Faith-Based Support Groups,Mental Health & Recovery Support Events,Substance Use Recovery Meetings
END:VEVENT
BEGIN:VEVENT
DTSTART;TZID=America/New_York:20260303T183000
DTEND;TZID=America/New_York:20260303T193000
DTSTAMP:20260424T084742
CREATED:20251003T172956Z
LAST-MODIFIED:20251003T172956Z
UID:10013340-1772562600-1772566200@rutherfordconnect.com
SUMMARY:Parents' Circle
DESCRIPTION:A safe place for parents whose children experience addiction &/or incarceration. \n648 Withrow Rd\, Forest City\, NC 28043 \n828-286-3929
URL:https://rutherfordconnect.com/event/parents-circle/2026-03-03/
LOCATION:United Way of Rutherford County\, 668 Withrow Rd\, Forest City\, NC\, 28043\, United States
CATEGORIES:Mental Health & Recovery Support Events
ORGANIZER;CN="United Way of Rutherford County":MAILTO:bdblack59@uwrcinc.org
END:VEVENT
BEGIN:VEVENT
DTSTART;TZID=America/New_York:20260303T200000
DTEND;TZID=America/New_York:20260303T210000
DTSTAMP:20260424T084742
CREATED:20250803T185538Z
LAST-MODIFIED:20250803T185538Z
UID:10010791-1772568000-1772571600@rutherfordconnect.com
SUMMARY:Never too Late Group (NA meeting)
DESCRIPTION:This meeting is open to addicts and non-addicts alike. All are welcome.\nThis meeting is focused on discussion of the Basic Text of Narcotics Anonymous.\nThis meeting invites participation by all attendees.
URL:https://rutherfordconnect.com/event/never-too-late-group-na-meeting/2026-03-03/
LOCATION:Wells Spring United Methodist Church\, 201 Wells Spring Rd\, Forest City\, NC\, 28043\, United States
CATEGORIES:Faith-Based Support Groups,Mental Health & Recovery Support Events,Substance Use Recovery Meetings
END:VEVENT
BEGIN:VEVENT
DTSTART;TZID=America/New_York:20260304T120000
DTEND;TZID=America/New_York:20260304T130000
DTSTAMP:20260424T084742
CREATED:20250806T151627Z
LAST-MODIFIED:20250806T151627Z
UID:10011836-1772625600-1772629200@rutherfordconnect.com
SUMMARY:Moms in Recovery
DESCRIPTION:Come as you are. \nThis is a safe\, judgement-free space for mothers in any stage of recovery to connect\, share\, and grow together. Whether you’re just starting out or years into your journey- you’re not alone. \nPeer-led conversations \nEncouragement & resources
URL:https://rutherfordconnect.com/event/moms-in-recovery/2026-03-04/
LOCATION:Healing\, Recovery\, and Thriving Center\, 646 Withrow Rd\, Forest City\, NC\, 28043\, United States
CATEGORIES:Mental Health & Recovery Support Events,Substance Use Recovery Meetings
ORGANIZER;CN="United Way of Rutherford County":MAILTO:bdblack59@uwrcinc.org
END:VEVENT
BEGIN:VEVENT
DTSTART;TZID=America/New_York:20260304T120000
DTEND;TZID=America/New_York:20260304T130000
DTSTAMP:20260424T084742
CREATED:20251003T173222Z
LAST-MODIFIED:20251003T173222Z
UID:10013601-1772625600-1772629200@rutherfordconnect.com
SUMMARY:Moms in Recovery
DESCRIPTION:Where moms in any stage of recovery can connect\, share\, & grow. \n648 Withrow Rd\, Forest City\, NC 28043 \n828-286-3929
URL:https://rutherfordconnect.com/event/moms-in-recovery-2/2026-03-04/
LOCATION:United Way of Rutherford County\, 668 Withrow Rd\, Forest City\, NC\, 28043\, United States
CATEGORIES:Mental Health & Recovery Support Events
ORGANIZER;CN="United Way of Rutherford County":MAILTO:bdblack59@uwrcinc.org
END:VEVENT
BEGIN:VEVENT
DTSTART;TZID=America/New_York:20260304T180000
DTEND;TZID=America/New_York:20260304T190000
DTSTAMP:20260424T084742
CREATED:20250725T160239Z
LAST-MODIFIED:20250725T161051Z
UID:10009255-1772647200-1772650800@rutherfordconnect.com
SUMMARY:Promises Group (AA meeting)
DESCRIPTION:Alcoholics Anonymous meeting \nBig Book\nIn-person\nOpen
URL:https://rutherfordconnect.com/event/promises-group-aa-meeting/2026-03-04/
LOCATION:Rutherfordton Presbyterian Church\, 252 N Washington St\, Rutherfordton\, NC\, 28139\, United States
CATEGORIES:Faith-Based Support Groups,Mental Health & Recovery Support Events,Substance Use Recovery Meetings
END:VEVENT
BEGIN:VEVENT
DTSTART;TZID=America/New_York:20260304T200000
DTEND;TZID=America/New_York:20260304T210000
DTSTAMP:20260424T084742
CREATED:20250725T155659Z
LAST-MODIFIED:20250725T161128Z
UID:10009745-1772654400-1772658000@rutherfordconnect.com
SUMMARY:Out of the Ashes Group (AA meeting)
DESCRIPTION:Alcoholics Anonymous meeting \nDiscussion\nIn-person\nNewcomer\nOpen
URL:https://rutherfordconnect.com/event/out-of-the-ashes-group-aa-meeting/2026-03-04/
LOCATION:Out of the Ashes\, 131 Countryside Dr\, Forest City\, NC\, 28043\, United States
CATEGORIES:Faith-Based Support Groups,Mental Health & Recovery Support Events,Substance Use Recovery Meetings
END:VEVENT
BEGIN:VEVENT
DTSTART;TZID=America/New_York:20260304T200000
DTEND;TZID=America/New_York:20260304T210000
DTSTAMP:20260424T084742
CREATED:20250803T185832Z
LAST-MODIFIED:20250803T185832Z
UID:10011313-1772654400-1772658000@rutherfordconnect.com
SUMMARY:Never too Late Group (NA meeting)
DESCRIPTION:This meeting is open to addicts and non-addicts alike. All are welcome.\n    This meeting invites participation by all attendees.
URL:https://rutherfordconnect.com/event/never-too-late-group-na-meeting-3/2026-03-04/
LOCATION:First Presbyterian Church\, 438 W Main St\, Forest City\, NC\, 28043\, United States
CATEGORIES:Faith-Based Support Groups,Mental Health & Recovery Support Events,Substance Use Recovery Meetings
END:VEVENT
BEGIN:VEVENT
DTSTART;TZID=America/New_York:20260305T100000
DTEND;TZID=America/New_York:20260305T110000
DTSTAMP:20260424T084742
CREATED:20251003T172620Z
LAST-MODIFIED:20251003T174734Z
UID:10014042-1772704800-1772708400@rutherfordconnect.com
SUMMARY:Coffee & Connection
DESCRIPTION:Coffee & morning meditation to start your day. \n648 Withrow Rd\, Forest City\, NC 28043 \n828-286-3929
URL:https://rutherfordconnect.com/event/coffee-connection/2026-03-05/
LOCATION:United Way of Rutherford County\, 668 Withrow Rd\, Forest City\, NC\, 28043\, United States
CATEGORIES:Mental Health & Recovery Support Events
ORGANIZER;CN="United Way of Rutherford County":MAILTO:bdblack59@uwrcinc.org
END:VEVENT
BEGIN:VEVENT
DTSTART;TZID=America/New_York:20260305T123000
DTEND;TZID=America/New_York:20260305T133000
DTSTAMP:20260424T084742
CREATED:20251003T175018Z
LAST-MODIFIED:20251003T175018Z
UID:10014303-1772713800-1772717400@rutherfordconnect.com
SUMMARY:Thrive Together Group (Narcotics Anonymous)
DESCRIPTION:Thrive Together Group (NA) \n648 Withrow Rd\, Forest City\, NC 28043 \n828-286-3929 \n 
URL:https://rutherfordconnect.com/event/thrive-together-group-narcotics-anonymous/2026-03-05/
LOCATION:United Way of Rutherford County\, 668 Withrow Rd\, Forest City\, NC\, 28043\, United States
CATEGORIES:Mental Health & Recovery Support Events,Substance Use Recovery Meetings
ORGANIZER;CN="United Way of Rutherford County":MAILTO:bdblack59@uwrcinc.org
END:VEVENT
BEGIN:VEVENT
DTSTART;TZID=America/New_York:20260305T190000
DTEND;TZID=America/New_York:20260305T200000
DTSTAMP:20260424T084742
CREATED:20250725T160928Z
LAST-MODIFIED:20250725T161322Z
UID:10010527-1772737200-1772740800@rutherfordconnect.com
SUMMARY:Sobriety & Beyond Group (AA meeting)
DESCRIPTION:Alcoholics Anonymous meeting \nDiscussion\nIn-person\nLiterature\nOpen\nWheelchair Access
URL:https://rutherfordconnect.com/event/sobriety-beyond-group-aa-meeting/2026-03-05/
LOCATION:First Presbyterian Church\, 438 W Main St\, Forest City\, NC\, 28043\, United States
CATEGORIES:Faith-Based Support Groups,Mental Health & Recovery Support Events,Substance Use Recovery Meetings
END:VEVENT
BEGIN:VEVENT
DTSTART;TZID=America/New_York:20260305T193000
DTEND;TZID=America/New_York:20260305T203000
DTSTAMP:20260424T084742
CREATED:20250725T160804Z
LAST-MODIFIED:20250725T161214Z
UID:10010037-1772739000-1772742600@rutherfordconnect.com
SUMMARY:Live & Let Live Group (AA meeting)
DESCRIPTION:Alcoholics Anonymous meeting \nDiscussion\nIn-person
URL:https://rutherfordconnect.com/event/live-let-live-group-aa-meeting/2026-03-05/
LOCATION:Immaculate Conception Catholic Church\, 1024 W Main St\, Forest City\, NC\, 28043\, United States
CATEGORIES:Faith-Based Support Groups,Mental Health & Recovery Support Events,Substance Use Recovery Meetings
END:VEVENT
BEGIN:VEVENT
DTSTART;TZID=America/New_York:20260305T200000
DTEND;TZID=America/New_York:20260305T210000
DTSTAMP:20260424T084742
CREATED:20250803T190135Z
LAST-MODIFIED:20250803T190135Z
UID:10011574-1772740800-1772744400@rutherfordconnect.com
SUMMARY:Never too Late Group (NA meeting)
DESCRIPTION:This meeting is open to addicts and non-addicts alike. All are welcome.\n    This meeting invites participation by all attendees.
URL:https://rutherfordconnect.com/event/never-too-late-group-na-meeting-4/2026-03-05/
LOCATION:Bethel Baptist Church\, 479 Main St\, Ellenboro\, NC\, 28040\, United States
CATEGORIES:Faith-Based Support Groups,Mental Health & Recovery Support Events,Substance Use Recovery Meetings
END:VEVENT
BEGIN:VEVENT
DTSTART;TZID=America/New_York:20260306T120000
DTEND;TZID=America/New_York:20260306T130000
DTSTAMP:20260424T084742
CREATED:20250725T154851Z
LAST-MODIFIED:20250725T160321Z
UID:10007657-1772798400-1772802000@rutherfordconnect.com
SUMMARY:Mid-Day Miracles (AA meeting)
DESCRIPTION:Alcoholics Anonymous meeting. \nDiscussion\nIn-person\nLiterature
URL:https://rutherfordconnect.com/event/mid-day-miracles/2026-03-06/
LOCATION:Rutherfordton Presbyterian Church\, 252 N Washington St\, Rutherfordton\, NC\, 28139\, United States
CATEGORIES:Faith-Based Support Groups,Mental Health & Recovery Support Events,Substance Use Recovery Meetings
END:VEVENT
BEGIN:VEVENT
DTSTART;TZID=America/New_York:20260306T130000
DTEND;TZID=America/New_York:20260306T140000
DTSTAMP:20260424T084742
CREATED:20251003T175800Z
LAST-MODIFIED:20251003T175800Z
UID:10014565-1772802000-1772805600@rutherfordconnect.com
SUMMARY:Men's Recovery Group
DESCRIPTION:Where men in any stage of recovery can connect\, share\, and grow. \n648 Withrow Rd\, Forest City\, NC 28043 \n828-286-3929
URL:https://rutherfordconnect.com/event/mens-recovery-group/2026-03-06/
LOCATION:United Way of Rutherford County\, 668 Withrow Rd\, Forest City\, NC\, 28043\, United States
CATEGORIES:Mental Health & Recovery Support Events
ORGANIZER;CN="United Way of Rutherford County":MAILTO:bdblack59@uwrcinc.org
END:VEVENT
BEGIN:VEVENT
DTSTART;TZID=America/New_York:20260306T190000
DTEND;TZID=America/New_York:20260306T200000
DTSTAMP:20260424T084742
CREATED:20250725T155321Z
LAST-MODIFIED:20250725T160358Z
UID:10007918-1772823600-1772827200@rutherfordconnect.com
SUMMARY:Forest City Group (AA meeting)
DESCRIPTION:Alcoholics Anonymous meeting \nBig Book\nClosed\nIn-person
URL:https://rutherfordconnect.com/event/forest-city-group-aa-meeting/2026-03-06/
LOCATION:First Presbyterian Church\, 438 W Main St\, Forest City\, NC\, 28043\, United States
CATEGORIES:Faith-Based Support Groups,Mental Health & Recovery Support Events,Substance Use Recovery Meetings
END:VEVENT
BEGIN:VEVENT
DTSTART;TZID=America/New_York:20260306T200000
DTEND;TZID=America/New_York:20260306T210000
DTSTAMP:20260424T084742
CREATED:20250725T155659Z
LAST-MODIFIED:20250725T161128Z
UID:10008179-1772827200-1772830800@rutherfordconnect.com
SUMMARY:Out of the Ashes Group (AA meeting)
DESCRIPTION:Alcoholics Anonymous meeting \nDiscussion\nIn-person\nNewcomer\nOpen
URL:https://rutherfordconnect.com/event/out-of-the-ashes-group-aa-meeting/2026-03-06/
LOCATION:Out of the Ashes\, 131 Countryside Dr\, Forest City\, NC\, 28043\, United States
CATEGORIES:Faith-Based Support Groups,Mental Health & Recovery Support Events,Substance Use Recovery Meetings
END:VEVENT
BEGIN:VEVENT
DTSTART;TZID=America/New_York:20260307T120000
DTEND;TZID=America/New_York:20260307T130000
DTSTAMP:20260424T084742
CREATED:20250725T160053Z
LAST-MODIFIED:20250725T160500Z
UID:10008440-1772884800-1772888400@rutherfordconnect.com
SUMMARY:ODAT Group (AA meeting)
DESCRIPTION:Alcoholics Anonymous meeting \nDiscussion\nIn-person\nOpen
URL:https://rutherfordconnect.com/event/odat-group-aa-meeting/2026-03-07/
LOCATION:Perry Moore House\, 278 N Main St\, Rutherfordton\, NC\, 28139\, United States
CATEGORIES:Faith-Based Support Groups,Mental Health & Recovery Support Events,Substance Use Recovery Meetings
END:VEVENT
BEGIN:VEVENT
DTSTART;TZID=America/New_York:20260308T180000
DTEND;TZID=America/New_York:20260308T190000
DTSTAMP:20260424T084742
CREATED:20250725T160239Z
LAST-MODIFIED:20250725T161051Z
UID:10008701-1772992800-1772996400@rutherfordconnect.com
SUMMARY:Promises Group (AA meeting)
DESCRIPTION:Alcoholics Anonymous meeting \nBig Book\nIn-person\nOpen
URL:https://rutherfordconnect.com/event/promises-group-aa-meeting/2026-03-08/
LOCATION:Rutherfordton Presbyterian Church\, 252 N Washington St\, Rutherfordton\, NC\, 28139\, United States
CATEGORIES:Faith-Based Support Groups,Mental Health & Recovery Support Events,Substance Use Recovery Meetings
END:VEVENT
BEGIN:VEVENT
DTSTART;TZID=America/New_York:20260308T193000
DTEND;TZID=America/New_York:20260308T203000
DTSTAMP:20260424T084742
CREATED:20250725T160804Z
LAST-MODIFIED:20250725T161214Z
UID:10010038-1772998200-1773001800@rutherfordconnect.com
SUMMARY:Live & Let Live Group (AA meeting)
DESCRIPTION:Alcoholics Anonymous meeting \nDiscussion\nIn-person
URL:https://rutherfordconnect.com/event/live-let-live-group-aa-meeting/2026-03-08/
LOCATION:Immaculate Conception Catholic Church\, 1024 W Main St\, Forest City\, NC\, 28043\, United States
CATEGORIES:Faith-Based Support Groups,Mental Health & Recovery Support Events,Substance Use Recovery Meetings
END:VEVENT
BEGIN:VEVENT
DTSTART;TZID=America/New_York:20260309T100000
DTEND;TZID=America/New_York:20260309T120000
DTSTAMP:20260424T084742
CREATED:20250806T152717Z
LAST-MODIFIED:20250806T152717Z
UID:10012097-1773050400-1773057600@rutherfordconnect.com
SUMMARY:Hope. Help. Healing
DESCRIPTION:Struggling with addiction to opioids?\nRecovery starts here. \nFree medication assisted treatment for uninsured Rutherford County residents \nCall ICGH for more information about MAT and other addiction treatment services:\n828.322.5915
URL:https://rutherfordconnect.com/event/hope-help-healing/2026-03-09/
LOCATION:Harvest House Baptist Church\, 2938 Harris Henrietta Rd.\, Mooresboro\, NC\, 28114\, United States
CATEGORIES:Faith-Based Support Groups,Health & Wellness,Mental Health & Recovery Support Events,Substance Use Recovery Meetings
ORGANIZER;CN="Harvest House Baptist Church":MAILTO:hhnmerciescenter@gmail.com
END:VEVENT
BEGIN:VEVENT
DTSTART;TZID=America/New_York:20260309T100000
DTEND;TZID=America/New_York:20260309T140000
DTSTAMP:20260424T084742
CREATED:20251125T135433Z
LAST-MODIFIED:20251125T135433Z
UID:10015358-1773050400-1773064800@rutherfordconnect.com
SUMMARY:Showers of Blessing
DESCRIPTION:First Baptist Church Spindale \n871 Thunder Rd\, Spindale NC \nOffers a shower and a snack on Mondays from 10am to 2pm. \nSoap\, towel\, and wash cloth supplied
URL:https://rutherfordconnect.com/event/showers-of-blessing/2026-03-09/
LOCATION:First Baptist Church Spindale\, 871 Thunder Rd\, Spindale\, NC\, 28160\, United States
CATEGORIES:Community Support Event,Faith & Spiritual Life,Faith-Based Support Groups,Health & Wellness
END:VEVENT
END:VCALENDAR