BEGIN:VCALENDAR
VERSION:2.0
PRODID:-//Rutherford Connect - ECPv6.15.20//NONSGML v1.0//EN
CALSCALE:GREGORIAN
METHOD:PUBLISH
X-ORIGINAL-URL:https://rutherfordconnect.com
X-WR-CALDESC:Events for Rutherford Connect
REFRESH-INTERVAL;VALUE=DURATION:PT1H
X-Robots-Tag:noindex
X-PUBLISHED-TTL:PT1H
BEGIN:VTIMEZONE
TZID:America/New_York
BEGIN:DAYLIGHT
TZOFFSETFROM:-0500
TZOFFSETTO:-0400
TZNAME:EDT
DTSTART:20250309T070000
END:DAYLIGHT
BEGIN:STANDARD
TZOFFSETFROM:-0400
TZOFFSETTO:-0500
TZNAME:EST
DTSTART:20251102T060000
END:STANDARD
BEGIN:DAYLIGHT
TZOFFSETFROM:-0500
TZOFFSETTO:-0400
TZNAME:EDT
DTSTART:20260308T070000
END:DAYLIGHT
BEGIN:STANDARD
TZOFFSETFROM:-0400
TZOFFSETTO:-0500
TZNAME:EST
DTSTART:20261101T060000
END:STANDARD
BEGIN:DAYLIGHT
TZOFFSETFROM:-0500
TZOFFSETTO:-0400
TZNAME:EDT
DTSTART:20270314T070000
END:DAYLIGHT
BEGIN:STANDARD
TZOFFSETFROM:-0400
TZOFFSETTO:-0500
TZNAME:EST
DTSTART:20271107T060000
END:STANDARD
END:VTIMEZONE
BEGIN:VEVENT
DTSTART;TZID=America/New_York:20260310T100000
DTEND;TZID=America/New_York:20260310T110000
DTSTAMP:20260424T073132
CREATED:20251003T172620Z
LAST-MODIFIED:20251003T174734Z
UID:10013080-1773136800-1773140400@rutherfordconnect.com
SUMMARY:Coffee & Connection
DESCRIPTION:Coffee & morning meditation to start your day. \n648 Withrow Rd\, Forest City\, NC 28043 \n828-286-3929
URL:https://rutherfordconnect.com/event/coffee-connection/2026-03-10/
LOCATION:United Way of Rutherford County\, 668 Withrow Rd\, Forest City\, NC\, 28043\, United States
CATEGORIES:Mental Health & Recovery Support Events
ORGANIZER;CN="United Way of Rutherford County":MAILTO:bdblack59@uwrcinc.org
END:VEVENT
BEGIN:VEVENT
DTSTART;TZID=America/New_York:20260310T180000
DTEND;TZID=America/New_York:20260310T190000
DTSTAMP:20260424T073132
CREATED:20250725T160239Z
LAST-MODIFIED:20250725T161051Z
UID:10009256-1773165600-1773169200@rutherfordconnect.com
SUMMARY:Promises Group (AA meeting)
DESCRIPTION:Alcoholics Anonymous meeting \nBig Book\nIn-person\nOpen
URL:https://rutherfordconnect.com/event/promises-group-aa-meeting/2026-03-10/
LOCATION:Rutherfordton Presbyterian Church\, 252 N Washington St\, Rutherfordton\, NC\, 28139\, United States
CATEGORIES:Faith-Based Support Groups,Mental Health & Recovery Support Events,Substance Use Recovery Meetings
END:VEVENT
BEGIN:VEVENT
DTSTART;TZID=America/New_York:20260310T183000
DTEND;TZID=America/New_York:20260310T193000
DTSTAMP:20260424T073132
CREATED:20251003T172956Z
LAST-MODIFIED:20251003T172956Z
UID:10013341-1773167400-1773171000@rutherfordconnect.com
SUMMARY:Parents' Circle
DESCRIPTION:A safe place for parents whose children experience addiction &/or incarceration. \n648 Withrow Rd\, Forest City\, NC 28043 \n828-286-3929
URL:https://rutherfordconnect.com/event/parents-circle/2026-03-10/
LOCATION:United Way of Rutherford County\, 668 Withrow Rd\, Forest City\, NC\, 28043\, United States
CATEGORIES:Mental Health & Recovery Support Events
ORGANIZER;CN="United Way of Rutherford County":MAILTO:bdblack59@uwrcinc.org
END:VEVENT
BEGIN:VEVENT
DTSTART;TZID=America/New_York:20260310T200000
DTEND;TZID=America/New_York:20260310T210000
DTSTAMP:20260424T073132
CREATED:20250803T185538Z
LAST-MODIFIED:20250803T185538Z
UID:10010792-1773172800-1773176400@rutherfordconnect.com
SUMMARY:Never too Late Group (NA meeting)
DESCRIPTION:This meeting is open to addicts and non-addicts alike. All are welcome.\nThis meeting is focused on discussion of the Basic Text of Narcotics Anonymous.\nThis meeting invites participation by all attendees.
URL:https://rutherfordconnect.com/event/never-too-late-group-na-meeting/2026-03-10/
LOCATION:Wells Spring United Methodist Church\, 201 Wells Spring Rd\, Forest City\, NC\, 28043\, United States
CATEGORIES:Faith-Based Support Groups,Mental Health & Recovery Support Events,Substance Use Recovery Meetings
END:VEVENT
END:VCALENDAR