BEGIN:VCALENDAR
VERSION:2.0
PRODID:-//Rutherford Connect - ECPv6.15.20//NONSGML v1.0//EN
CALSCALE:GREGORIAN
METHOD:PUBLISH
X-WR-CALNAME:Rutherford Connect
X-ORIGINAL-URL:https://rutherfordconnect.com
X-WR-CALDESC:Events for Rutherford Connect
REFRESH-INTERVAL;VALUE=DURATION:PT1H
X-Robots-Tag:noindex
X-PUBLISHED-TTL:PT1H
BEGIN:VTIMEZONE
TZID:America/New_York
BEGIN:DAYLIGHT
TZOFFSETFROM:-0500
TZOFFSETTO:-0400
TZNAME:EDT
DTSTART:20250309T070000
END:DAYLIGHT
BEGIN:STANDARD
TZOFFSETFROM:-0400
TZOFFSETTO:-0500
TZNAME:EST
DTSTART:20251102T060000
END:STANDARD
BEGIN:DAYLIGHT
TZOFFSETFROM:-0500
TZOFFSETTO:-0400
TZNAME:EDT
DTSTART:20260308T070000
END:DAYLIGHT
BEGIN:STANDARD
TZOFFSETFROM:-0400
TZOFFSETTO:-0500
TZNAME:EST
DTSTART:20261101T060000
END:STANDARD
BEGIN:DAYLIGHT
TZOFFSETFROM:-0500
TZOFFSETTO:-0400
TZNAME:EDT
DTSTART:20270314T070000
END:DAYLIGHT
BEGIN:STANDARD
TZOFFSETFROM:-0400
TZOFFSETTO:-0500
TZNAME:EST
DTSTART:20271107T060000
END:STANDARD
END:VTIMEZONE
BEGIN:VEVENT
DTSTART;TZID=America/New_York:20260427T110000
DTEND;TZID=America/New_York:20260427T130000
DTSTAMP:20260422T125123
CREATED:20251003T172159Z
LAST-MODIFIED:20251003T172159Z
UID:10012826-1777287600-1777294800@rutherfordconnect.com
SUMMARY:Acceptance\, Resilience\, and Togetherness (A.R.T)
DESCRIPTION:Where we can use creative expression & shared experiences to foster healing\, connection\, & personal growth. \nMondays from 11am to 1pm \n648 Withrow Rd\, Forest City\, NC 28043
URL:https://rutherfordconnect.com/event/acceptance-resilience-and-togetherness-a-r-t/2026-04-27/
LOCATION:United Way of Rutherford County\, 668 Withrow Rd\, Forest City\, NC\, 28043\, United States
CATEGORIES:Mental Health & Recovery Support Events
ORGANIZER;CN="United Way of Rutherford County":MAILTO:bdblack59@uwrcinc.org
END:VEVENT
BEGIN:VEVENT
DTSTART;TZID=America/New_York:20260427T190000
DTEND;TZID=America/New_York:20260427T200000
DTSTAMP:20260422T125123
CREATED:20250725T160928Z
LAST-MODIFIED:20250725T161322Z
UID:10008970-1777316400-1777320000@rutherfordconnect.com
SUMMARY:Sobriety & Beyond Group (AA meeting)
DESCRIPTION:Alcoholics Anonymous meeting \nDiscussion\nIn-person\nLiterature\nOpen\nWheelchair Access
URL:https://rutherfordconnect.com/event/sobriety-beyond-group-aa-meeting/2026-04-27/
LOCATION:First Presbyterian Church\, 438 W Main St\, Forest City\, NC\, 28043\, United States
CATEGORIES:Faith-Based Support Groups,Mental Health & Recovery Support Events,Substance Use Recovery Meetings
END:VEVENT
BEGIN:VEVENT
DTSTART;TZID=America/New_York:20260427T200000
DTEND;TZID=America/New_York:20260427T210000
DTSTAMP:20260422T125123
CREATED:20250803T185703Z
LAST-MODIFIED:20250803T185703Z
UID:10011060-1777320000-1777323600@rutherfordconnect.com
SUMMARY:Never too Late Group (NA meeting)
DESCRIPTION:This meeting is open to addicts and non-addicts alike. All are welcome.\n    Approved N.A. Books
URL:https://rutherfordconnect.com/event/never-too-late-group-na-meeting-2/2026-04-27/
LOCATION:Wells Spring United Methodist Church\, 201 Wells Spring Rd\, Forest City\, NC\, 28043\, United States
CATEGORIES:Faith-Based Support Groups,Mental Health & Recovery Support Events,Substance Use Recovery Meetings
END:VEVENT
BEGIN:VEVENT
DTSTART;TZID=America/New_York:20260428T100000
DTEND;TZID=America/New_York:20260428T110000
DTSTAMP:20260422T125123
CREATED:20251003T172620Z
LAST-MODIFIED:20251003T174734Z
UID:10013087-1777370400-1777374000@rutherfordconnect.com
SUMMARY:Coffee & Connection
DESCRIPTION:Coffee & morning meditation to start your day. \n648 Withrow Rd\, Forest City\, NC 28043 \n828-286-3929
URL:https://rutherfordconnect.com/event/coffee-connection/2026-04-28/
LOCATION:United Way of Rutherford County\, 668 Withrow Rd\, Forest City\, NC\, 28043\, United States
CATEGORIES:Mental Health & Recovery Support Events
ORGANIZER;CN="United Way of Rutherford County":MAILTO:bdblack59@uwrcinc.org
END:VEVENT
BEGIN:VEVENT
DTSTART;TZID=America/New_York:20260428T180000
DTEND;TZID=America/New_York:20260428T190000
DTSTAMP:20260422T125123
CREATED:20250725T160239Z
LAST-MODIFIED:20250725T161051Z
UID:10009270-1777399200-1777402800@rutherfordconnect.com
SUMMARY:Promises Group (AA meeting)
DESCRIPTION:Alcoholics Anonymous meeting \nBig Book\nIn-person\nOpen
URL:https://rutherfordconnect.com/event/promises-group-aa-meeting/2026-04-28/
LOCATION:Rutherfordton Presbyterian Church\, 252 N Washington St\, Rutherfordton\, NC\, 28139\, United States
CATEGORIES:Faith-Based Support Groups,Mental Health & Recovery Support Events,Substance Use Recovery Meetings
END:VEVENT
BEGIN:VEVENT
DTSTART;TZID=America/New_York:20260428T183000
DTEND;TZID=America/New_York:20260428T193000
DTSTAMP:20260422T125123
CREATED:20251003T172956Z
LAST-MODIFIED:20251003T172956Z
UID:10013348-1777401000-1777404600@rutherfordconnect.com
SUMMARY:Parents' Circle
DESCRIPTION:A safe place for parents whose children experience addiction &/or incarceration. \n648 Withrow Rd\, Forest City\, NC 28043 \n828-286-3929
URL:https://rutherfordconnect.com/event/parents-circle/2026-04-28/
LOCATION:United Way of Rutherford County\, 668 Withrow Rd\, Forest City\, NC\, 28043\, United States
CATEGORIES:Mental Health & Recovery Support Events
ORGANIZER;CN="United Way of Rutherford County":MAILTO:bdblack59@uwrcinc.org
END:VEVENT
BEGIN:VEVENT
DTSTART;TZID=America/New_York:20260428T200000
DTEND;TZID=America/New_York:20260428T210000
DTSTAMP:20260422T125123
CREATED:20250803T185538Z
LAST-MODIFIED:20250803T185538Z
UID:10010799-1777406400-1777410000@rutherfordconnect.com
SUMMARY:Never too Late Group (NA meeting)
DESCRIPTION:This meeting is open to addicts and non-addicts alike. All are welcome.\nThis meeting is focused on discussion of the Basic Text of Narcotics Anonymous.\nThis meeting invites participation by all attendees.
URL:https://rutherfordconnect.com/event/never-too-late-group-na-meeting/2026-04-28/
LOCATION:Wells Spring United Methodist Church\, 201 Wells Spring Rd\, Forest City\, NC\, 28043\, United States
CATEGORIES:Faith-Based Support Groups,Mental Health & Recovery Support Events,Substance Use Recovery Meetings
END:VEVENT
BEGIN:VEVENT
DTSTART;TZID=America/New_York:20260429T120000
DTEND;TZID=America/New_York:20260429T130000
DTSTAMP:20260422T125123
CREATED:20250806T151627Z
LAST-MODIFIED:20250806T151627Z
UID:10011844-1777464000-1777467600@rutherfordconnect.com
SUMMARY:Moms in Recovery
DESCRIPTION:Come as you are. \nThis is a safe\, judgement-free space for mothers in any stage of recovery to connect\, share\, and grow together. Whether you’re just starting out or years into your journey- you’re not alone. \nPeer-led conversations \nEncouragement & resources
URL:https://rutherfordconnect.com/event/moms-in-recovery/2026-04-29/
LOCATION:Healing\, Recovery\, and Thriving Center\, 646 Withrow Rd\, Forest City\, NC\, 28043\, United States
CATEGORIES:Mental Health & Recovery Support Events,Substance Use Recovery Meetings
ORGANIZER;CN="United Way of Rutherford County":MAILTO:bdblack59@uwrcinc.org
END:VEVENT
BEGIN:VEVENT
DTSTART;TZID=America/New_York:20260429T120000
DTEND;TZID=America/New_York:20260429T130000
DTSTAMP:20260422T125123
CREATED:20251003T173222Z
LAST-MODIFIED:20251003T173222Z
UID:10013609-1777464000-1777467600@rutherfordconnect.com
SUMMARY:Moms in Recovery
DESCRIPTION:Where moms in any stage of recovery can connect\, share\, & grow. \n648 Withrow Rd\, Forest City\, NC 28043 \n828-286-3929
URL:https://rutherfordconnect.com/event/moms-in-recovery-2/2026-04-29/
LOCATION:United Way of Rutherford County\, 668 Withrow Rd\, Forest City\, NC\, 28043\, United States
CATEGORIES:Mental Health & Recovery Support Events
ORGANIZER;CN="United Way of Rutherford County":MAILTO:bdblack59@uwrcinc.org
END:VEVENT
BEGIN:VEVENT
DTSTART;TZID=America/New_York:20260429T180000
DTEND;TZID=America/New_York:20260429T190000
DTSTAMP:20260422T125123
CREATED:20250725T160239Z
LAST-MODIFIED:20250725T161051Z
UID:10009271-1777485600-1777489200@rutherfordconnect.com
SUMMARY:Promises Group (AA meeting)
DESCRIPTION:Alcoholics Anonymous meeting \nBig Book\nIn-person\nOpen
URL:https://rutherfordconnect.com/event/promises-group-aa-meeting/2026-04-29/
LOCATION:Rutherfordton Presbyterian Church\, 252 N Washington St\, Rutherfordton\, NC\, 28139\, United States
CATEGORIES:Faith-Based Support Groups,Mental Health & Recovery Support Events,Substance Use Recovery Meetings
END:VEVENT
BEGIN:VEVENT
DTSTART;TZID=America/New_York:20260429T200000
DTEND;TZID=America/New_York:20260429T210000
DTSTAMP:20260422T125123
CREATED:20250725T155659Z
LAST-MODIFIED:20250725T161128Z
UID:10009753-1777492800-1777496400@rutherfordconnect.com
SUMMARY:Out of the Ashes Group (AA meeting)
DESCRIPTION:Alcoholics Anonymous meeting \nDiscussion\nIn-person\nNewcomer\nOpen
URL:https://rutherfordconnect.com/event/out-of-the-ashes-group-aa-meeting/2026-04-29/
LOCATION:Out of the Ashes\, 131 Countryside Dr\, Forest City\, NC\, 28043\, United States
CATEGORIES:Faith-Based Support Groups,Mental Health & Recovery Support Events,Substance Use Recovery Meetings
END:VEVENT
BEGIN:VEVENT
DTSTART;TZID=America/New_York:20260429T200000
DTEND;TZID=America/New_York:20260429T210000
DTSTAMP:20260422T125123
CREATED:20250803T185832Z
LAST-MODIFIED:20250803T185832Z
UID:10011321-1777492800-1777496400@rutherfordconnect.com
SUMMARY:Never too Late Group (NA meeting)
DESCRIPTION:This meeting is open to addicts and non-addicts alike. All are welcome.\n    This meeting invites participation by all attendees.
URL:https://rutherfordconnect.com/event/never-too-late-group-na-meeting-3/2026-04-29/
LOCATION:First Presbyterian Church\, 438 W Main St\, Forest City\, NC\, 28043\, United States
CATEGORIES:Faith-Based Support Groups,Mental Health & Recovery Support Events,Substance Use Recovery Meetings
END:VEVENT
BEGIN:VEVENT
DTSTART;TZID=America/New_York:20260430T100000
DTEND;TZID=America/New_York:20260430T110000
DTSTAMP:20260422T125123
CREATED:20251003T172620Z
LAST-MODIFIED:20251003T174734Z
UID:10014050-1777543200-1777546800@rutherfordconnect.com
SUMMARY:Coffee & Connection
DESCRIPTION:Coffee & morning meditation to start your day. \n648 Withrow Rd\, Forest City\, NC 28043 \n828-286-3929
URL:https://rutherfordconnect.com/event/coffee-connection/2026-04-30/
LOCATION:United Way of Rutherford County\, 668 Withrow Rd\, Forest City\, NC\, 28043\, United States
CATEGORIES:Mental Health & Recovery Support Events
ORGANIZER;CN="United Way of Rutherford County":MAILTO:bdblack59@uwrcinc.org
END:VEVENT
BEGIN:VEVENT
DTSTART;TZID=America/New_York:20260430T123000
DTEND;TZID=America/New_York:20260430T133000
DTSTAMP:20260422T125123
CREATED:20251003T175018Z
LAST-MODIFIED:20251003T175018Z
UID:10014311-1777552200-1777555800@rutherfordconnect.com
SUMMARY:Thrive Together Group (Narcotics Anonymous)
DESCRIPTION:Thrive Together Group (NA) \n648 Withrow Rd\, Forest City\, NC 28043 \n828-286-3929 \n 
URL:https://rutherfordconnect.com/event/thrive-together-group-narcotics-anonymous/2026-04-30/
LOCATION:United Way of Rutherford County\, 668 Withrow Rd\, Forest City\, NC\, 28043\, United States
CATEGORIES:Mental Health & Recovery Support Events,Substance Use Recovery Meetings
ORGANIZER;CN="United Way of Rutherford County":MAILTO:bdblack59@uwrcinc.org
END:VEVENT
BEGIN:VEVENT
DTSTART;TZID=America/New_York:20260430T190000
DTEND;TZID=America/New_York:20260430T200000
DTSTAMP:20260422T125123
CREATED:20250725T160928Z
LAST-MODIFIED:20250725T161322Z
UID:10010535-1777575600-1777579200@rutherfordconnect.com
SUMMARY:Sobriety & Beyond Group (AA meeting)
DESCRIPTION:Alcoholics Anonymous meeting \nDiscussion\nIn-person\nLiterature\nOpen\nWheelchair Access
URL:https://rutherfordconnect.com/event/sobriety-beyond-group-aa-meeting/2026-04-30/
LOCATION:First Presbyterian Church\, 438 W Main St\, Forest City\, NC\, 28043\, United States
CATEGORIES:Faith-Based Support Groups,Mental Health & Recovery Support Events,Substance Use Recovery Meetings
END:VEVENT
BEGIN:VEVENT
DTSTART;TZID=America/New_York:20260430T193000
DTEND;TZID=America/New_York:20260430T203000
DTSTAMP:20260422T125123
CREATED:20250725T160804Z
LAST-MODIFIED:20250725T161214Z
UID:10010053-1777577400-1777581000@rutherfordconnect.com
SUMMARY:Live & Let Live Group (AA meeting)
DESCRIPTION:Alcoholics Anonymous meeting \nDiscussion\nIn-person
URL:https://rutherfordconnect.com/event/live-let-live-group-aa-meeting/2026-04-30/
LOCATION:Immaculate Conception Catholic Church\, 1024 W Main St\, Forest City\, NC\, 28043\, United States
CATEGORIES:Faith-Based Support Groups,Mental Health & Recovery Support Events,Substance Use Recovery Meetings
END:VEVENT
BEGIN:VEVENT
DTSTART;TZID=America/New_York:20260430T200000
DTEND;TZID=America/New_York:20260430T210000
DTSTAMP:20260422T125123
CREATED:20250803T190135Z
LAST-MODIFIED:20250803T190135Z
UID:10011582-1777579200-1777582800@rutherfordconnect.com
SUMMARY:Never too Late Group (NA meeting)
DESCRIPTION:This meeting is open to addicts and non-addicts alike. All are welcome.\n    This meeting invites participation by all attendees.
URL:https://rutherfordconnect.com/event/never-too-late-group-na-meeting-4/2026-04-30/
LOCATION:Bethel Baptist Church\, 479 Main St\, Ellenboro\, NC\, 28040\, United States
CATEGORIES:Faith-Based Support Groups,Mental Health & Recovery Support Events,Substance Use Recovery Meetings
END:VEVENT
BEGIN:VEVENT
DTSTART;TZID=America/New_York:20260501T120000
DTEND;TZID=America/New_York:20260501T130000
DTSTAMP:20260422T125123
CREATED:20250725T154851Z
LAST-MODIFIED:20250725T160321Z
UID:10007665-1777636800-1777640400@rutherfordconnect.com
SUMMARY:Mid-Day Miracles (AA meeting)
DESCRIPTION:Alcoholics Anonymous meeting. \nDiscussion\nIn-person\nLiterature
URL:https://rutherfordconnect.com/event/mid-day-miracles/2026-05-01/
LOCATION:Rutherfordton Presbyterian Church\, 252 N Washington St\, Rutherfordton\, NC\, 28139\, United States
CATEGORIES:Faith-Based Support Groups,Mental Health & Recovery Support Events,Substance Use Recovery Meetings
END:VEVENT
BEGIN:VEVENT
DTSTART;TZID=America/New_York:20260501T130000
DTEND;TZID=America/New_York:20260501T140000
DTSTAMP:20260422T125123
CREATED:20251003T175800Z
LAST-MODIFIED:20251003T175800Z
UID:10014573-1777640400-1777644000@rutherfordconnect.com
SUMMARY:Men's Recovery Group
DESCRIPTION:Where men in any stage of recovery can connect\, share\, and grow. \n648 Withrow Rd\, Forest City\, NC 28043 \n828-286-3929
URL:https://rutherfordconnect.com/event/mens-recovery-group/2026-05-01/
LOCATION:United Way of Rutherford County\, 668 Withrow Rd\, Forest City\, NC\, 28043\, United States
CATEGORIES:Mental Health & Recovery Support Events
ORGANIZER;CN="United Way of Rutherford County":MAILTO:bdblack59@uwrcinc.org
END:VEVENT
BEGIN:VEVENT
DTSTART;TZID=America/New_York:20260501T190000
DTEND;TZID=America/New_York:20260501T200000
DTSTAMP:20260422T125123
CREATED:20250725T155321Z
LAST-MODIFIED:20250725T160358Z
UID:10007926-1777662000-1777665600@rutherfordconnect.com
SUMMARY:Forest City Group (AA meeting)
DESCRIPTION:Alcoholics Anonymous meeting \nBig Book\nClosed\nIn-person
URL:https://rutherfordconnect.com/event/forest-city-group-aa-meeting/2026-05-01/
LOCATION:First Presbyterian Church\, 438 W Main St\, Forest City\, NC\, 28043\, United States
CATEGORIES:Faith-Based Support Groups,Mental Health & Recovery Support Events,Substance Use Recovery Meetings
END:VEVENT
BEGIN:VEVENT
DTSTART;TZID=America/New_York:20260501T200000
DTEND;TZID=America/New_York:20260501T210000
DTSTAMP:20260422T125123
CREATED:20250725T155659Z
LAST-MODIFIED:20250725T161128Z
UID:10008187-1777665600-1777669200@rutherfordconnect.com
SUMMARY:Out of the Ashes Group (AA meeting)
DESCRIPTION:Alcoholics Anonymous meeting \nDiscussion\nIn-person\nNewcomer\nOpen
URL:https://rutherfordconnect.com/event/out-of-the-ashes-group-aa-meeting/2026-05-01/
LOCATION:Out of the Ashes\, 131 Countryside Dr\, Forest City\, NC\, 28043\, United States
CATEGORIES:Faith-Based Support Groups,Mental Health & Recovery Support Events,Substance Use Recovery Meetings
END:VEVENT
BEGIN:VEVENT
DTSTART;TZID=America/New_York:20260502T120000
DTEND;TZID=America/New_York:20260502T130000
DTSTAMP:20260422T125123
CREATED:20250725T160053Z
LAST-MODIFIED:20250725T160500Z
UID:10008448-1777723200-1777726800@rutherfordconnect.com
SUMMARY:ODAT Group (AA meeting)
DESCRIPTION:Alcoholics Anonymous meeting \nDiscussion\nIn-person\nOpen
URL:https://rutherfordconnect.com/event/odat-group-aa-meeting/2026-05-02/
LOCATION:Perry Moore House\, 278 N Main St\, Rutherfordton\, NC\, 28139\, United States
CATEGORIES:Faith-Based Support Groups,Mental Health & Recovery Support Events,Substance Use Recovery Meetings
END:VEVENT
BEGIN:VEVENT
DTSTART;TZID=America/New_York:20260503T180000
DTEND;TZID=America/New_York:20260503T190000
DTSTAMP:20260422T125123
CREATED:20250725T160239Z
LAST-MODIFIED:20250725T161051Z
UID:10008709-1777831200-1777834800@rutherfordconnect.com
SUMMARY:Promises Group (AA meeting)
DESCRIPTION:Alcoholics Anonymous meeting \nBig Book\nIn-person\nOpen
URL:https://rutherfordconnect.com/event/promises-group-aa-meeting/2026-05-03/
LOCATION:Rutherfordton Presbyterian Church\, 252 N Washington St\, Rutherfordton\, NC\, 28139\, United States
CATEGORIES:Faith-Based Support Groups,Mental Health & Recovery Support Events,Substance Use Recovery Meetings
END:VEVENT
BEGIN:VEVENT
DTSTART;TZID=America/New_York:20260503T193000
DTEND;TZID=America/New_York:20260503T203000
DTSTAMP:20260422T125123
CREATED:20250725T160804Z
LAST-MODIFIED:20250725T161214Z
UID:10010054-1777836600-1777840200@rutherfordconnect.com
SUMMARY:Live & Let Live Group (AA meeting)
DESCRIPTION:Alcoholics Anonymous meeting \nDiscussion\nIn-person
URL:https://rutherfordconnect.com/event/live-let-live-group-aa-meeting/2026-05-03/
LOCATION:Immaculate Conception Catholic Church\, 1024 W Main St\, Forest City\, NC\, 28043\, United States
CATEGORIES:Faith-Based Support Groups,Mental Health & Recovery Support Events,Substance Use Recovery Meetings
END:VEVENT
BEGIN:VEVENT
DTSTART;TZID=America/New_York:20260504T100000
DTEND;TZID=America/New_York:20260504T120000
DTSTAMP:20260422T125123
CREATED:20250806T152717Z
LAST-MODIFIED:20250806T152717Z
UID:10012105-1777888800-1777896000@rutherfordconnect.com
SUMMARY:Hope. Help. Healing
DESCRIPTION:Struggling with addiction to opioids?\nRecovery starts here. \nFree medication assisted treatment for uninsured Rutherford County residents \nCall ICGH for more information about MAT and other addiction treatment services:\n828.322.5915
URL:https://rutherfordconnect.com/event/hope-help-healing/2026-05-04/
LOCATION:Harvest House Baptist Church\, 2938 Harris Henrietta Rd.\, Mooresboro\, NC\, 28114\, United States
CATEGORIES:Faith-Based Support Groups,Health & Wellness,Mental Health & Recovery Support Events,Substance Use Recovery Meetings
ORGANIZER;CN="Harvest House Baptist Church":MAILTO:hhnmerciescenter@gmail.com
END:VEVENT
BEGIN:VEVENT
DTSTART;TZID=America/New_York:20260504T100000
DTEND;TZID=America/New_York:20260504T140000
DTSTAMP:20260422T125123
CREATED:20251125T135433Z
LAST-MODIFIED:20251125T135433Z
UID:10015366-1777888800-1777903200@rutherfordconnect.com
SUMMARY:Showers of Blessing
DESCRIPTION:First Baptist Church Spindale \n871 Thunder Rd\, Spindale NC \nOffers a shower and a snack on Mondays from 10am to 2pm. \nSoap\, towel\, and wash cloth supplied
URL:https://rutherfordconnect.com/event/showers-of-blessing/2026-05-04/
LOCATION:First Baptist Church Spindale\, 871 Thunder Rd\, Spindale\, NC\, 28160\, United States
CATEGORIES:Community Support Event,Faith & Spiritual Life,Faith-Based Support Groups,Health & Wellness
END:VEVENT
BEGIN:VEVENT
DTSTART;TZID=America/New_York:20260504T110000
DTEND;TZID=America/New_York:20260504T130000
DTSTAMP:20260422T125123
CREATED:20251003T172159Z
LAST-MODIFIED:20251003T172159Z
UID:10012827-1777892400-1777899600@rutherfordconnect.com
SUMMARY:Acceptance\, Resilience\, and Togetherness (A.R.T)
DESCRIPTION:Where we can use creative expression & shared experiences to foster healing\, connection\, & personal growth. \nMondays from 11am to 1pm \n648 Withrow Rd\, Forest City\, NC 28043
URL:https://rutherfordconnect.com/event/acceptance-resilience-and-togetherness-a-r-t/2026-05-04/
LOCATION:United Way of Rutherford County\, 668 Withrow Rd\, Forest City\, NC\, 28043\, United States
CATEGORIES:Mental Health & Recovery Support Events
ORGANIZER;CN="United Way of Rutherford County":MAILTO:bdblack59@uwrcinc.org
END:VEVENT
BEGIN:VEVENT
DTSTART;TZID=America/New_York:20260504T190000
DTEND;TZID=America/New_York:20260504T200000
DTSTAMP:20260422T125123
CREATED:20250725T160928Z
LAST-MODIFIED:20250725T161322Z
UID:10008971-1777921200-1777924800@rutherfordconnect.com
SUMMARY:Sobriety & Beyond Group (AA meeting)
DESCRIPTION:Alcoholics Anonymous meeting \nDiscussion\nIn-person\nLiterature\nOpen\nWheelchair Access
URL:https://rutherfordconnect.com/event/sobriety-beyond-group-aa-meeting/2026-05-04/
LOCATION:First Presbyterian Church\, 438 W Main St\, Forest City\, NC\, 28043\, United States
CATEGORIES:Faith-Based Support Groups,Mental Health & Recovery Support Events,Substance Use Recovery Meetings
END:VEVENT
BEGIN:VEVENT
DTSTART;TZID=America/New_York:20260504T200000
DTEND;TZID=America/New_York:20260504T210000
DTSTAMP:20260422T125123
CREATED:20250803T185703Z
LAST-MODIFIED:20250803T185703Z
UID:10011061-1777924800-1777928400@rutherfordconnect.com
SUMMARY:Never too Late Group (NA meeting)
DESCRIPTION:This meeting is open to addicts and non-addicts alike. All are welcome.\n    Approved N.A. Books
URL:https://rutherfordconnect.com/event/never-too-late-group-na-meeting-2/2026-05-04/
LOCATION:Wells Spring United Methodist Church\, 201 Wells Spring Rd\, Forest City\, NC\, 28043\, United States
CATEGORIES:Faith-Based Support Groups,Mental Health & Recovery Support Events,Substance Use Recovery Meetings
END:VEVENT
BEGIN:VEVENT
DTSTART;TZID=America/New_York:20260505T100000
DTEND;TZID=America/New_York:20260505T110000
DTSTAMP:20260422T125123
CREATED:20251003T172620Z
LAST-MODIFIED:20251003T174734Z
UID:10013088-1777975200-1777978800@rutherfordconnect.com
SUMMARY:Coffee & Connection
DESCRIPTION:Coffee & morning meditation to start your day. \n648 Withrow Rd\, Forest City\, NC 28043 \n828-286-3929
URL:https://rutherfordconnect.com/event/coffee-connection/2026-05-05/
LOCATION:United Way of Rutherford County\, 668 Withrow Rd\, Forest City\, NC\, 28043\, United States
CATEGORIES:Mental Health & Recovery Support Events
ORGANIZER;CN="United Way of Rutherford County":MAILTO:bdblack59@uwrcinc.org
END:VEVENT
END:VCALENDAR