BEGIN:VCALENDAR
VERSION:2.0
PRODID:-//Rutherford Connect - ECPv6.15.20//NONSGML v1.0//EN
CALSCALE:GREGORIAN
METHOD:PUBLISH
X-ORIGINAL-URL:https://rutherfordconnect.com
X-WR-CALDESC:Events for Rutherford Connect
REFRESH-INTERVAL;VALUE=DURATION:PT1H
X-Robots-Tag:noindex
X-PUBLISHED-TTL:PT1H
BEGIN:VTIMEZONE
TZID:America/New_York
BEGIN:DAYLIGHT
TZOFFSETFROM:-0500
TZOFFSETTO:-0400
TZNAME:EDT
DTSTART:20250309T070000
END:DAYLIGHT
BEGIN:STANDARD
TZOFFSETFROM:-0400
TZOFFSETTO:-0500
TZNAME:EST
DTSTART:20251102T060000
END:STANDARD
BEGIN:DAYLIGHT
TZOFFSETFROM:-0500
TZOFFSETTO:-0400
TZNAME:EDT
DTSTART:20260308T070000
END:DAYLIGHT
BEGIN:STANDARD
TZOFFSETFROM:-0400
TZOFFSETTO:-0500
TZNAME:EST
DTSTART:20261101T060000
END:STANDARD
BEGIN:DAYLIGHT
TZOFFSETFROM:-0500
TZOFFSETTO:-0400
TZNAME:EDT
DTSTART:20270314T070000
END:DAYLIGHT
BEGIN:STANDARD
TZOFFSETFROM:-0400
TZOFFSETTO:-0500
TZNAME:EST
DTSTART:20271107T060000
END:STANDARD
END:VTIMEZONE
BEGIN:VEVENT
DTSTART;TZID=America/New_York:20260411T090000
DTEND;TZID=America/New_York:20260411T140000
DTSTAMP:20260422T045641
CREATED:20250720T124533Z
LAST-MODIFIED:20250720T124533Z
UID:10006954-1775898000-1775916000@rutherfordconnect.com
SUMMARY:Washburn Community Outreach Center Food Assistance
DESCRIPTION:Offers assistance with clothing and food. Hours of operation: 9am – 2pm\, Thursday\,\nFriday\, and Saturday.
URL:https://rutherfordconnect.com/event/washburn-community-outreach-center-food-assistance/2026-04-11/
LOCATION:Washburn Community Outreach Center\, 2934 Piney Mountain Church Rd\, Bostic\, NC\, 28018\, United States
CATEGORIES:Soup Kitchens & Free Meal Events
END:VEVENT
BEGIN:VEVENT
DTSTART;TZID=America/New_York:20260411T120000
DTEND;TZID=America/New_York:20260411T130000
DTSTAMP:20260422T045641
CREATED:20250725T160053Z
LAST-MODIFIED:20250725T160500Z
UID:10008445-1775908800-1775912400@rutherfordconnect.com
SUMMARY:ODAT Group (AA meeting)
DESCRIPTION:Alcoholics Anonymous meeting \nDiscussion\nIn-person\nOpen
URL:https://rutherfordconnect.com/event/odat-group-aa-meeting/2026-04-11/
LOCATION:Perry Moore House\, 278 N Main St\, Rutherfordton\, NC\, 28139\, United States
CATEGORIES:Faith-Based Support Groups,Mental Health & Recovery Support Events,Substance Use Recovery Meetings
END:VEVENT
BEGIN:VEVENT
DTSTART;TZID=America/New_York:20260411T160000
DTEND;TZID=America/New_York:20260411T173000
DTSTAMP:20260422T045641
CREATED:20250720T114540Z
LAST-MODIFIED:20250720T114540Z
UID:10001022-1775923200-1775928600@rutherfordconnect.com
SUMMARY:Grace of God Rescue Mission Meals
DESCRIPTION:Hot Meal Monday-Saturday 4pm-5:30pm.
URL:https://rutherfordconnect.com/event/grace-of-god-rescue-mission-meals/2026-04-11/
LOCATION:Grace of God Rescue Mission\, 537 W. Main St.\, Forest City\, NC\, 28043\, United States
CATEGORIES:Soup Kitchens & Free Meal Events
END:VEVENT
BEGIN:VEVENT
DTSTART;TZID=America/New_York:20260412T180000
DTEND;TZID=America/New_York:20260412T190000
DTSTAMP:20260422T045641
CREATED:20250725T160239Z
LAST-MODIFIED:20250725T161051Z
UID:10008706-1776016800-1776020400@rutherfordconnect.com
SUMMARY:Promises Group (AA meeting)
DESCRIPTION:Alcoholics Anonymous meeting \nBig Book\nIn-person\nOpen
URL:https://rutherfordconnect.com/event/promises-group-aa-meeting/2026-04-12/
LOCATION:Rutherfordton Presbyterian Church\, 252 N Washington St\, Rutherfordton\, NC\, 28139\, United States
CATEGORIES:Faith-Based Support Groups,Mental Health & Recovery Support Events,Substance Use Recovery Meetings
END:VEVENT
BEGIN:VEVENT
DTSTART;TZID=America/New_York:20260412T193000
DTEND;TZID=America/New_York:20260412T203000
DTSTAMP:20260422T045641
CREATED:20250725T160804Z
LAST-MODIFIED:20250725T161214Z
UID:10010048-1776022200-1776025800@rutherfordconnect.com
SUMMARY:Live & Let Live Group (AA meeting)
DESCRIPTION:Alcoholics Anonymous meeting \nDiscussion\nIn-person
URL:https://rutherfordconnect.com/event/live-let-live-group-aa-meeting/2026-04-12/
LOCATION:Immaculate Conception Catholic Church\, 1024 W Main St\, Forest City\, NC\, 28043\, United States
CATEGORIES:Faith-Based Support Groups,Mental Health & Recovery Support Events,Substance Use Recovery Meetings
END:VEVENT
BEGIN:VEVENT
DTSTART;TZID=America/New_York:20260413T080000
DTEND;TZID=America/New_York:20260413T170000
DTSTAMP:20260422T045641
CREATED:20250720T122956Z
LAST-MODIFIED:20250720T122956Z
UID:10004160-1776067200-1776099600@rutherfordconnect.com
SUMMARY:Congregant Meals
DESCRIPTION:Home Delivered Meals – Seniors over 60.\nCongregant Meals – register at least one day in advance. Meals provided at 193 Callahan-\nKoon Road. Congregant meals offered Monday through Friday. Call to register.\nCommodities Supplemental Food Program (CSFP)\nFood assistance for seniors ages 60 and up. Call to register.
URL:https://rutherfordconnect.com/event/congregant-meals/2026-04-13/
LOCATION:Rutherford County Senior Center\, 193 Callahan-Koon Rd\, Spindale\, NC\, 28160\, United States
CATEGORIES:Soup Kitchens & Free Meal Events
END:VEVENT
BEGIN:VEVENT
DTSTART;TZID=America/New_York:20260413T080000
DTEND;TZID=America/New_York:20260413T170000
DTSTAMP:20260422T045641
CREATED:20260105T183624Z
LAST-MODIFIED:20260105T183624Z
UID:10015674-1776067200-1776099600@rutherfordconnect.com
SUMMARY:Welcome Table Community Meal
DESCRIPTION:Come enjoy a free hot meal served by local Rutherfordton Churches and Ruff’ton Roots.  All all welcome!  Meals served 5-6:30 pm each Monday following the county school calendar.
URL:https://rutherfordconnect.com/event/welcome-table-community-meal/2026-04-13/1/
LOCATION:First United Methodist Church of Rutherfordton\, 264 N Main St\, Rutherfordton\, 28139
CATEGORIES:Faith-Based Support Groups,Soup Kitchens & Free Meal Events
END:VEVENT
BEGIN:VEVENT
DTSTART;TZID=America/New_York:20260413T100000
DTEND;TZID=America/New_York:20260413T120000
DTSTAMP:20260422T045641
CREATED:20250806T152717Z
LAST-MODIFIED:20250806T152717Z
UID:10012102-1776074400-1776081600@rutherfordconnect.com
SUMMARY:Hope. Help. Healing
DESCRIPTION:Struggling with addiction to opioids?\nRecovery starts here. \nFree medication assisted treatment for uninsured Rutherford County residents \nCall ICGH for more information about MAT and other addiction treatment services:\n828.322.5915
URL:https://rutherfordconnect.com/event/hope-help-healing/2026-04-13/
LOCATION:Harvest House Baptist Church\, 2938 Harris Henrietta Rd.\, Mooresboro\, NC\, 28114\, United States
CATEGORIES:Faith-Based Support Groups,Health & Wellness,Mental Health & Recovery Support Events,Substance Use Recovery Meetings
ORGANIZER;CN="Harvest House Baptist Church":MAILTO:hhnmerciescenter@gmail.com
END:VEVENT
BEGIN:VEVENT
DTSTART;TZID=America/New_York:20260413T100000
DTEND;TZID=America/New_York:20260413T140000
DTSTAMP:20260422T045641
CREATED:20251125T135433Z
LAST-MODIFIED:20251125T135433Z
UID:10015363-1776074400-1776088800@rutherfordconnect.com
SUMMARY:Showers of Blessing
DESCRIPTION:First Baptist Church Spindale \n871 Thunder Rd\, Spindale NC \nOffers a shower and a snack on Mondays from 10am to 2pm. \nSoap\, towel\, and wash cloth supplied
URL:https://rutherfordconnect.com/event/showers-of-blessing/2026-04-13/
LOCATION:First Baptist Church Spindale\, 871 Thunder Rd\, Spindale\, NC\, 28160\, United States
CATEGORIES:Community Support Event,Faith & Spiritual Life,Faith-Based Support Groups,Health & Wellness
END:VEVENT
BEGIN:VEVENT
DTSTART;TZID=America/New_York:20260413T100000
DTEND;TZID=America/New_York:20260413T160000
DTSTAMP:20260422T045641
CREATED:20250720T120524Z
LAST-MODIFIED:20250720T120524Z
UID:10002596-1776074400-1776096000@rutherfordconnect.com
SUMMARY:Hickory Nut Gorge Outreach Food Pantry
DESCRIPTION:Helping Relieve Hunger at Home in our Community.\nHours of Operation: Monday\, Thursday\, Friday 10:00-4:00.
URL:https://rutherfordconnect.com/event/hickory-nut-gorge-outreach-food-pantry/2026-04-13/
LOCATION:Hickory Nut Gorge Outreach\, 2556 Memorial Highway\, Lake Lure\, NC\, 28746\, United States
CATEGORIES:Soup Kitchens & Free Meal Events
END:VEVENT
BEGIN:VEVENT
DTSTART;TZID=America/New_York:20260413T110000
DTEND;TZID=America/New_York:20260413T130000
DTSTAMP:20260422T045641
CREATED:20251003T172159Z
LAST-MODIFIED:20251003T172159Z
UID:10012824-1776078000-1776085200@rutherfordconnect.com
SUMMARY:Acceptance\, Resilience\, and Togetherness (A.R.T)
DESCRIPTION:Where we can use creative expression & shared experiences to foster healing\, connection\, & personal growth. \nMondays from 11am to 1pm \n648 Withrow Rd\, Forest City\, NC 28043
URL:https://rutherfordconnect.com/event/acceptance-resilience-and-togetherness-a-r-t/2026-04-13/
LOCATION:United Way of Rutherford County\, 668 Withrow Rd\, Forest City\, NC\, 28043\, United States
CATEGORIES:Mental Health & Recovery Support Events
ORGANIZER;CN="United Way of Rutherford County":MAILTO:bdblack59@uwrcinc.org
END:VEVENT
BEGIN:VEVENT
DTSTART;TZID=America/New_York:20260413T160000
DTEND;TZID=America/New_York:20260413T173000
DTSTAMP:20260422T045641
CREATED:20250720T114540Z
LAST-MODIFIED:20250720T114540Z
UID:10001023-1776096000-1776101400@rutherfordconnect.com
SUMMARY:Grace of God Rescue Mission Meals
DESCRIPTION:Hot Meal Monday-Saturday 4pm-5:30pm.
URL:https://rutherfordconnect.com/event/grace-of-god-rescue-mission-meals/2026-04-13/
LOCATION:Grace of God Rescue Mission\, 537 W. Main St.\, Forest City\, NC\, 28043\, United States
CATEGORIES:Soup Kitchens & Free Meal Events
END:VEVENT
BEGIN:VEVENT
DTSTART;TZID=America/New_York:20260413T170000
DTEND;TZID=America/New_York:20260413T183000
DTSTAMP:20260422T045641
CREATED:20260105T183624Z
LAST-MODIFIED:20260105T183624Z
UID:10015622-1776099600-1776105000@rutherfordconnect.com
SUMMARY:Welcome Table Community Meal
DESCRIPTION:Come enjoy a free hot meal served by local Rutherfordton Churches and Ruff’ton Roots.  All all welcome!  Meals served 5-6:30 pm each Monday following the county school calendar.
URL:https://rutherfordconnect.com/event/welcome-table-community-meal/2026-04-13/2/
LOCATION:First United Methodist Church of Rutherfordton\, 264 N Main St\, Rutherfordton\, 28139
CATEGORIES:Faith-Based Support Groups,Soup Kitchens & Free Meal Events
END:VEVENT
BEGIN:VEVENT
DTSTART;TZID=America/New_York:20260413T180000
DTEND;TZID=America/New_York:20260413T190000
DTSTAMP:20260422T045641
CREATED:20260309T164214Z
LAST-MODIFIED:20260309T164214Z
UID:10015730-1776103200-1776106800@rutherfordconnect.com
SUMMARY:096 Annual Meeting
DESCRIPTION: 
URL:https://rutherfordconnect.com/event/096-annual-meeting/
LOCATION:Rutherford County Library\, 145 College Avenue\, Rutherfordton\, NC\, 28139\, United States
CATEGORIES:Faith & Spiritual Life,Faith-Based Support Groups,Nonprofit Events & Fundraisers
END:VEVENT
BEGIN:VEVENT
DTSTART;TZID=America/New_York:20260413T180000
DTEND;TZID=America/New_York:20260413T193000
DTSTAMP:20260422T045641
CREATED:20251029T171018Z
LAST-MODIFIED:20251029T171018Z
UID:10015093-1776103200-1776108600@rutherfordconnect.com
SUMMARY:P.A.L.s (Parents of Addicted Loved Ones)
DESCRIPTION:Support group for parents of loved ones struggling with addiction.
URL:https://rutherfordconnect.com/event/p-a-l-s-parents-of-addicted-loved-ones/2026-04-13/
LOCATION:Adaville Baptist Church\, 805 Oakland Rd\, Spindale\, NC\, 28160\, United States
CATEGORIES:Faith-Based Support Groups
END:VEVENT
BEGIN:VEVENT
DTSTART;TZID=America/New_York:20260413T190000
DTEND;TZID=America/New_York:20260413T200000
DTSTAMP:20260422T045641
CREATED:20250725T160928Z
LAST-MODIFIED:20250725T161322Z
UID:10008968-1776106800-1776110400@rutherfordconnect.com
SUMMARY:Sobriety & Beyond Group (AA meeting)
DESCRIPTION:Alcoholics Anonymous meeting \nDiscussion\nIn-person\nLiterature\nOpen\nWheelchair Access
URL:https://rutherfordconnect.com/event/sobriety-beyond-group-aa-meeting/2026-04-13/
LOCATION:First Presbyterian Church\, 438 W Main St\, Forest City\, NC\, 28043\, United States
CATEGORIES:Faith-Based Support Groups,Mental Health & Recovery Support Events,Substance Use Recovery Meetings
END:VEVENT
BEGIN:VEVENT
DTSTART;TZID=America/New_York:20260413T200000
DTEND;TZID=America/New_York:20260413T210000
DTSTAMP:20260422T045641
CREATED:20250803T185703Z
LAST-MODIFIED:20250803T185703Z
UID:10011058-1776110400-1776114000@rutherfordconnect.com
SUMMARY:Never too Late Group (NA meeting)
DESCRIPTION:This meeting is open to addicts and non-addicts alike. All are welcome.\n    Approved N.A. Books
URL:https://rutherfordconnect.com/event/never-too-late-group-na-meeting-2/2026-04-13/
LOCATION:Wells Spring United Methodist Church\, 201 Wells Spring Rd\, Forest City\, NC\, 28043\, United States
CATEGORIES:Faith-Based Support Groups,Mental Health & Recovery Support Events,Substance Use Recovery Meetings
END:VEVENT
BEGIN:VEVENT
DTSTART;TZID=America/New_York:20260414T080000
DTEND;TZID=America/New_York:20260414T170000
DTSTAMP:20260422T045641
CREATED:20250720T122956Z
LAST-MODIFIED:20250720T122956Z
UID:10004161-1776153600-1776186000@rutherfordconnect.com
SUMMARY:Congregant Meals
DESCRIPTION:Home Delivered Meals – Seniors over 60.\nCongregant Meals – register at least one day in advance. Meals provided at 193 Callahan-\nKoon Road. Congregant meals offered Monday through Friday. Call to register.\nCommodities Supplemental Food Program (CSFP)\nFood assistance for seniors ages 60 and up. Call to register.
URL:https://rutherfordconnect.com/event/congregant-meals/2026-04-14/
LOCATION:Rutherford County Senior Center\, 193 Callahan-Koon Rd\, Spindale\, NC\, 28160\, United States
CATEGORIES:Soup Kitchens & Free Meal Events
END:VEVENT
BEGIN:VEVENT
DTSTART;TZID=America/New_York:20260414T100000
DTEND;TZID=America/New_York:20260414T110000
DTSTAMP:20260422T045641
CREATED:20251003T172620Z
LAST-MODIFIED:20251003T174734Z
UID:10013085-1776160800-1776164400@rutherfordconnect.com
SUMMARY:Coffee & Connection
DESCRIPTION:Coffee & morning meditation to start your day. \n648 Withrow Rd\, Forest City\, NC 28043 \n828-286-3929
URL:https://rutherfordconnect.com/event/coffee-connection/2026-04-14/
LOCATION:United Way of Rutherford County\, 668 Withrow Rd\, Forest City\, NC\, 28043\, United States
CATEGORIES:Mental Health & Recovery Support Events
ORGANIZER;CN="United Way of Rutherford County":MAILTO:bdblack59@uwrcinc.org
END:VEVENT
BEGIN:VEVENT
DTSTART;TZID=America/New_York:20260414T100000
DTEND;TZID=America/New_York:20260414T170000
DTSTAMP:20260422T045641
CREATED:20250720T123541Z
LAST-MODIFIED:20250720T123541Z
UID:10005427-1776160800-1776186000@rutherfordconnect.com
SUMMARY:Salvation Army Food Assistance
DESCRIPTION:Food assistance. Tuesday-Friday 10am-5pm.
URL:https://rutherfordconnect.com/event/salvation-army-food-assistance/2026-04-14/
LOCATION:Salvation Army\, 256 Main Street\, Forest City\, NC\, 28043\, United States
CATEGORIES:Soup Kitchens & Free Meal Events
END:VEVENT
BEGIN:VEVENT
DTSTART;TZID=America/New_York:20260414T150000
DTEND;TZID=America/New_York:20260414T180000
DTSTAMP:20260422T045641
CREATED:20250720T122424Z
LAST-MODIFIED:20250720T122424Z
UID:10003747-1776178800-1776189600@rutherfordconnect.com
SUMMARY:Red Bird Food Pantry
DESCRIPTION:Food assistance: Tuesdays from 3 – 6 pm.
URL:https://rutherfordconnect.com/event/red-bird-food-pantry/2026-04-14/
LOCATION:Mountain Creek Baptist Church\, 710 Mountain Creek Road\, Rutherfordton\, NC\, 28139\, United States
CATEGORIES:Soup Kitchens & Free Meal Events
END:VEVENT
BEGIN:VEVENT
DTSTART;TZID=America/New_York:20260414T160000
DTEND;TZID=America/New_York:20260414T173000
DTSTAMP:20260422T045641
CREATED:20250720T114540Z
LAST-MODIFIED:20250720T114540Z
UID:10001024-1776182400-1776187800@rutherfordconnect.com
SUMMARY:Grace of God Rescue Mission Meals
DESCRIPTION:Hot Meal Monday-Saturday 4pm-5:30pm.
URL:https://rutherfordconnect.com/event/grace-of-god-rescue-mission-meals/2026-04-14/
LOCATION:Grace of God Rescue Mission\, 537 W. Main St.\, Forest City\, NC\, 28043\, United States
CATEGORIES:Soup Kitchens & Free Meal Events
END:VEVENT
BEGIN:VEVENT
DTSTART;TZID=America/New_York:20260414T180000
DTEND;TZID=America/New_York:20260414T190000
DTSTAMP:20260422T045641
CREATED:20250725T160239Z
LAST-MODIFIED:20250725T161051Z
UID:10009266-1776189600-1776193200@rutherfordconnect.com
SUMMARY:Promises Group (AA meeting)
DESCRIPTION:Alcoholics Anonymous meeting \nBig Book\nIn-person\nOpen
URL:https://rutherfordconnect.com/event/promises-group-aa-meeting/2026-04-14/
LOCATION:Rutherfordton Presbyterian Church\, 252 N Washington St\, Rutherfordton\, NC\, 28139\, United States
CATEGORIES:Faith-Based Support Groups,Mental Health & Recovery Support Events,Substance Use Recovery Meetings
END:VEVENT
BEGIN:VEVENT
DTSTART;TZID=America/New_York:20260414T183000
DTEND;TZID=America/New_York:20260414T193000
DTSTAMP:20260422T045641
CREATED:20251003T172956Z
LAST-MODIFIED:20251003T172956Z
UID:10013346-1776191400-1776195000@rutherfordconnect.com
SUMMARY:Parents' Circle
DESCRIPTION:A safe place for parents whose children experience addiction &/or incarceration. \n648 Withrow Rd\, Forest City\, NC 28043 \n828-286-3929
URL:https://rutherfordconnect.com/event/parents-circle/2026-04-14/
LOCATION:United Way of Rutherford County\, 668 Withrow Rd\, Forest City\, NC\, 28043\, United States
CATEGORIES:Mental Health & Recovery Support Events
ORGANIZER;CN="United Way of Rutherford County":MAILTO:bdblack59@uwrcinc.org
END:VEVENT
BEGIN:VEVENT
DTSTART;TZID=America/New_York:20260414T200000
DTEND;TZID=America/New_York:20260414T210000
DTSTAMP:20260422T045641
CREATED:20250803T185538Z
LAST-MODIFIED:20250803T185538Z
UID:10010797-1776196800-1776200400@rutherfordconnect.com
SUMMARY:Never too Late Group (NA meeting)
DESCRIPTION:This meeting is open to addicts and non-addicts alike. All are welcome.\nThis meeting is focused on discussion of the Basic Text of Narcotics Anonymous.\nThis meeting invites participation by all attendees.
URL:https://rutherfordconnect.com/event/never-too-late-group-na-meeting/2026-04-14/
LOCATION:Wells Spring United Methodist Church\, 201 Wells Spring Rd\, Forest City\, NC\, 28043\, United States
CATEGORIES:Faith-Based Support Groups,Mental Health & Recovery Support Events,Substance Use Recovery Meetings
END:VEVENT
BEGIN:VEVENT
DTSTART;TZID=America/New_York:20260415T080000
DTEND;TZID=America/New_York:20260415T170000
DTSTAMP:20260422T045641
CREATED:20250720T122956Z
LAST-MODIFIED:20250720T122956Z
UID:10004162-1776240000-1776272400@rutherfordconnect.com
SUMMARY:Congregant Meals
DESCRIPTION:Home Delivered Meals – Seniors over 60.\nCongregant Meals – register at least one day in advance. Meals provided at 193 Callahan-\nKoon Road. Congregant meals offered Monday through Friday. Call to register.\nCommodities Supplemental Food Program (CSFP)\nFood assistance for seniors ages 60 and up. Call to register.
URL:https://rutherfordconnect.com/event/congregant-meals/2026-04-15/
LOCATION:Rutherford County Senior Center\, 193 Callahan-Koon Rd\, Spindale\, NC\, 28160\, United States
CATEGORIES:Soup Kitchens & Free Meal Events
END:VEVENT
BEGIN:VEVENT
DTSTART;TZID=America/New_York:20260415T090000
DTEND;TZID=America/New_York:20260415T140000
DTSTAMP:20260422T045641
CREATED:20250720T114142Z
LAST-MODIFIED:20250720T114142Z
UID:10000572-1776243600-1776261600@rutherfordconnect.com
SUMMARY:Chase Corner Ministries Food Pantry
DESCRIPTION:Emergency assistance for food\, clothing\, utility\, rent\nand medication assistance once every 6 months.\nEmergency Food Pantry: Monday\, Tuesday\, Thursday\, Friday from 9:00am – 2:00pm.\nWednesday food distribution from 9:00am – 2:00pm.
URL:https://rutherfordconnect.com/event/chase-corner-ministries-food-pantry/2026-04-15/
LOCATION:Chase Corner Ministries\, 1604 Chase High Road\, Forest City\, NC\, 28043\, United States
CATEGORIES:Soup Kitchens & Free Meal Events
END:VEVENT
BEGIN:VEVENT
DTSTART;TZID=America/New_York:20260415T100000
DTEND;TZID=America/New_York:20260415T120000
DTSTAMP:20260422T045641
CREATED:20250720T124208Z
LAST-MODIFIED:20250720T124208Z
UID:10006618-1776247200-1776254400@rutherfordconnect.com
SUMMARY:Jericho Road Soup Kitchen
DESCRIPTION:Jericho Road Soup Kitchen – serves a free meal every Wednesday from 10:00 am\nto 12:00 pm.
URL:https://rutherfordconnect.com/event/jericho-road-soup-kitchen/2026-04-15/
LOCATION:St. Gabriel Episcopal Church\, 264 N. Ridgecrest Ave.\, Rutherfordton\, NC\, 28139\, United States
CATEGORIES:Soup Kitchens & Free Meal Events
END:VEVENT
BEGIN:VEVENT
DTSTART;TZID=America/New_York:20260415T100000
DTEND;TZID=America/New_York:20260415T170000
DTSTAMP:20260422T045641
CREATED:20250720T123541Z
LAST-MODIFIED:20250720T123541Z
UID:10005428-1776247200-1776272400@rutherfordconnect.com
SUMMARY:Salvation Army Food Assistance
DESCRIPTION:Food assistance. Tuesday-Friday 10am-5pm.
URL:https://rutherfordconnect.com/event/salvation-army-food-assistance/2026-04-15/
LOCATION:Salvation Army\, 256 Main Street\, Forest City\, NC\, 28043\, United States
CATEGORIES:Soup Kitchens & Free Meal Events
END:VEVENT
BEGIN:VEVENT
DTSTART;TZID=America/New_York:20260415T110000
DTEND;TZID=America/New_York:20260415T160000
DTSTAMP:20260422T045641
CREATED:20250720T123846Z
LAST-MODIFIED:20250720T123846Z
UID:10006357-1776250800-1776268800@rutherfordconnect.com
SUMMARY:The Source Ministries / Loving Arms Ministry
DESCRIPTION:Food distribution on Wednesdays from 11:00am – 4:00pm. Clothing\, baby products\,\nhygiene products.
URL:https://rutherfordconnect.com/event/the-source-ministries-loving-arms-ministry/2026-04-15/
LOCATION:The Source Ministries\, 661 W Main St\, Forest City\, NC\, 28043\, United States
CATEGORIES:Soup Kitchens & Free Meal Events
END:VEVENT
END:VCALENDAR