BEGIN:VCALENDAR
VERSION:2.0
PRODID:-//Rutherford Connect - ECPv6.15.20//NONSGML v1.0//EN
CALSCALE:GREGORIAN
METHOD:PUBLISH
X-WR-CALNAME:Rutherford Connect
X-ORIGINAL-URL:https://rutherfordconnect.com
X-WR-CALDESC:Events for Rutherford Connect
REFRESH-INTERVAL;VALUE=DURATION:PT1H
X-Robots-Tag:noindex
X-PUBLISHED-TTL:PT1H
BEGIN:VTIMEZONE
TZID:America/New_York
BEGIN:DAYLIGHT
TZOFFSETFROM:-0500
TZOFFSETTO:-0400
TZNAME:EDT
DTSTART:20250309T070000
END:DAYLIGHT
BEGIN:STANDARD
TZOFFSETFROM:-0400
TZOFFSETTO:-0500
TZNAME:EST
DTSTART:20251102T060000
END:STANDARD
BEGIN:DAYLIGHT
TZOFFSETFROM:-0500
TZOFFSETTO:-0400
TZNAME:EDT
DTSTART:20260308T070000
END:DAYLIGHT
BEGIN:STANDARD
TZOFFSETFROM:-0400
TZOFFSETTO:-0500
TZNAME:EST
DTSTART:20261101T060000
END:STANDARD
BEGIN:DAYLIGHT
TZOFFSETFROM:-0500
TZOFFSETTO:-0400
TZNAME:EDT
DTSTART:20270314T070000
END:DAYLIGHT
BEGIN:STANDARD
TZOFFSETFROM:-0400
TZOFFSETTO:-0500
TZNAME:EST
DTSTART:20271107T060000
END:STANDARD
END:VTIMEZONE
BEGIN:VEVENT
DTSTART;TZID=America/New_York:20260227T090000
DTEND;TZID=America/New_York:20260227T140000
DTSTAMP:20260425T082058
CREATED:20250720T124533Z
LAST-MODIFIED:20250720T124533Z
UID:10006935-1772182800-1772200800@rutherfordconnect.com
SUMMARY:Washburn Community Outreach Center Food Assistance
DESCRIPTION:Offers assistance with clothing and food. Hours of operation: 9am – 2pm\, Thursday\,\nFriday\, and Saturday.
URL:https://rutherfordconnect.com/event/washburn-community-outreach-center-food-assistance/2026-02-27/
LOCATION:Washburn Community Outreach Center\, 2934 Piney Mountain Church Rd\, Bostic\, NC\, 28018\, United States
CATEGORIES:Soup Kitchens & Free Meal Events
END:VEVENT
BEGIN:VEVENT
DTSTART;TZID=America/New_York:20260227T080000
DTEND;TZID=America/New_York:20260227T170000
DTSTAMP:20260425T082058
CREATED:20250720T122956Z
LAST-MODIFIED:20250720T122956Z
UID:10004129-1772179200-1772211600@rutherfordconnect.com
SUMMARY:Congregant Meals
DESCRIPTION:Home Delivered Meals – Seniors over 60.\nCongregant Meals – register at least one day in advance. Meals provided at 193 Callahan-\nKoon Road. Congregant meals offered Monday through Friday. Call to register.\nCommodities Supplemental Food Program (CSFP)\nFood assistance for seniors ages 60 and up. Call to register.
URL:https://rutherfordconnect.com/event/congregant-meals/2026-02-27/
LOCATION:Rutherford County Senior Center\, 193 Callahan-Koon Rd\, Spindale\, NC\, 28160\, United States
CATEGORIES:Soup Kitchens & Free Meal Events
END:VEVENT
BEGIN:VEVENT
DTSTART;TZID=America/New_York:20260226T200000
DTEND;TZID=America/New_York:20260226T210000
DTSTAMP:20260425T082058
CREATED:20250803T190135Z
LAST-MODIFIED:20250803T190135Z
UID:10011573-1772136000-1772139600@rutherfordconnect.com
SUMMARY:Never too Late Group (NA meeting)
DESCRIPTION:This meeting is open to addicts and non-addicts alike. All are welcome.\n    This meeting invites participation by all attendees.
URL:https://rutherfordconnect.com/event/never-too-late-group-na-meeting-4/2026-02-26/
LOCATION:Bethel Baptist Church\, 479 Main St\, Ellenboro\, NC\, 28040\, United States
CATEGORIES:Faith-Based Support Groups,Mental Health & Recovery Support Events,Substance Use Recovery Meetings
END:VEVENT
BEGIN:VEVENT
DTSTART;TZID=America/New_York:20260226T193000
DTEND;TZID=America/New_York:20260226T203000
DTSTAMP:20260425T082058
CREATED:20250725T160804Z
LAST-MODIFIED:20250725T161214Z
UID:10010035-1772134200-1772137800@rutherfordconnect.com
SUMMARY:Live & Let Live Group (AA meeting)
DESCRIPTION:Alcoholics Anonymous meeting \nDiscussion\nIn-person
URL:https://rutherfordconnect.com/event/live-let-live-group-aa-meeting/2026-02-26/
LOCATION:Immaculate Conception Catholic Church\, 1024 W Main St\, Forest City\, NC\, 28043\, United States
CATEGORIES:Faith-Based Support Groups,Mental Health & Recovery Support Events,Substance Use Recovery Meetings
END:VEVENT
BEGIN:VEVENT
DTSTART;TZID=America/New_York:20260226T190000
DTEND;TZID=America/New_York:20260226T200000
DTSTAMP:20260425T082058
CREATED:20250725T160928Z
LAST-MODIFIED:20250725T161322Z
UID:10010526-1772132400-1772136000@rutherfordconnect.com
SUMMARY:Sobriety & Beyond Group (AA meeting)
DESCRIPTION:Alcoholics Anonymous meeting \nDiscussion\nIn-person\nLiterature\nOpen\nWheelchair Access
URL:https://rutherfordconnect.com/event/sobriety-beyond-group-aa-meeting/2026-02-26/
LOCATION:First Presbyterian Church\, 438 W Main St\, Forest City\, NC\, 28043\, United States
CATEGORIES:Faith-Based Support Groups,Mental Health & Recovery Support Events,Substance Use Recovery Meetings
END:VEVENT
BEGIN:VEVENT
DTSTART;TZID=America/New_York:20260226T163000
DTEND;TZID=America/New_York:20260226T180000
DTSTAMP:20260425T082058
CREATED:20250720T121851Z
LAST-MODIFIED:20250720T121851Z
UID:10003479-1772123400-1772128800@rutherfordconnect.com
SUMMARY:New Beginnings Soup Kitchen
DESCRIPTION:Thursday 4:30-6:00 PM Take Out Only/Soup Kitchen
URL:https://rutherfordconnect.com/event/new-beginnings-soup-kitchen/2026-02-26/
LOCATION:New Beginnings Soup Kitchen\, 668 N. Washington St\, Rutherfordton\, NC\, 28139\, United States
CATEGORIES:Soup Kitchens & Free Meal Events
END:VEVENT
BEGIN:VEVENT
DTSTART;TZID=America/New_York:20260226T160000
DTEND;TZID=America/New_York:20260226T173000
DTSTAMP:20260425T082058
CREATED:20250720T114540Z
LAST-MODIFIED:20250720T114540Z
UID:10000984-1772121600-1772127000@rutherfordconnect.com
SUMMARY:Grace of God Rescue Mission Meals
DESCRIPTION:Hot Meal Monday-Saturday 4pm-5:30pm.
URL:https://rutherfordconnect.com/event/grace-of-god-rescue-mission-meals/2026-02-26/
LOCATION:Grace of God Rescue Mission\, 537 W. Main St.\, Forest City\, NC\, 28043\, United States
CATEGORIES:Soup Kitchens & Free Meal Events
END:VEVENT
BEGIN:VEVENT
DTSTART;TZID=America/New_York:20260226T160000
DTEND;TZID=America/New_York:20260226T170000
DTSTAMP:20260425T082058
CREATED:20250720T120128Z
LAST-MODIFIED:20250720T120128Z
UID:10002429-1772121600-1772125200@rutherfordconnect.com
SUMMARY:GrahamTown Community Center Meals
DESCRIPTION:Food assistance. 2nd and 4th Thursday of each month.\n4:00-5:00 pm.
URL:https://rutherfordconnect.com/event/grahamtown-community-center-meals-2/2026-02-26/
LOCATION:GrahamTown Community Center\, 129 1st Street\, Forest City\, NC\, 28043\, United States
CATEGORIES:Soup Kitchens & Free Meal Events
END:VEVENT
BEGIN:VEVENT
DTSTART;TZID=America/New_York:20260226T153000
DTEND;TZID=America/New_York:20260226T180000
DTSTAMP:20260425T082058
CREATED:20250920T211824Z
LAST-MODIFIED:20250920T211824Z
UID:10012751-1772119800-1772128800@rutherfordconnect.com
SUMMARY:HOPEworks Afterschool Program
DESCRIPTION:Hopeworks is for any students 5th-12th grade. This program is FREE and designed to inspire students to become community leaders. In addition\, students can. get help with homework and assignments in a safe and positive environment. \nOur 5th-8th graders meet on Wednesdays\nOur 9th-12th graders meet on Thursdays.\nThis occurs weekly\, 3:30-6:00pm at The Blue Ridge Village\n654 W. Main St in Forest City
URL:https://rutherfordconnect.com/event/hopeworks-afterschool-program/2026-02-26/
LOCATION:Blue Ridge Hope Village\, 654 West Main St\, Forest City\, NC\, 28043\, United States
CATEGORIES:Youth Camps & After-School Programs
ATTACH;FMTTYPE=image/png:https://rutherfordconnect.com/wp-content/uploads/2025/09/Fall-25-HW-schedule-1-1.png
END:VEVENT
BEGIN:VEVENT
DTSTART;TZID=America/New_York:20260226T123000
DTEND;TZID=America/New_York:20260226T133000
DTSTAMP:20260425T082058
CREATED:20251003T175018Z
LAST-MODIFIED:20251003T175018Z
UID:10014302-1772109000-1772112600@rutherfordconnect.com
SUMMARY:Thrive Together Group (Narcotics Anonymous)
DESCRIPTION:Thrive Together Group (NA) \n648 Withrow Rd\, Forest City\, NC 28043 \n828-286-3929 \n 
URL:https://rutherfordconnect.com/event/thrive-together-group-narcotics-anonymous/2026-02-26/
LOCATION:United Way of Rutherford County\, 668 Withrow Rd\, Forest City\, NC\, 28043\, United States
CATEGORIES:Mental Health & Recovery Support Events,Substance Use Recovery Meetings
ORGANIZER;CN="United Way of Rutherford County":MAILTO:bdblack59@uwrcinc.org
END:VEVENT
BEGIN:VEVENT
DTSTART;TZID=America/New_York:20260226T100000
DTEND;TZID=America/New_York:20260226T170000
DTSTAMP:20260425T082058
CREATED:20250720T123541Z
LAST-MODIFIED:20250720T123541Z
UID:10005401-1772100000-1772125200@rutherfordconnect.com
SUMMARY:Salvation Army Food Assistance
DESCRIPTION:Food assistance. Tuesday-Friday 10am-5pm.
URL:https://rutherfordconnect.com/event/salvation-army-food-assistance/2026-02-26/
LOCATION:Salvation Army\, 256 Main Street\, Forest City\, NC\, 28043\, United States
CATEGORIES:Soup Kitchens & Free Meal Events
END:VEVENT
BEGIN:VEVENT
DTSTART;TZID=America/New_York:20260226T100000
DTEND;TZID=America/New_York:20260226T160000
DTSTAMP:20260425T082058
CREATED:20250720T120524Z
LAST-MODIFIED:20250720T120524Z
UID:10002576-1772100000-1772121600@rutherfordconnect.com
SUMMARY:Hickory Nut Gorge Outreach Food Pantry
DESCRIPTION:Helping Relieve Hunger at Home in our Community.\nHours of Operation: Monday\, Thursday\, Friday 10:00-4:00.
URL:https://rutherfordconnect.com/event/hickory-nut-gorge-outreach-food-pantry/2026-02-26/
LOCATION:Hickory Nut Gorge Outreach\, 2556 Memorial Highway\, Lake Lure\, NC\, 28746\, United States
CATEGORIES:Soup Kitchens & Free Meal Events
END:VEVENT
BEGIN:VEVENT
DTSTART;TZID=America/New_York:20260226T100000
DTEND;TZID=America/New_York:20260226T140000
DTSTAMP:20260425T082058
CREATED:20250720T113735Z
LAST-MODIFIED:20250720T113735Z
UID:10000304-1772100000-1772114400@rutherfordconnect.com
SUMMARY:Basics Christian Ministries Food Pantry
DESCRIPTION:BASICS is an all-volunteer Christian ministry that provides food\, clothing\, and\nspiritual counseling to those who need it in Rutherford County\, NC. Provides\nshowers and laundry services for homeless persons. Food pantry Thursdays from\n10:00am – 2:00pm. Thrift store open Thursday – Saturday\, 10:00am – 2:00pm.
URL:https://rutherfordconnect.com/event/basics-christian-ministries-food-pantry/2026-02-26/
LOCATION:Basics Christian Ministries\, 141 N Main St\, Mooresboro\, NC\, 28114\, United States
CATEGORIES:Soup Kitchens & Free Meal Events
END:VEVENT
BEGIN:VEVENT
DTSTART;TZID=America/New_York:20260226T100000
DTEND;TZID=America/New_York:20260226T110000
DTSTAMP:20260425T082058
CREATED:20251003T172620Z
LAST-MODIFIED:20251003T174734Z
UID:10014041-1772100000-1772103600@rutherfordconnect.com
SUMMARY:Coffee & Connection
DESCRIPTION:Coffee & morning meditation to start your day. \n648 Withrow Rd\, Forest City\, NC 28043 \n828-286-3929
URL:https://rutherfordconnect.com/event/coffee-connection/2026-02-26/
LOCATION:United Way of Rutherford County\, 668 Withrow Rd\, Forest City\, NC\, 28043\, United States
CATEGORIES:Mental Health & Recovery Support Events
ORGANIZER;CN="United Way of Rutherford County":MAILTO:bdblack59@uwrcinc.org
END:VEVENT
BEGIN:VEVENT
DTSTART;TZID=America/New_York:20260226T090000
DTEND;TZID=America/New_York:20260226T140000
DTSTAMP:20260425T082059
CREATED:20250720T124533Z
LAST-MODIFIED:20250720T124533Z
UID:10006934-1772096400-1772114400@rutherfordconnect.com
SUMMARY:Washburn Community Outreach Center Food Assistance
DESCRIPTION:Offers assistance with clothing and food. Hours of operation: 9am – 2pm\, Thursday\,\nFriday\, and Saturday.
URL:https://rutherfordconnect.com/event/washburn-community-outreach-center-food-assistance/2026-02-26/
LOCATION:Washburn Community Outreach Center\, 2934 Piney Mountain Church Rd\, Bostic\, NC\, 28018\, United States
CATEGORIES:Soup Kitchens & Free Meal Events
END:VEVENT
BEGIN:VEVENT
DTSTART;TZID=America/New_York:20260226T080000
DTEND;TZID=America/New_York:20260226T170000
DTSTAMP:20260425T082059
CREATED:20250720T122956Z
LAST-MODIFIED:20250720T122956Z
UID:10004128-1772092800-1772125200@rutherfordconnect.com
SUMMARY:Congregant Meals
DESCRIPTION:Home Delivered Meals – Seniors over 60.\nCongregant Meals – register at least one day in advance. Meals provided at 193 Callahan-\nKoon Road. Congregant meals offered Monday through Friday. Call to register.\nCommodities Supplemental Food Program (CSFP)\nFood assistance for seniors ages 60 and up. Call to register.
URL:https://rutherfordconnect.com/event/congregant-meals/2026-02-26/
LOCATION:Rutherford County Senior Center\, 193 Callahan-Koon Rd\, Spindale\, NC\, 28160\, United States
CATEGORIES:Soup Kitchens & Free Meal Events
END:VEVENT
BEGIN:VEVENT
DTSTART;TZID=America/New_York:20260225T200000
DTEND;TZID=America/New_York:20260225T210000
DTSTAMP:20260425T082059
CREATED:20250803T185832Z
LAST-MODIFIED:20250803T185832Z
UID:10011312-1772049600-1772053200@rutherfordconnect.com
SUMMARY:Never too Late Group (NA meeting)
DESCRIPTION:This meeting is open to addicts and non-addicts alike. All are welcome.\n    This meeting invites participation by all attendees.
URL:https://rutherfordconnect.com/event/never-too-late-group-na-meeting-3/2026-02-25/
LOCATION:First Presbyterian Church\, 438 W Main St\, Forest City\, NC\, 28043\, United States
CATEGORIES:Faith-Based Support Groups,Mental Health & Recovery Support Events,Substance Use Recovery Meetings
END:VEVENT
BEGIN:VEVENT
DTSTART;TZID=America/New_York:20260225T200000
DTEND;TZID=America/New_York:20260225T210000
DTSTAMP:20260425T082059
CREATED:20250725T155659Z
LAST-MODIFIED:20250725T161128Z
UID:10009744-1772049600-1772053200@rutherfordconnect.com
SUMMARY:Out of the Ashes Group (AA meeting)
DESCRIPTION:Alcoholics Anonymous meeting \nDiscussion\nIn-person\nNewcomer\nOpen
URL:https://rutherfordconnect.com/event/out-of-the-ashes-group-aa-meeting/2026-02-25/
LOCATION:Out of the Ashes\, 131 Countryside Dr\, Forest City\, NC\, 28043\, United States
CATEGORIES:Faith-Based Support Groups,Mental Health & Recovery Support Events,Substance Use Recovery Meetings
END:VEVENT
BEGIN:VEVENT
DTSTART;TZID=America/New_York:20260225T180000
DTEND;TZID=America/New_York:20260225T190000
DTSTAMP:20260425T082059
CREATED:20251003T174358Z
LAST-MODIFIED:20251003T174358Z
UID:10013905-1772042400-1772046000@rutherfordconnect.com
SUMMARY:Healthy Relationships
DESCRIPTION:Support group for women. Every 2nd and 4th Wednesday of the month. \n648 Withrow Rd\, Forest City\, NC 28043 \n828-286-3929 \n 
URL:https://rutherfordconnect.com/event/healthy-relationships-2/2026-02-25/
LOCATION:United Way of Rutherford County\, 668 Withrow Rd\, Forest City\, NC\, 28043\, United States
CATEGORIES:Mental Health & Recovery Support Events
ORGANIZER;CN="United Way of Rutherford County":MAILTO:bdblack59@uwrcinc.org
END:VEVENT
BEGIN:VEVENT
DTSTART;TZID=America/New_York:20260225T180000
DTEND;TZID=America/New_York:20260225T190000
DTSTAMP:20260425T082059
CREATED:20250806T154033Z
LAST-MODIFIED:20250806T154033Z
UID:10012358-1772042400-1772046000@rutherfordconnect.com
SUMMARY:Free Community Meal
DESCRIPTION:The Hill Ministries offers a free community meal every Wednesday at 6pm \nAll are welcome
URL:https://rutherfordconnect.com/event/free-community-meal/2026-02-25/
LOCATION:Caroleen Baptist Church\, 205 Spencer St\, Caroleen\, NC\, 28019\, United States
CATEGORIES:Church Events & Services,Community Dinners or Potlucks,Faith & Spiritual Life,Food & Social Events,Soup Kitchens & Free Meal Events
ORGANIZER;CN="Caroleen Baptist Church":MAILTO:Caroleenbaptistchurch@gmail.com
END:VEVENT
BEGIN:VEVENT
DTSTART;TZID=America/New_York:20260225T180000
DTEND;TZID=America/New_York:20260225T190000
DTSTAMP:20260425T082059
CREATED:20250725T160239Z
LAST-MODIFIED:20250725T161051Z
UID:10009253-1772042400-1772046000@rutherfordconnect.com
SUMMARY:Promises Group (AA meeting)
DESCRIPTION:Alcoholics Anonymous meeting \nBig Book\nIn-person\nOpen
URL:https://rutherfordconnect.com/event/promises-group-aa-meeting/2026-02-25/
LOCATION:Rutherfordton Presbyterian Church\, 252 N Washington St\, Rutherfordton\, NC\, 28139\, United States
CATEGORIES:Faith-Based Support Groups,Mental Health & Recovery Support Events,Substance Use Recovery Meetings
END:VEVENT
BEGIN:VEVENT
DTSTART;TZID=America/New_York:20260225T164500
DTEND;TZID=America/New_York:20260225T180000
DTSTAMP:20260425T082059
CREATED:20250720T113330Z
LAST-MODIFIED:20250720T113330Z
UID:10000043-1772037900-1772042400@rutherfordconnect.com
SUMMARY:Adaville Baptist Church / REACH
DESCRIPTION:Drive through food distribution on Wednesdays at 4:45 pm.
URL:https://rutherfordconnect.com/event/adaville-baptist-church-reach/2026-02-25/
LOCATION:Adaville Baptist Church\, 805 Oakland Rd\, Spindale\, NC\, 28160\, United States
CATEGORIES:Soup Kitchens & Free Meal Events
END:VEVENT
BEGIN:VEVENT
DTSTART;TZID=America/New_York:20260225T160000
DTEND;TZID=America/New_York:20260225T173000
DTSTAMP:20260425T082059
CREATED:20250720T114540Z
LAST-MODIFIED:20250720T114540Z
UID:10000983-1772035200-1772040600@rutherfordconnect.com
SUMMARY:Grace of God Rescue Mission Meals
DESCRIPTION:Hot Meal Monday-Saturday 4pm-5:30pm.
URL:https://rutherfordconnect.com/event/grace-of-god-rescue-mission-meals/2026-02-25/
LOCATION:Grace of God Rescue Mission\, 537 W. Main St.\, Forest City\, NC\, 28043\, United States
CATEGORIES:Soup Kitchens & Free Meal Events
END:VEVENT
BEGIN:VEVENT
DTSTART;TZID=America/New_York:20260225T153000
DTEND;TZID=America/New_York:20260225T180000
DTSTAMP:20260425T082059
CREATED:20250920T211852Z
LAST-MODIFIED:20250920T211852Z
UID:10012687-1772033400-1772042400@rutherfordconnect.com
SUMMARY:HOPEworks Afterschool Program
DESCRIPTION:Hopeworks is for any students 5th-12th grade. This program is FREE and designed to inspire students to become community leaders. In addition\, students can. get help with homework and assignments in a safe and positive environment. \nOur 5th-8th graders meet on Wednesdays\nOur 9th-12th graders meet on Thursdays.\nThis occurs weekly\, 3:30-6:00pm at The Blue Ridge Village\n654 W. Main St in Forest City
URL:https://rutherfordconnect.com/event/hopeworks-afterschool-program-2/2026-02-25/
LOCATION:Blue Ridge Hope Village\, 654 West Main St\, Forest City\, NC\, 28043\, United States
CATEGORIES:Youth Camps & After-School Programs
ATTACH;FMTTYPE=image/png:https://rutherfordconnect.com/wp-content/uploads/2025/09/Fall-25-HW-schedule-1.png
END:VEVENT
BEGIN:VEVENT
DTSTART;TZID=America/New_York:20260225T120000
DTEND;TZID=America/New_York:20260225T130000
DTSTAMP:20260425T082059
CREATED:20251003T173222Z
LAST-MODIFIED:20251003T173222Z
UID:10013600-1772020800-1772024400@rutherfordconnect.com
SUMMARY:Moms in Recovery
DESCRIPTION:Where moms in any stage of recovery can connect\, share\, & grow. \n648 Withrow Rd\, Forest City\, NC 28043 \n828-286-3929
URL:https://rutherfordconnect.com/event/moms-in-recovery-2/2026-02-25/
LOCATION:United Way of Rutherford County\, 668 Withrow Rd\, Forest City\, NC\, 28043\, United States
CATEGORIES:Mental Health & Recovery Support Events
ORGANIZER;CN="United Way of Rutherford County":MAILTO:bdblack59@uwrcinc.org
END:VEVENT
BEGIN:VEVENT
DTSTART;TZID=America/New_York:20260225T120000
DTEND;TZID=America/New_York:20260225T130000
DTSTAMP:20260425T082059
CREATED:20250806T151627Z
LAST-MODIFIED:20250806T151627Z
UID:10011835-1772020800-1772024400@rutherfordconnect.com
SUMMARY:Moms in Recovery
DESCRIPTION:Come as you are. \nThis is a safe\, judgement-free space for mothers in any stage of recovery to connect\, share\, and grow together. Whether you’re just starting out or years into your journey- you’re not alone. \nPeer-led conversations \nEncouragement & resources
URL:https://rutherfordconnect.com/event/moms-in-recovery/2026-02-25/
LOCATION:Healing\, Recovery\, and Thriving Center\, 646 Withrow Rd\, Forest City\, NC\, 28043\, United States
CATEGORIES:Mental Health & Recovery Support Events,Substance Use Recovery Meetings
ORGANIZER;CN="United Way of Rutherford County":MAILTO:bdblack59@uwrcinc.org
END:VEVENT
BEGIN:VEVENT
DTSTART;TZID=America/New_York:20260225T110000
DTEND;TZID=America/New_York:20260225T160000
DTSTAMP:20260425T082059
CREATED:20250720T123846Z
LAST-MODIFIED:20250720T123846Z
UID:10006350-1772017200-1772035200@rutherfordconnect.com
SUMMARY:The Source Ministries / Loving Arms Ministry
DESCRIPTION:Food distribution on Wednesdays from 11:00am – 4:00pm. Clothing\, baby products\,\nhygiene products.
URL:https://rutherfordconnect.com/event/the-source-ministries-loving-arms-ministry/2026-02-25/
LOCATION:The Source Ministries\, 661 W Main St\, Forest City\, NC\, 28043\, United States
CATEGORIES:Soup Kitchens & Free Meal Events
END:VEVENT
BEGIN:VEVENT
DTSTART;TZID=America/New_York:20260225T100000
DTEND;TZID=America/New_York:20260225T170000
DTSTAMP:20260425T082059
CREATED:20250720T123541Z
LAST-MODIFIED:20250720T123541Z
UID:10005400-1772013600-1772038800@rutherfordconnect.com
SUMMARY:Salvation Army Food Assistance
DESCRIPTION:Food assistance. Tuesday-Friday 10am-5pm.
URL:https://rutherfordconnect.com/event/salvation-army-food-assistance/2026-02-25/
LOCATION:Salvation Army\, 256 Main Street\, Forest City\, NC\, 28043\, United States
CATEGORIES:Soup Kitchens & Free Meal Events
END:VEVENT
BEGIN:VEVENT
DTSTART;TZID=America/New_York:20260225T100000
DTEND;TZID=America/New_York:20260225T120000
DTSTAMP:20260425T082059
CREATED:20250720T124208Z
LAST-MODIFIED:20250720T124208Z
UID:10006611-1772013600-1772020800@rutherfordconnect.com
SUMMARY:Jericho Road Soup Kitchen
DESCRIPTION:Jericho Road Soup Kitchen – serves a free meal every Wednesday from 10:00 am\nto 12:00 pm.
URL:https://rutherfordconnect.com/event/jericho-road-soup-kitchen/2026-02-25/
LOCATION:St. Gabriel Episcopal Church\, 264 N. Ridgecrest Ave.\, Rutherfordton\, NC\, 28139\, United States
CATEGORIES:Soup Kitchens & Free Meal Events
END:VEVENT
BEGIN:VEVENT
DTSTART;TZID=America/New_York:20260225T090000
DTEND;TZID=America/New_York:20260225T140000
DTSTAMP:20260425T082059
CREATED:20250720T114142Z
LAST-MODIFIED:20250720T114142Z
UID:10000565-1772010000-1772028000@rutherfordconnect.com
SUMMARY:Chase Corner Ministries Food Pantry
DESCRIPTION:Emergency assistance for food\, clothing\, utility\, rent\nand medication assistance once every 6 months.\nEmergency Food Pantry: Monday\, Tuesday\, Thursday\, Friday from 9:00am – 2:00pm.\nWednesday food distribution from 9:00am – 2:00pm.
URL:https://rutherfordconnect.com/event/chase-corner-ministries-food-pantry/2026-02-25/
LOCATION:Chase Corner Ministries\, 1604 Chase High Road\, Forest City\, NC\, 28043\, United States
CATEGORIES:Soup Kitchens & Free Meal Events
END:VEVENT
END:VCALENDAR