BEGIN:VCALENDAR
VERSION:2.0
PRODID:-//Rutherford Connect - ECPv6.15.20//NONSGML v1.0//EN
CALSCALE:GREGORIAN
METHOD:PUBLISH
X-WR-CALNAME:Rutherford Connect
X-ORIGINAL-URL:https://rutherfordconnect.com
X-WR-CALDESC:Events for Rutherford Connect
REFRESH-INTERVAL;VALUE=DURATION:PT1H
X-Robots-Tag:noindex
X-PUBLISHED-TTL:PT1H
BEGIN:VTIMEZONE
TZID:America/New_York
BEGIN:DAYLIGHT
TZOFFSETFROM:-0500
TZOFFSETTO:-0400
TZNAME:EDT
DTSTART:20250309T070000
END:DAYLIGHT
BEGIN:STANDARD
TZOFFSETFROM:-0400
TZOFFSETTO:-0500
TZNAME:EST
DTSTART:20251102T060000
END:STANDARD
BEGIN:DAYLIGHT
TZOFFSETFROM:-0500
TZOFFSETTO:-0400
TZNAME:EDT
DTSTART:20260308T070000
END:DAYLIGHT
BEGIN:STANDARD
TZOFFSETFROM:-0400
TZOFFSETTO:-0500
TZNAME:EST
DTSTART:20261101T060000
END:STANDARD
BEGIN:DAYLIGHT
TZOFFSETFROM:-0500
TZOFFSETTO:-0400
TZNAME:EDT
DTSTART:20270314T070000
END:DAYLIGHT
BEGIN:STANDARD
TZOFFSETFROM:-0400
TZOFFSETTO:-0500
TZNAME:EST
DTSTART:20271107T060000
END:STANDARD
END:VTIMEZONE
BEGIN:VEVENT
DTSTART;TZID=America/New_York:20260312T163000
DTEND;TZID=America/New_York:20260312T180000
DTSTAMP:20260425T081932
CREATED:20250720T121851Z
LAST-MODIFIED:20250720T121851Z
UID:10003481-1773333000-1773338400@rutherfordconnect.com
SUMMARY:New Beginnings Soup Kitchen
DESCRIPTION:Thursday 4:30-6:00 PM Take Out Only/Soup Kitchen
URL:https://rutherfordconnect.com/event/new-beginnings-soup-kitchen/2026-03-12/
LOCATION:New Beginnings Soup Kitchen\, 668 N. Washington St\, Rutherfordton\, NC\, 28139\, United States
CATEGORIES:Soup Kitchens & Free Meal Events
END:VEVENT
BEGIN:VEVENT
DTSTART;TZID=America/New_York:20260312T190000
DTEND;TZID=America/New_York:20260312T200000
DTSTAMP:20260425T081932
CREATED:20250725T160928Z
LAST-MODIFIED:20250725T161322Z
UID:10010528-1773342000-1773345600@rutherfordconnect.com
SUMMARY:Sobriety & Beyond Group (AA meeting)
DESCRIPTION:Alcoholics Anonymous meeting \nDiscussion\nIn-person\nLiterature\nOpen\nWheelchair Access
URL:https://rutherfordconnect.com/event/sobriety-beyond-group-aa-meeting/2026-03-12/
LOCATION:First Presbyterian Church\, 438 W Main St\, Forest City\, NC\, 28043\, United States
CATEGORIES:Faith-Based Support Groups,Mental Health & Recovery Support Events,Substance Use Recovery Meetings
END:VEVENT
BEGIN:VEVENT
DTSTART;TZID=America/New_York:20260312T193000
DTEND;TZID=America/New_York:20260312T203000
DTSTAMP:20260425T081932
CREATED:20250725T160804Z
LAST-MODIFIED:20250725T161214Z
UID:10010039-1773343800-1773347400@rutherfordconnect.com
SUMMARY:Live & Let Live Group (AA meeting)
DESCRIPTION:Alcoholics Anonymous meeting \nDiscussion\nIn-person
URL:https://rutherfordconnect.com/event/live-let-live-group-aa-meeting/2026-03-12/
LOCATION:Immaculate Conception Catholic Church\, 1024 W Main St\, Forest City\, NC\, 28043\, United States
CATEGORIES:Faith-Based Support Groups,Mental Health & Recovery Support Events,Substance Use Recovery Meetings
END:VEVENT
BEGIN:VEVENT
DTSTART;TZID=America/New_York:20260312T200000
DTEND;TZID=America/New_York:20260312T210000
DTSTAMP:20260425T081932
CREATED:20250803T190135Z
LAST-MODIFIED:20250803T190135Z
UID:10011575-1773345600-1773349200@rutherfordconnect.com
SUMMARY:Never too Late Group (NA meeting)
DESCRIPTION:This meeting is open to addicts and non-addicts alike. All are welcome.\n    This meeting invites participation by all attendees.
URL:https://rutherfordconnect.com/event/never-too-late-group-na-meeting-4/2026-03-12/
LOCATION:Bethel Baptist Church\, 479 Main St\, Ellenboro\, NC\, 28040\, United States
CATEGORIES:Faith-Based Support Groups,Mental Health & Recovery Support Events,Substance Use Recovery Meetings
END:VEVENT
BEGIN:VEVENT
DTSTART;TZID=America/New_York:20260313T080000
DTEND;TZID=America/New_York:20260313T170000
DTSTAMP:20260425T081932
CREATED:20250720T122956Z
LAST-MODIFIED:20250720T122956Z
UID:10004139-1773388800-1773421200@rutherfordconnect.com
SUMMARY:Congregant Meals
DESCRIPTION:Home Delivered Meals – Seniors over 60.\nCongregant Meals – register at least one day in advance. Meals provided at 193 Callahan-\nKoon Road. Congregant meals offered Monday through Friday. Call to register.\nCommodities Supplemental Food Program (CSFP)\nFood assistance for seniors ages 60 and up. Call to register.
URL:https://rutherfordconnect.com/event/congregant-meals/2026-03-13/
LOCATION:Rutherford County Senior Center\, 193 Callahan-Koon Rd\, Spindale\, NC\, 28160\, United States
CATEGORIES:Soup Kitchens & Free Meal Events
END:VEVENT
BEGIN:VEVENT
DTSTART;TZID=America/New_York:20260313T090000
DTEND;TZID=America/New_York:20260313T120000
DTSTAMP:20260425T081932
CREATED:20250720T121403Z
LAST-MODIFIED:20250720T121403Z
UID:10003395-1773392400-1773403200@rutherfordconnect.com
SUMMARY:Neighbors Pantry Food Assistance
DESCRIPTION:Provides food assistance. The 1st and 3rd Saturday each month from 9:00am-12:00 and Friday after 1st and 3rd Saturday 5-7pm.
URL:https://rutherfordconnect.com/event/neighbors-pantry-food-assistance-3/2026-03-13/
LOCATION:Neighbors Pantry\, 217 Gilkey School Rd\, Rutherfordton\, NC\, 28139\, United States
CATEGORIES:Soup Kitchens & Free Meal Events
END:VEVENT
BEGIN:VEVENT
DTSTART;TZID=America/New_York:20260313T090000
DTEND;TZID=America/New_York:20260313T140000
DTSTAMP:20260425T081932
CREATED:20250720T124533Z
LAST-MODIFIED:20250720T124533Z
UID:10006941-1773392400-1773410400@rutherfordconnect.com
SUMMARY:Washburn Community Outreach Center Food Assistance
DESCRIPTION:Offers assistance with clothing and food. Hours of operation: 9am – 2pm\, Thursday\,\nFriday\, and Saturday.
URL:https://rutherfordconnect.com/event/washburn-community-outreach-center-food-assistance/2026-03-13/
LOCATION:Washburn Community Outreach Center\, 2934 Piney Mountain Church Rd\, Bostic\, NC\, 28018\, United States
CATEGORIES:Soup Kitchens & Free Meal Events
END:VEVENT
BEGIN:VEVENT
DTSTART;TZID=America/New_York:20260313T100000
DTEND;TZID=America/New_York:20260313T160000
DTSTAMP:20260425T081932
CREATED:20250720T120524Z
LAST-MODIFIED:20250720T120524Z
UID:10002583-1773396000-1773417600@rutherfordconnect.com
SUMMARY:Hickory Nut Gorge Outreach Food Pantry
DESCRIPTION:Helping Relieve Hunger at Home in our Community.\nHours of Operation: Monday\, Thursday\, Friday 10:00-4:00.
URL:https://rutherfordconnect.com/event/hickory-nut-gorge-outreach-food-pantry/2026-03-13/
LOCATION:Hickory Nut Gorge Outreach\, 2556 Memorial Highway\, Lake Lure\, NC\, 28746\, United States
CATEGORIES:Soup Kitchens & Free Meal Events
END:VEVENT
BEGIN:VEVENT
DTSTART;TZID=America/New_York:20260313T100000
DTEND;TZID=America/New_York:20260313T170000
DTSTAMP:20260425T081932
CREATED:20250720T123541Z
LAST-MODIFIED:20250720T123541Z
UID:10005410-1773396000-1773421200@rutherfordconnect.com
SUMMARY:Salvation Army Food Assistance
DESCRIPTION:Food assistance. Tuesday-Friday 10am-5pm.
URL:https://rutherfordconnect.com/event/salvation-army-food-assistance/2026-03-13/
LOCATION:Salvation Army\, 256 Main Street\, Forest City\, NC\, 28043\, United States
CATEGORIES:Soup Kitchens & Free Meal Events
END:VEVENT
BEGIN:VEVENT
DTSTART;TZID=America/New_York:20260313T120000
DTEND;TZID=America/New_York:20260313T130000
DTSTAMP:20260425T081932
CREATED:20250725T154851Z
LAST-MODIFIED:20250725T160321Z
UID:10007658-1773403200-1773406800@rutherfordconnect.com
SUMMARY:Mid-Day Miracles (AA meeting)
DESCRIPTION:Alcoholics Anonymous meeting. \nDiscussion\nIn-person\nLiterature
URL:https://rutherfordconnect.com/event/mid-day-miracles/2026-03-13/
LOCATION:Rutherfordton Presbyterian Church\, 252 N Washington St\, Rutherfordton\, NC\, 28139\, United States
CATEGORIES:Faith-Based Support Groups,Mental Health & Recovery Support Events,Substance Use Recovery Meetings
END:VEVENT
BEGIN:VEVENT
DTSTART;TZID=America/New_York:20260313T130000
DTEND;TZID=America/New_York:20260313T140000
DTSTAMP:20260425T081932
CREATED:20251003T175800Z
LAST-MODIFIED:20251003T175800Z
UID:10014566-1773406800-1773410400@rutherfordconnect.com
SUMMARY:Men's Recovery Group
DESCRIPTION:Where men in any stage of recovery can connect\, share\, and grow. \n648 Withrow Rd\, Forest City\, NC 28043 \n828-286-3929
URL:https://rutherfordconnect.com/event/mens-recovery-group/2026-03-13/
LOCATION:United Way of Rutherford County\, 668 Withrow Rd\, Forest City\, NC\, 28043\, United States
CATEGORIES:Mental Health & Recovery Support Events
ORGANIZER;CN="United Way of Rutherford County":MAILTO:bdblack59@uwrcinc.org
END:VEVENT
BEGIN:VEVENT
DTSTART;TZID=America/New_York:20260313T160000
DTEND;TZID=America/New_York:20260313T173000
DTSTAMP:20260425T081932
CREATED:20250720T114540Z
LAST-MODIFIED:20250720T114540Z
UID:10000997-1773417600-1773423000@rutherfordconnect.com
SUMMARY:Grace of God Rescue Mission Meals
DESCRIPTION:Hot Meal Monday-Saturday 4pm-5:30pm.
URL:https://rutherfordconnect.com/event/grace-of-god-rescue-mission-meals/2026-03-13/
LOCATION:Grace of God Rescue Mission\, 537 W. Main St.\, Forest City\, NC\, 28043\, United States
CATEGORIES:Soup Kitchens & Free Meal Events
END:VEVENT
BEGIN:VEVENT
DTSTART;TZID=America/New_York:20260313T190000
DTEND;TZID=America/New_York:20260313T200000
DTSTAMP:20260425T081932
CREATED:20250725T155321Z
LAST-MODIFIED:20250725T160358Z
UID:10007919-1773428400-1773432000@rutherfordconnect.com
SUMMARY:Forest City Group (AA meeting)
DESCRIPTION:Alcoholics Anonymous meeting \nBig Book\nClosed\nIn-person
URL:https://rutherfordconnect.com/event/forest-city-group-aa-meeting/2026-03-13/
LOCATION:First Presbyterian Church\, 438 W Main St\, Forest City\, NC\, 28043\, United States
CATEGORIES:Faith-Based Support Groups,Mental Health & Recovery Support Events,Substance Use Recovery Meetings
END:VEVENT
BEGIN:VEVENT
DTSTART;TZID=America/New_York:20260313T200000
DTEND;TZID=America/New_York:20260313T210000
DTSTAMP:20260425T081932
CREATED:20250725T155659Z
LAST-MODIFIED:20250725T161128Z
UID:10008180-1773432000-1773435600@rutherfordconnect.com
SUMMARY:Out of the Ashes Group (AA meeting)
DESCRIPTION:Alcoholics Anonymous meeting \nDiscussion\nIn-person\nNewcomer\nOpen
URL:https://rutherfordconnect.com/event/out-of-the-ashes-group-aa-meeting/2026-03-13/
LOCATION:Out of the Ashes\, 131 Countryside Dr\, Forest City\, NC\, 28043\, United States
CATEGORIES:Faith-Based Support Groups,Mental Health & Recovery Support Events,Substance Use Recovery Meetings
END:VEVENT
BEGIN:VEVENT
DTSTART;TZID=America/New_York:20260314T090000
DTEND;TZID=America/New_York:20260314T140000
DTSTAMP:20260425T081932
CREATED:20250720T124533Z
LAST-MODIFIED:20250720T124533Z
UID:10006942-1773478800-1773496800@rutherfordconnect.com
SUMMARY:Washburn Community Outreach Center Food Assistance
DESCRIPTION:Offers assistance with clothing and food. Hours of operation: 9am – 2pm\, Thursday\,\nFriday\, and Saturday.
URL:https://rutherfordconnect.com/event/washburn-community-outreach-center-food-assistance/2026-03-14/
LOCATION:Washburn Community Outreach Center\, 2934 Piney Mountain Church Rd\, Bostic\, NC\, 28018\, United States
CATEGORIES:Soup Kitchens & Free Meal Events
END:VEVENT
BEGIN:VEVENT
DTSTART;TZID=America/New_York:20260314T120000
DTEND;TZID=America/New_York:20260314T130000
DTSTAMP:20260425T081932
CREATED:20250725T160053Z
LAST-MODIFIED:20250725T160500Z
UID:10008441-1773489600-1773493200@rutherfordconnect.com
SUMMARY:ODAT Group (AA meeting)
DESCRIPTION:Alcoholics Anonymous meeting \nDiscussion\nIn-person\nOpen
URL:https://rutherfordconnect.com/event/odat-group-aa-meeting/2026-03-14/
LOCATION:Perry Moore House\, 278 N Main St\, Rutherfordton\, NC\, 28139\, United States
CATEGORIES:Faith-Based Support Groups,Mental Health & Recovery Support Events,Substance Use Recovery Meetings
END:VEVENT
BEGIN:VEVENT
DTSTART;TZID=America/New_York:20260314T160000
DTEND;TZID=America/New_York:20260314T173000
DTSTAMP:20260425T081932
CREATED:20250720T114540Z
LAST-MODIFIED:20250720T114540Z
UID:10000998-1773504000-1773509400@rutherfordconnect.com
SUMMARY:Grace of God Rescue Mission Meals
DESCRIPTION:Hot Meal Monday-Saturday 4pm-5:30pm.
URL:https://rutherfordconnect.com/event/grace-of-god-rescue-mission-meals/2026-03-14/
LOCATION:Grace of God Rescue Mission\, 537 W. Main St.\, Forest City\, NC\, 28043\, United States
CATEGORIES:Soup Kitchens & Free Meal Events
END:VEVENT
BEGIN:VEVENT
DTSTART;TZID=America/New_York:20260315T180000
DTEND;TZID=America/New_York:20260315T190000
DTSTAMP:20260425T081932
CREATED:20250725T160239Z
LAST-MODIFIED:20250725T161051Z
UID:10008702-1773597600-1773601200@rutherfordconnect.com
SUMMARY:Promises Group (AA meeting)
DESCRIPTION:Alcoholics Anonymous meeting \nBig Book\nIn-person\nOpen
URL:https://rutherfordconnect.com/event/promises-group-aa-meeting/2026-03-15/
LOCATION:Rutherfordton Presbyterian Church\, 252 N Washington St\, Rutherfordton\, NC\, 28139\, United States
CATEGORIES:Faith-Based Support Groups,Mental Health & Recovery Support Events,Substance Use Recovery Meetings
END:VEVENT
BEGIN:VEVENT
DTSTART;TZID=America/New_York:20260315T193000
DTEND;TZID=America/New_York:20260315T203000
DTSTAMP:20260425T081932
CREATED:20250725T160804Z
LAST-MODIFIED:20250725T161214Z
UID:10010040-1773603000-1773606600@rutherfordconnect.com
SUMMARY:Live & Let Live Group (AA meeting)
DESCRIPTION:Alcoholics Anonymous meeting \nDiscussion\nIn-person
URL:https://rutherfordconnect.com/event/live-let-live-group-aa-meeting/2026-03-15/
LOCATION:Immaculate Conception Catholic Church\, 1024 W Main St\, Forest City\, NC\, 28043\, United States
CATEGORIES:Faith-Based Support Groups,Mental Health & Recovery Support Events,Substance Use Recovery Meetings
END:VEVENT
BEGIN:VEVENT
DTSTART;TZID=America/New_York:20260316T080000
DTEND;TZID=America/New_York:20260316T170000
DTSTAMP:20260425T081932
CREATED:20250720T122956Z
LAST-MODIFIED:20250720T122956Z
UID:10004140-1773648000-1773680400@rutherfordconnect.com
SUMMARY:Congregant Meals
DESCRIPTION:Home Delivered Meals – Seniors over 60.\nCongregant Meals – register at least one day in advance. Meals provided at 193 Callahan-\nKoon Road. Congregant meals offered Monday through Friday. Call to register.\nCommodities Supplemental Food Program (CSFP)\nFood assistance for seniors ages 60 and up. Call to register.
URL:https://rutherfordconnect.com/event/congregant-meals/2026-03-16/
LOCATION:Rutherford County Senior Center\, 193 Callahan-Koon Rd\, Spindale\, NC\, 28160\, United States
CATEGORIES:Soup Kitchens & Free Meal Events
END:VEVENT
BEGIN:VEVENT
DTSTART;TZID=America/New_York:20260316T080000
DTEND;TZID=America/New_York:20260316T170000
DTSTAMP:20260425T081932
CREATED:20260105T183624Z
LAST-MODIFIED:20260105T183624Z
UID:10015671-1773648000-1773680400@rutherfordconnect.com
SUMMARY:Welcome Table Community Meal
DESCRIPTION:Come enjoy a free hot meal served by local Rutherfordton Churches and Ruff’ton Roots.  All all welcome!  Meals served 5-6:30 pm each Monday following the county school calendar.
URL:https://rutherfordconnect.com/event/welcome-table-community-meal/2026-03-16/1/
LOCATION:First United Methodist Church of Rutherfordton\, 264 N Main St\, Rutherfordton\, 28139
CATEGORIES:Faith-Based Support Groups,Soup Kitchens & Free Meal Events
END:VEVENT
BEGIN:VEVENT
DTSTART;TZID=America/New_York:20260316T100000
DTEND;TZID=America/New_York:20260316T120000
DTSTAMP:20260425T081932
CREATED:20250806T152717Z
LAST-MODIFIED:20250806T152717Z
UID:10012098-1773655200-1773662400@rutherfordconnect.com
SUMMARY:Hope. Help. Healing
DESCRIPTION:Struggling with addiction to opioids?\nRecovery starts here. \nFree medication assisted treatment for uninsured Rutherford County residents \nCall ICGH for more information about MAT and other addiction treatment services:\n828.322.5915
URL:https://rutherfordconnect.com/event/hope-help-healing/2026-03-16/
LOCATION:Harvest House Baptist Church\, 2938 Harris Henrietta Rd.\, Mooresboro\, NC\, 28114\, United States
CATEGORIES:Faith-Based Support Groups,Health & Wellness,Mental Health & Recovery Support Events,Substance Use Recovery Meetings
ORGANIZER;CN="Harvest House Baptist Church":MAILTO:hhnmerciescenter@gmail.com
END:VEVENT
BEGIN:VEVENT
DTSTART;TZID=America/New_York:20260316T100000
DTEND;TZID=America/New_York:20260316T140000
DTSTAMP:20260425T081932
CREATED:20251125T135433Z
LAST-MODIFIED:20251125T135433Z
UID:10015359-1773655200-1773669600@rutherfordconnect.com
SUMMARY:Showers of Blessing
DESCRIPTION:First Baptist Church Spindale \n871 Thunder Rd\, Spindale NC \nOffers a shower and a snack on Mondays from 10am to 2pm. \nSoap\, towel\, and wash cloth supplied
URL:https://rutherfordconnect.com/event/showers-of-blessing/2026-03-16/
LOCATION:First Baptist Church Spindale\, 871 Thunder Rd\, Spindale\, NC\, 28160\, United States
CATEGORIES:Community Support Event,Faith & Spiritual Life,Faith-Based Support Groups,Health & Wellness
END:VEVENT
BEGIN:VEVENT
DTSTART;TZID=America/New_York:20260316T100000
DTEND;TZID=America/New_York:20260316T160000
DTSTAMP:20260425T081932
CREATED:20250720T120524Z
LAST-MODIFIED:20250720T120524Z
UID:10002584-1773655200-1773676800@rutherfordconnect.com
SUMMARY:Hickory Nut Gorge Outreach Food Pantry
DESCRIPTION:Helping Relieve Hunger at Home in our Community.\nHours of Operation: Monday\, Thursday\, Friday 10:00-4:00.
URL:https://rutherfordconnect.com/event/hickory-nut-gorge-outreach-food-pantry/2026-03-16/
LOCATION:Hickory Nut Gorge Outreach\, 2556 Memorial Highway\, Lake Lure\, NC\, 28746\, United States
CATEGORIES:Soup Kitchens & Free Meal Events
END:VEVENT
BEGIN:VEVENT
DTSTART;TZID=America/New_York:20260316T110000
DTEND;TZID=America/New_York:20260316T130000
DTSTAMP:20260425T081932
CREATED:20251003T172159Z
LAST-MODIFIED:20251003T172159Z
UID:10012820-1773658800-1773666000@rutherfordconnect.com
SUMMARY:Acceptance\, Resilience\, and Togetherness (A.R.T)
DESCRIPTION:Where we can use creative expression & shared experiences to foster healing\, connection\, & personal growth. \nMondays from 11am to 1pm \n648 Withrow Rd\, Forest City\, NC 28043
URL:https://rutherfordconnect.com/event/acceptance-resilience-and-togetherness-a-r-t/2026-03-16/
LOCATION:United Way of Rutherford County\, 668 Withrow Rd\, Forest City\, NC\, 28043\, United States
CATEGORIES:Mental Health & Recovery Support Events
ORGANIZER;CN="United Way of Rutherford County":MAILTO:bdblack59@uwrcinc.org
END:VEVENT
BEGIN:VEVENT
DTSTART;TZID=America/New_York:20260316T160000
DTEND;TZID=America/New_York:20260316T173000
DTSTAMP:20260425T081932
CREATED:20250720T114540Z
LAST-MODIFIED:20250720T114540Z
UID:10000999-1773676800-1773682200@rutherfordconnect.com
SUMMARY:Grace of God Rescue Mission Meals
DESCRIPTION:Hot Meal Monday-Saturday 4pm-5:30pm.
URL:https://rutherfordconnect.com/event/grace-of-god-rescue-mission-meals/2026-03-16/
LOCATION:Grace of God Rescue Mission\, 537 W. Main St.\, Forest City\, NC\, 28043\, United States
CATEGORIES:Soup Kitchens & Free Meal Events
END:VEVENT
BEGIN:VEVENT
DTSTART;TZID=America/New_York:20260316T170000
DTEND;TZID=America/New_York:20260316T183000
DTSTAMP:20260425T081932
CREATED:20260105T183624Z
LAST-MODIFIED:20260105T183624Z
UID:10015618-1773680400-1773685800@rutherfordconnect.com
SUMMARY:Welcome Table Community Meal
DESCRIPTION:Come enjoy a free hot meal served by local Rutherfordton Churches and Ruff’ton Roots.  All all welcome!  Meals served 5-6:30 pm each Monday following the county school calendar.
URL:https://rutherfordconnect.com/event/welcome-table-community-meal/2026-03-16/2/
LOCATION:First United Methodist Church of Rutherfordton\, 264 N Main St\, Rutherfordton\, 28139
CATEGORIES:Faith-Based Support Groups,Soup Kitchens & Free Meal Events
END:VEVENT
BEGIN:VEVENT
DTSTART;TZID=America/New_York:20260316T180000
DTEND;TZID=America/New_York:20260316T193000
DTSTAMP:20260425T081932
CREATED:20251029T171018Z
LAST-MODIFIED:20251029T171018Z
UID:10015089-1773684000-1773689400@rutherfordconnect.com
SUMMARY:P.A.L.s (Parents of Addicted Loved Ones)
DESCRIPTION:Support group for parents of loved ones struggling with addiction.
URL:https://rutherfordconnect.com/event/p-a-l-s-parents-of-addicted-loved-ones/2026-03-16/
LOCATION:Adaville Baptist Church\, 805 Oakland Rd\, Spindale\, NC\, 28160\, United States
CATEGORIES:Faith-Based Support Groups
END:VEVENT
BEGIN:VEVENT
DTSTART;TZID=America/New_York:20260316T190000
DTEND;TZID=America/New_York:20260316T200000
DTSTAMP:20260425T081932
CREATED:20250725T160928Z
LAST-MODIFIED:20250725T161322Z
UID:10008964-1773687600-1773691200@rutherfordconnect.com
SUMMARY:Sobriety & Beyond Group (AA meeting)
DESCRIPTION:Alcoholics Anonymous meeting \nDiscussion\nIn-person\nLiterature\nOpen\nWheelchair Access
URL:https://rutherfordconnect.com/event/sobriety-beyond-group-aa-meeting/2026-03-16/
LOCATION:First Presbyterian Church\, 438 W Main St\, Forest City\, NC\, 28043\, United States
CATEGORIES:Faith-Based Support Groups,Mental Health & Recovery Support Events,Substance Use Recovery Meetings
END:VEVENT
BEGIN:VEVENT
DTSTART;TZID=America/New_York:20260316T200000
DTEND;TZID=America/New_York:20260316T210000
DTSTAMP:20260425T081932
CREATED:20250803T185703Z
LAST-MODIFIED:20250803T185703Z
UID:10011054-1773691200-1773694800@rutherfordconnect.com
SUMMARY:Never too Late Group (NA meeting)
DESCRIPTION:This meeting is open to addicts and non-addicts alike. All are welcome.\n    Approved N.A. Books
URL:https://rutherfordconnect.com/event/never-too-late-group-na-meeting-2/2026-03-16/
LOCATION:Wells Spring United Methodist Church\, 201 Wells Spring Rd\, Forest City\, NC\, 28043\, United States
CATEGORIES:Faith-Based Support Groups,Mental Health & Recovery Support Events,Substance Use Recovery Meetings
END:VEVENT
END:VCALENDAR