BEGIN:VCALENDAR
VERSION:2.0
PRODID:-//Rutherford Connect - ECPv6.15.20//NONSGML v1.0//EN
CALSCALE:GREGORIAN
METHOD:PUBLISH
X-ORIGINAL-URL:https://rutherfordconnect.com
X-WR-CALDESC:Events for Rutherford Connect
REFRESH-INTERVAL;VALUE=DURATION:PT1H
X-Robots-Tag:noindex
X-PUBLISHED-TTL:PT1H
BEGIN:VTIMEZONE
TZID:America/New_York
BEGIN:DAYLIGHT
TZOFFSETFROM:-0500
TZOFFSETTO:-0400
TZNAME:EDT
DTSTART:20250309T070000
END:DAYLIGHT
BEGIN:STANDARD
TZOFFSETFROM:-0400
TZOFFSETTO:-0500
TZNAME:EST
DTSTART:20251102T060000
END:STANDARD
BEGIN:DAYLIGHT
TZOFFSETFROM:-0500
TZOFFSETTO:-0400
TZNAME:EDT
DTSTART:20260308T070000
END:DAYLIGHT
BEGIN:STANDARD
TZOFFSETFROM:-0400
TZOFFSETTO:-0500
TZNAME:EST
DTSTART:20261101T060000
END:STANDARD
BEGIN:DAYLIGHT
TZOFFSETFROM:-0500
TZOFFSETTO:-0400
TZNAME:EDT
DTSTART:20270314T070000
END:DAYLIGHT
BEGIN:STANDARD
TZOFFSETFROM:-0400
TZOFFSETTO:-0500
TZNAME:EST
DTSTART:20271107T060000
END:STANDARD
END:VTIMEZONE
BEGIN:VEVENT
DTSTART;TZID=America/New_York:20260414T150000
DTEND;TZID=America/New_York:20260414T180000
DTSTAMP:20260420T134021
CREATED:20250720T122424Z
LAST-MODIFIED:20250720T122424Z
UID:10003747-1776178800-1776189600@rutherfordconnect.com
SUMMARY:Red Bird Food Pantry
DESCRIPTION:Food assistance: Tuesdays from 3 – 6 pm.
URL:https://rutherfordconnect.com/event/red-bird-food-pantry/2026-04-14/
LOCATION:Mountain Creek Baptist Church\, 710 Mountain Creek Road\, Rutherfordton\, NC\, 28139\, United States
CATEGORIES:Soup Kitchens & Free Meal Events
END:VEVENT
BEGIN:VEVENT
DTSTART;TZID=America/New_York:20260414T160000
DTEND;TZID=America/New_York:20260414T173000
DTSTAMP:20260420T134021
CREATED:20250720T114540Z
LAST-MODIFIED:20250720T114540Z
UID:10001024-1776182400-1776187800@rutherfordconnect.com
SUMMARY:Grace of God Rescue Mission Meals
DESCRIPTION:Hot Meal Monday-Saturday 4pm-5:30pm.
URL:https://rutherfordconnect.com/event/grace-of-god-rescue-mission-meals/2026-04-14/
LOCATION:Grace of God Rescue Mission\, 537 W. Main St.\, Forest City\, NC\, 28043\, United States
CATEGORIES:Soup Kitchens & Free Meal Events
END:VEVENT
BEGIN:VEVENT
DTSTART;TZID=America/New_York:20260414T180000
DTEND;TZID=America/New_York:20260414T190000
DTSTAMP:20260420T134021
CREATED:20250725T160239Z
LAST-MODIFIED:20250725T161051Z
UID:10009266-1776189600-1776193200@rutherfordconnect.com
SUMMARY:Promises Group (AA meeting)
DESCRIPTION:Alcoholics Anonymous meeting \nBig Book\nIn-person\nOpen
URL:https://rutherfordconnect.com/event/promises-group-aa-meeting/2026-04-14/
LOCATION:Rutherfordton Presbyterian Church\, 252 N Washington St\, Rutherfordton\, NC\, 28139\, United States
CATEGORIES:Faith-Based Support Groups,Mental Health & Recovery Support Events,Substance Use Recovery Meetings
END:VEVENT
BEGIN:VEVENT
DTSTART;TZID=America/New_York:20260414T183000
DTEND;TZID=America/New_York:20260414T193000
DTSTAMP:20260420T134021
CREATED:20251003T172956Z
LAST-MODIFIED:20251003T172956Z
UID:10013346-1776191400-1776195000@rutherfordconnect.com
SUMMARY:Parents' Circle
DESCRIPTION:A safe place for parents whose children experience addiction &/or incarceration. \n648 Withrow Rd\, Forest City\, NC 28043 \n828-286-3929
URL:https://rutherfordconnect.com/event/parents-circle/2026-04-14/
LOCATION:United Way of Rutherford County\, 668 Withrow Rd\, Forest City\, NC\, 28043\, United States
CATEGORIES:Mental Health & Recovery Support Events
ORGANIZER;CN="United Way of Rutherford County":MAILTO:bdblack59@uwrcinc.org
END:VEVENT
BEGIN:VEVENT
DTSTART;TZID=America/New_York:20260414T200000
DTEND;TZID=America/New_York:20260414T210000
DTSTAMP:20260420T134021
CREATED:20250803T185538Z
LAST-MODIFIED:20250803T185538Z
UID:10010797-1776196800-1776200400@rutherfordconnect.com
SUMMARY:Never too Late Group (NA meeting)
DESCRIPTION:This meeting is open to addicts and non-addicts alike. All are welcome.\nThis meeting is focused on discussion of the Basic Text of Narcotics Anonymous.\nThis meeting invites participation by all attendees.
URL:https://rutherfordconnect.com/event/never-too-late-group-na-meeting/2026-04-14/
LOCATION:Wells Spring United Methodist Church\, 201 Wells Spring Rd\, Forest City\, NC\, 28043\, United States
CATEGORIES:Faith-Based Support Groups,Mental Health & Recovery Support Events,Substance Use Recovery Meetings
END:VEVENT
BEGIN:VEVENT
DTSTART;TZID=America/New_York:20260415T080000
DTEND;TZID=America/New_York:20260415T170000
DTSTAMP:20260420T134021
CREATED:20250720T122956Z
LAST-MODIFIED:20250720T122956Z
UID:10004162-1776240000-1776272400@rutherfordconnect.com
SUMMARY:Congregant Meals
DESCRIPTION:Home Delivered Meals – Seniors over 60.\nCongregant Meals – register at least one day in advance. Meals provided at 193 Callahan-\nKoon Road. Congregant meals offered Monday through Friday. Call to register.\nCommodities Supplemental Food Program (CSFP)\nFood assistance for seniors ages 60 and up. Call to register.
URL:https://rutherfordconnect.com/event/congregant-meals/2026-04-15/
LOCATION:Rutherford County Senior Center\, 193 Callahan-Koon Rd\, Spindale\, NC\, 28160\, United States
CATEGORIES:Soup Kitchens & Free Meal Events
END:VEVENT
BEGIN:VEVENT
DTSTART;TZID=America/New_York:20260415T090000
DTEND;TZID=America/New_York:20260415T140000
DTSTAMP:20260420T134021
CREATED:20250720T114142Z
LAST-MODIFIED:20250720T114142Z
UID:10000572-1776243600-1776261600@rutherfordconnect.com
SUMMARY:Chase Corner Ministries Food Pantry
DESCRIPTION:Emergency assistance for food\, clothing\, utility\, rent\nand medication assistance once every 6 months.\nEmergency Food Pantry: Monday\, Tuesday\, Thursday\, Friday from 9:00am – 2:00pm.\nWednesday food distribution from 9:00am – 2:00pm.
URL:https://rutherfordconnect.com/event/chase-corner-ministries-food-pantry/2026-04-15/
LOCATION:Chase Corner Ministries\, 1604 Chase High Road\, Forest City\, NC\, 28043\, United States
CATEGORIES:Soup Kitchens & Free Meal Events
END:VEVENT
BEGIN:VEVENT
DTSTART;TZID=America/New_York:20260415T100000
DTEND;TZID=America/New_York:20260415T120000
DTSTAMP:20260420T134021
CREATED:20250720T124208Z
LAST-MODIFIED:20250720T124208Z
UID:10006618-1776247200-1776254400@rutherfordconnect.com
SUMMARY:Jericho Road Soup Kitchen
DESCRIPTION:Jericho Road Soup Kitchen – serves a free meal every Wednesday from 10:00 am\nto 12:00 pm.
URL:https://rutherfordconnect.com/event/jericho-road-soup-kitchen/2026-04-15/
LOCATION:St. Gabriel Episcopal Church\, 264 N. Ridgecrest Ave.\, Rutherfordton\, NC\, 28139\, United States
CATEGORIES:Soup Kitchens & Free Meal Events
END:VEVENT
BEGIN:VEVENT
DTSTART;TZID=America/New_York:20260415T100000
DTEND;TZID=America/New_York:20260415T170000
DTSTAMP:20260420T134021
CREATED:20250720T123541Z
LAST-MODIFIED:20250720T123541Z
UID:10005428-1776247200-1776272400@rutherfordconnect.com
SUMMARY:Salvation Army Food Assistance
DESCRIPTION:Food assistance. Tuesday-Friday 10am-5pm.
URL:https://rutherfordconnect.com/event/salvation-army-food-assistance/2026-04-15/
LOCATION:Salvation Army\, 256 Main Street\, Forest City\, NC\, 28043\, United States
CATEGORIES:Soup Kitchens & Free Meal Events
END:VEVENT
BEGIN:VEVENT
DTSTART;TZID=America/New_York:20260415T110000
DTEND;TZID=America/New_York:20260415T160000
DTSTAMP:20260420T134021
CREATED:20250720T123846Z
LAST-MODIFIED:20250720T123846Z
UID:10006357-1776250800-1776268800@rutherfordconnect.com
SUMMARY:The Source Ministries / Loving Arms Ministry
DESCRIPTION:Food distribution on Wednesdays from 11:00am – 4:00pm. Clothing\, baby products\,\nhygiene products.
URL:https://rutherfordconnect.com/event/the-source-ministries-loving-arms-ministry/2026-04-15/
LOCATION:The Source Ministries\, 661 W Main St\, Forest City\, NC\, 28043\, United States
CATEGORIES:Soup Kitchens & Free Meal Events
END:VEVENT
BEGIN:VEVENT
DTSTART;TZID=America/New_York:20260415T120000
DTEND;TZID=America/New_York:20260415T130000
DTSTAMP:20260420T134021
CREATED:20250806T151627Z
LAST-MODIFIED:20250806T151627Z
UID:10011842-1776254400-1776258000@rutherfordconnect.com
SUMMARY:Moms in Recovery
DESCRIPTION:Come as you are. \nThis is a safe\, judgement-free space for mothers in any stage of recovery to connect\, share\, and grow together. Whether you’re just starting out or years into your journey- you’re not alone. \nPeer-led conversations \nEncouragement & resources
URL:https://rutherfordconnect.com/event/moms-in-recovery/2026-04-15/
LOCATION:Healing\, Recovery\, and Thriving Center\, 646 Withrow Rd\, Forest City\, NC\, 28043\, United States
CATEGORIES:Mental Health & Recovery Support Events,Substance Use Recovery Meetings
ORGANIZER;CN="United Way of Rutherford County":MAILTO:bdblack59@uwrcinc.org
END:VEVENT
BEGIN:VEVENT
DTSTART;TZID=America/New_York:20260415T120000
DTEND;TZID=America/New_York:20260415T130000
DTSTAMP:20260420T134021
CREATED:20251003T173222Z
LAST-MODIFIED:20251003T173222Z
UID:10013607-1776254400-1776258000@rutherfordconnect.com
SUMMARY:Moms in Recovery
DESCRIPTION:Where moms in any stage of recovery can connect\, share\, & grow. \n648 Withrow Rd\, Forest City\, NC 28043 \n828-286-3929
URL:https://rutherfordconnect.com/event/moms-in-recovery-2/2026-04-15/
LOCATION:United Way of Rutherford County\, 668 Withrow Rd\, Forest City\, NC\, 28043\, United States
CATEGORIES:Mental Health & Recovery Support Events
ORGANIZER;CN="United Way of Rutherford County":MAILTO:bdblack59@uwrcinc.org
END:VEVENT
BEGIN:VEVENT
DTSTART;TZID=America/New_York:20260415T153000
DTEND;TZID=America/New_York:20260415T180000
DTSTAMP:20260420T134021
CREATED:20250920T211852Z
LAST-MODIFIED:20250920T211852Z
UID:10012694-1776267000-1776276000@rutherfordconnect.com
SUMMARY:HOPEworks Afterschool Program
DESCRIPTION:Hopeworks is for any students 5th-12th grade. This program is FREE and designed to inspire students to become community leaders. In addition\, students can. get help with homework and assignments in a safe and positive environment. \nOur 5th-8th graders meet on Wednesdays\nOur 9th-12th graders meet on Thursdays.\nThis occurs weekly\, 3:30-6:00pm at The Blue Ridge Village\n654 W. Main St in Forest City
URL:https://rutherfordconnect.com/event/hopeworks-afterschool-program-2/2026-04-15/
LOCATION:Blue Ridge Hope Village\, 654 West Main St\, Forest City\, NC\, 28043\, United States
CATEGORIES:Youth Camps & After-School Programs
ATTACH;FMTTYPE=image/png:https://rutherfordconnect.com/wp-content/uploads/2025/09/Fall-25-HW-schedule-1.png
END:VEVENT
BEGIN:VEVENT
DTSTART;TZID=America/New_York:20260415T160000
DTEND;TZID=America/New_York:20260415T173000
DTSTAMP:20260420T134021
CREATED:20250720T114540Z
LAST-MODIFIED:20250720T114540Z
UID:10001025-1776268800-1776274200@rutherfordconnect.com
SUMMARY:Grace of God Rescue Mission Meals
DESCRIPTION:Hot Meal Monday-Saturday 4pm-5:30pm.
URL:https://rutherfordconnect.com/event/grace-of-god-rescue-mission-meals/2026-04-15/
LOCATION:Grace of God Rescue Mission\, 537 W. Main St.\, Forest City\, NC\, 28043\, United States
CATEGORIES:Soup Kitchens & Free Meal Events
END:VEVENT
BEGIN:VEVENT
DTSTART;TZID=America/New_York:20260415T164500
DTEND;TZID=America/New_York:20260415T180000
DTSTAMP:20260420T134021
CREATED:20250720T113330Z
LAST-MODIFIED:20250720T113330Z
UID:10000050-1776271500-1776276000@rutherfordconnect.com
SUMMARY:Adaville Baptist Church / REACH
DESCRIPTION:Drive through food distribution on Wednesdays at 4:45 pm.
URL:https://rutherfordconnect.com/event/adaville-baptist-church-reach/2026-04-15/
LOCATION:Adaville Baptist Church\, 805 Oakland Rd\, Spindale\, NC\, 28160\, United States
CATEGORIES:Soup Kitchens & Free Meal Events
END:VEVENT
BEGIN:VEVENT
DTSTART;TZID=America/New_York:20260415T180000
DTEND;TZID=America/New_York:20260415T190000
DTSTAMP:20260420T134021
CREATED:20250725T160239Z
LAST-MODIFIED:20250725T161051Z
UID:10009267-1776276000-1776279600@rutherfordconnect.com
SUMMARY:Promises Group (AA meeting)
DESCRIPTION:Alcoholics Anonymous meeting \nBig Book\nIn-person\nOpen
URL:https://rutherfordconnect.com/event/promises-group-aa-meeting/2026-04-15/
LOCATION:Rutherfordton Presbyterian Church\, 252 N Washington St\, Rutherfordton\, NC\, 28139\, United States
CATEGORIES:Faith-Based Support Groups,Mental Health & Recovery Support Events,Substance Use Recovery Meetings
END:VEVENT
BEGIN:VEVENT
DTSTART;TZID=America/New_York:20260415T180000
DTEND;TZID=America/New_York:20260415T190000
DTSTAMP:20260420T134021
CREATED:20250806T154033Z
LAST-MODIFIED:20250806T154033Z
UID:10012365-1776276000-1776279600@rutherfordconnect.com
SUMMARY:Free Community Meal
DESCRIPTION:The Hill Ministries offers a free community meal every Wednesday at 6pm \nAll are welcome
URL:https://rutherfordconnect.com/event/free-community-meal/2026-04-15/
LOCATION:Caroleen Baptist Church\, 205 Spencer St\, Caroleen\, NC\, 28019\, United States
CATEGORIES:Church Events & Services,Community Dinners or Potlucks,Faith & Spiritual Life,Food & Social Events,Soup Kitchens & Free Meal Events
ORGANIZER;CN="Caroleen Baptist Church":MAILTO:Caroleenbaptistchurch@gmail.com
END:VEVENT
BEGIN:VEVENT
DTSTART;TZID=America/New_York:20260415T200000
DTEND;TZID=America/New_York:20260415T210000
DTSTAMP:20260420T134021
CREATED:20250725T155659Z
LAST-MODIFIED:20250725T161128Z
UID:10009751-1776283200-1776286800@rutherfordconnect.com
SUMMARY:Out of the Ashes Group (AA meeting)
DESCRIPTION:Alcoholics Anonymous meeting \nDiscussion\nIn-person\nNewcomer\nOpen
URL:https://rutherfordconnect.com/event/out-of-the-ashes-group-aa-meeting/2026-04-15/
LOCATION:Out of the Ashes\, 131 Countryside Dr\, Forest City\, NC\, 28043\, United States
CATEGORIES:Faith-Based Support Groups,Mental Health & Recovery Support Events,Substance Use Recovery Meetings
END:VEVENT
BEGIN:VEVENT
DTSTART;TZID=America/New_York:20260415T200000
DTEND;TZID=America/New_York:20260415T210000
DTSTAMP:20260420T134021
CREATED:20250803T185832Z
LAST-MODIFIED:20250803T185832Z
UID:10011319-1776283200-1776286800@rutherfordconnect.com
SUMMARY:Never too Late Group (NA meeting)
DESCRIPTION:This meeting is open to addicts and non-addicts alike. All are welcome.\n    This meeting invites participation by all attendees.
URL:https://rutherfordconnect.com/event/never-too-late-group-na-meeting-3/2026-04-15/
LOCATION:First Presbyterian Church\, 438 W Main St\, Forest City\, NC\, 28043\, United States
CATEGORIES:Faith-Based Support Groups,Mental Health & Recovery Support Events,Substance Use Recovery Meetings
END:VEVENT
BEGIN:VEVENT
DTSTART;TZID=America/New_York:20260416T080000
DTEND;TZID=America/New_York:20260416T170000
DTSTAMP:20260420T134021
CREATED:20250720T122956Z
LAST-MODIFIED:20250720T122956Z
UID:10004163-1776326400-1776358800@rutherfordconnect.com
SUMMARY:Congregant Meals
DESCRIPTION:Home Delivered Meals – Seniors over 60.\nCongregant Meals – register at least one day in advance. Meals provided at 193 Callahan-\nKoon Road. Congregant meals offered Monday through Friday. Call to register.\nCommodities Supplemental Food Program (CSFP)\nFood assistance for seniors ages 60 and up. Call to register.
URL:https://rutherfordconnect.com/event/congregant-meals/2026-04-16/
LOCATION:Rutherford County Senior Center\, 193 Callahan-Koon Rd\, Spindale\, NC\, 28160\, United States
CATEGORIES:Soup Kitchens & Free Meal Events
END:VEVENT
BEGIN:VEVENT
DTSTART;TZID=America/New_York:20260416T090000
DTEND;TZID=America/New_York:20260416T140000
DTSTAMP:20260420T134021
CREATED:20250720T124533Z
LAST-MODIFIED:20250720T124533Z
UID:10006955-1776330000-1776348000@rutherfordconnect.com
SUMMARY:Washburn Community Outreach Center Food Assistance
DESCRIPTION:Offers assistance with clothing and food. Hours of operation: 9am – 2pm\, Thursday\,\nFriday\, and Saturday.
URL:https://rutherfordconnect.com/event/washburn-community-outreach-center-food-assistance/2026-04-16/
LOCATION:Washburn Community Outreach Center\, 2934 Piney Mountain Church Rd\, Bostic\, NC\, 28018\, United States
CATEGORIES:Soup Kitchens & Free Meal Events
END:VEVENT
BEGIN:VEVENT
DTSTART;TZID=America/New_York:20260416T100000
DTEND;TZID=America/New_York:20260416T110000
DTSTAMP:20260420T134021
CREATED:20251003T172620Z
LAST-MODIFIED:20251003T174734Z
UID:10014048-1776333600-1776337200@rutherfordconnect.com
SUMMARY:Coffee & Connection
DESCRIPTION:Coffee & morning meditation to start your day. \n648 Withrow Rd\, Forest City\, NC 28043 \n828-286-3929
URL:https://rutherfordconnect.com/event/coffee-connection/2026-04-16/
LOCATION:United Way of Rutherford County\, 668 Withrow Rd\, Forest City\, NC\, 28043\, United States
CATEGORIES:Mental Health & Recovery Support Events
ORGANIZER;CN="United Way of Rutherford County":MAILTO:bdblack59@uwrcinc.org
END:VEVENT
BEGIN:VEVENT
DTSTART;TZID=America/New_York:20260416T100000
DTEND;TZID=America/New_York:20260416T140000
DTSTAMP:20260420T134021
CREATED:20250720T113735Z
LAST-MODIFIED:20250720T113735Z
UID:10000311-1776333600-1776348000@rutherfordconnect.com
SUMMARY:Basics Christian Ministries Food Pantry
DESCRIPTION:BASICS is an all-volunteer Christian ministry that provides food\, clothing\, and\nspiritual counseling to those who need it in Rutherford County\, NC. Provides\nshowers and laundry services for homeless persons. Food pantry Thursdays from\n10:00am – 2:00pm. Thrift store open Thursday – Saturday\, 10:00am – 2:00pm.
URL:https://rutherfordconnect.com/event/basics-christian-ministries-food-pantry/2026-04-16/
LOCATION:Basics Christian Ministries\, 141 N Main St\, Mooresboro\, NC\, 28114\, United States
CATEGORIES:Soup Kitchens & Free Meal Events
END:VEVENT
BEGIN:VEVENT
DTSTART;TZID=America/New_York:20260416T100000
DTEND;TZID=America/New_York:20260416T160000
DTSTAMP:20260420T134021
CREATED:20250720T120524Z
LAST-MODIFIED:20250720T120524Z
UID:10002597-1776333600-1776355200@rutherfordconnect.com
SUMMARY:Hickory Nut Gorge Outreach Food Pantry
DESCRIPTION:Helping Relieve Hunger at Home in our Community.\nHours of Operation: Monday\, Thursday\, Friday 10:00-4:00.
URL:https://rutherfordconnect.com/event/hickory-nut-gorge-outreach-food-pantry/2026-04-16/
LOCATION:Hickory Nut Gorge Outreach\, 2556 Memorial Highway\, Lake Lure\, NC\, 28746\, United States
CATEGORIES:Soup Kitchens & Free Meal Events
END:VEVENT
BEGIN:VEVENT
DTSTART;TZID=America/New_York:20260416T100000
DTEND;TZID=America/New_York:20260416T170000
DTSTAMP:20260420T134021
CREATED:20250720T123541Z
LAST-MODIFIED:20250720T123541Z
UID:10005429-1776333600-1776358800@rutherfordconnect.com
SUMMARY:Salvation Army Food Assistance
DESCRIPTION:Food assistance. Tuesday-Friday 10am-5pm.
URL:https://rutherfordconnect.com/event/salvation-army-food-assistance/2026-04-16/
LOCATION:Salvation Army\, 256 Main Street\, Forest City\, NC\, 28043\, United States
CATEGORIES:Soup Kitchens & Free Meal Events
END:VEVENT
BEGIN:VEVENT
DTSTART;TZID=America/New_York:20260416T123000
DTEND;TZID=America/New_York:20260416T133000
DTSTAMP:20260420T134021
CREATED:20251003T175018Z
LAST-MODIFIED:20251003T175018Z
UID:10014309-1776342600-1776346200@rutherfordconnect.com
SUMMARY:Thrive Together Group (Narcotics Anonymous)
DESCRIPTION:Thrive Together Group (NA) \n648 Withrow Rd\, Forest City\, NC 28043 \n828-286-3929 \n 
URL:https://rutherfordconnect.com/event/thrive-together-group-narcotics-anonymous/2026-04-16/
LOCATION:United Way of Rutherford County\, 668 Withrow Rd\, Forest City\, NC\, 28043\, United States
CATEGORIES:Mental Health & Recovery Support Events,Substance Use Recovery Meetings
ORGANIZER;CN="United Way of Rutherford County":MAILTO:bdblack59@uwrcinc.org
END:VEVENT
BEGIN:VEVENT
DTSTART;TZID=America/New_York:20260416T153000
DTEND;TZID=America/New_York:20260416T180000
DTSTAMP:20260420T134021
CREATED:20250920T211824Z
LAST-MODIFIED:20250920T211824Z
UID:10012758-1776353400-1776362400@rutherfordconnect.com
SUMMARY:HOPEworks Afterschool Program
DESCRIPTION:Hopeworks is for any students 5th-12th grade. This program is FREE and designed to inspire students to become community leaders. In addition\, students can. get help with homework and assignments in a safe and positive environment. \nOur 5th-8th graders meet on Wednesdays\nOur 9th-12th graders meet on Thursdays.\nThis occurs weekly\, 3:30-6:00pm at The Blue Ridge Village\n654 W. Main St in Forest City
URL:https://rutherfordconnect.com/event/hopeworks-afterschool-program/2026-04-16/
LOCATION:Blue Ridge Hope Village\, 654 West Main St\, Forest City\, NC\, 28043\, United States
CATEGORIES:Youth Camps & After-School Programs
ATTACH;FMTTYPE=image/png:https://rutherfordconnect.com/wp-content/uploads/2025/09/Fall-25-HW-schedule-1-1.png
END:VEVENT
BEGIN:VEVENT
DTSTART;TZID=America/New_York:20260416T160000
DTEND;TZID=America/New_York:20260416T173000
DTSTAMP:20260420T134021
CREATED:20250720T114540Z
LAST-MODIFIED:20250720T114540Z
UID:10001026-1776355200-1776360600@rutherfordconnect.com
SUMMARY:Grace of God Rescue Mission Meals
DESCRIPTION:Hot Meal Monday-Saturday 4pm-5:30pm.
URL:https://rutherfordconnect.com/event/grace-of-god-rescue-mission-meals/2026-04-16/
LOCATION:Grace of God Rescue Mission\, 537 W. Main St.\, Forest City\, NC\, 28043\, United States
CATEGORIES:Soup Kitchens & Free Meal Events
END:VEVENT
BEGIN:VEVENT
DTSTART;TZID=America/New_York:20260416T163000
DTEND;TZID=America/New_York:20260416T180000
DTSTAMP:20260420T134021
CREATED:20250720T121851Z
LAST-MODIFIED:20250720T121851Z
UID:10003486-1776357000-1776362400@rutherfordconnect.com
SUMMARY:New Beginnings Soup Kitchen
DESCRIPTION:Thursday 4:30-6:00 PM Take Out Only/Soup Kitchen
URL:https://rutherfordconnect.com/event/new-beginnings-soup-kitchen/2026-04-16/
LOCATION:New Beginnings Soup Kitchen\, 668 N. Washington St\, Rutherfordton\, NC\, 28139\, United States
CATEGORIES:Soup Kitchens & Free Meal Events
END:VEVENT
BEGIN:VEVENT
DTSTART;TZID=America/New_York:20260416T190000
DTEND;TZID=America/New_York:20260416T200000
DTSTAMP:20260420T134021
CREATED:20250725T160928Z
LAST-MODIFIED:20250725T161322Z
UID:10010533-1776366000-1776369600@rutherfordconnect.com
SUMMARY:Sobriety & Beyond Group (AA meeting)
DESCRIPTION:Alcoholics Anonymous meeting \nDiscussion\nIn-person\nLiterature\nOpen\nWheelchair Access
URL:https://rutherfordconnect.com/event/sobriety-beyond-group-aa-meeting/2026-04-16/
LOCATION:First Presbyterian Church\, 438 W Main St\, Forest City\, NC\, 28043\, United States
CATEGORIES:Faith-Based Support Groups,Mental Health & Recovery Support Events,Substance Use Recovery Meetings
END:VEVENT
END:VCALENDAR