BEGIN:VCALENDAR
VERSION:2.0
PRODID:-//Rutherford Connect - ECPv6.15.20//NONSGML v1.0//EN
CALSCALE:GREGORIAN
METHOD:PUBLISH
X-WR-CALNAME:Rutherford Connect
X-ORIGINAL-URL:https://rutherfordconnect.com
X-WR-CALDESC:Events for Rutherford Connect
REFRESH-INTERVAL;VALUE=DURATION:PT1H
X-Robots-Tag:noindex
X-PUBLISHED-TTL:PT1H
BEGIN:VTIMEZONE
TZID:America/New_York
BEGIN:DAYLIGHT
TZOFFSETFROM:-0500
TZOFFSETTO:-0400
TZNAME:EDT
DTSTART:20250309T070000
END:DAYLIGHT
BEGIN:STANDARD
TZOFFSETFROM:-0400
TZOFFSETTO:-0500
TZNAME:EST
DTSTART:20251102T060000
END:STANDARD
BEGIN:DAYLIGHT
TZOFFSETFROM:-0500
TZOFFSETTO:-0400
TZNAME:EDT
DTSTART:20260308T070000
END:DAYLIGHT
BEGIN:STANDARD
TZOFFSETFROM:-0400
TZOFFSETTO:-0500
TZNAME:EST
DTSTART:20261101T060000
END:STANDARD
BEGIN:DAYLIGHT
TZOFFSETFROM:-0500
TZOFFSETTO:-0400
TZNAME:EDT
DTSTART:20270314T070000
END:DAYLIGHT
BEGIN:STANDARD
TZOFFSETFROM:-0400
TZOFFSETTO:-0500
TZNAME:EST
DTSTART:20271107T060000
END:STANDARD
END:VTIMEZONE
BEGIN:VEVENT
DTSTART;TZID=America/New_York:20260301T130000
DTEND;TZID=America/New_York:20260301T180000
DTSTAMP:20260421T075700
CREATED:20260206T173626Z
LAST-MODIFIED:20260206T173626Z
UID:10015729-1772370000-1772388000@rutherfordconnect.com
SUMMARY:Healing Hearts Festival
DESCRIPTION:Addiction and mental health awareness. \nInspirational guest speakers including Andrew LaBreche\, representative from NAMI\, and others. \nProceeds go to nonprofit organizations including NAMI South Mountains\, Blue Ridge Hope\, Out of the Ashes\, and others who will be present offering helpful resources and valuable information. \nPetting zoo\nKaraoke\nCake walk\nSilent auction\nFairy hair\nFarmers market\nVendors\nReiki healing\nBBQ\n…and more!
URL:https://rutherfordconnect.com/event/healing-hearts-festival/
LOCATION:Fly Boy’s Pizza\, 206 Fashion Circle\, Rutherfordton\, NC\, 28139\, United States
CATEGORIES:Nonprofit Events & Fundraisers
END:VEVENT
BEGIN:VEVENT
DTSTART;TZID=America/New_York:20260301T180000
DTEND;TZID=America/New_York:20260301T190000
DTSTAMP:20260421T075700
CREATED:20250725T160239Z
LAST-MODIFIED:20250725T161051Z
UID:10008700-1772388000-1772391600@rutherfordconnect.com
SUMMARY:Promises Group (AA meeting)
DESCRIPTION:Alcoholics Anonymous meeting \nBig Book\nIn-person\nOpen
URL:https://rutherfordconnect.com/event/promises-group-aa-meeting/2026-03-01/
LOCATION:Rutherfordton Presbyterian Church\, 252 N Washington St\, Rutherfordton\, NC\, 28139\, United States
CATEGORIES:Faith-Based Support Groups,Mental Health & Recovery Support Events,Substance Use Recovery Meetings
END:VEVENT
BEGIN:VEVENT
DTSTART;TZID=America/New_York:20260301T193000
DTEND;TZID=America/New_York:20260301T203000
DTSTAMP:20260421T075700
CREATED:20250725T160804Z
LAST-MODIFIED:20250725T161214Z
UID:10010036-1772393400-1772397000@rutherfordconnect.com
SUMMARY:Live & Let Live Group (AA meeting)
DESCRIPTION:Alcoholics Anonymous meeting \nDiscussion\nIn-person
URL:https://rutherfordconnect.com/event/live-let-live-group-aa-meeting/2026-03-01/
LOCATION:Immaculate Conception Catholic Church\, 1024 W Main St\, Forest City\, NC\, 28043\, United States
CATEGORIES:Faith-Based Support Groups,Mental Health & Recovery Support Events,Substance Use Recovery Meetings
END:VEVENT
BEGIN:VEVENT
DTSTART;TZID=America/New_York:20260302T080000
DTEND;TZID=America/New_York:20260302T170000
DTSTAMP:20260421T075700
CREATED:20250720T122956Z
LAST-MODIFIED:20250720T122956Z
UID:10004130-1772438400-1772470800@rutherfordconnect.com
SUMMARY:Congregant Meals
DESCRIPTION:Home Delivered Meals – Seniors over 60.\nCongregant Meals – register at least one day in advance. Meals provided at 193 Callahan-\nKoon Road. Congregant meals offered Monday through Friday. Call to register.\nCommodities Supplemental Food Program (CSFP)\nFood assistance for seniors ages 60 and up. Call to register.
URL:https://rutherfordconnect.com/event/congregant-meals/2026-03-02/
LOCATION:Rutherford County Senior Center\, 193 Callahan-Koon Rd\, Spindale\, NC\, 28160\, United States
CATEGORIES:Soup Kitchens & Free Meal Events
END:VEVENT
BEGIN:VEVENT
DTSTART;TZID=America/New_York:20260302T080000
DTEND;TZID=America/New_York:20260302T170000
DTSTAMP:20260421T075700
CREATED:20260105T183624Z
LAST-MODIFIED:20260105T183624Z
UID:10015669-1772438400-1772470800@rutherfordconnect.com
SUMMARY:Welcome Table Community Meal
DESCRIPTION:Come enjoy a free hot meal served by local Rutherfordton Churches and Ruff’ton Roots.  All all welcome!  Meals served 5-6:30 pm each Monday following the county school calendar.
URL:https://rutherfordconnect.com/event/welcome-table-community-meal/2026-03-02/1/
LOCATION:First United Methodist Church of Rutherfordton\, 264 N Main St\, Rutherfordton\, 28139
CATEGORIES:Faith-Based Support Groups,Soup Kitchens & Free Meal Events
END:VEVENT
BEGIN:VEVENT
DTSTART;TZID=America/New_York:20260302T100000
DTEND;TZID=America/New_York:20260302T120000
DTSTAMP:20260421T075700
CREATED:20250806T152717Z
LAST-MODIFIED:20250806T152717Z
UID:10012096-1772445600-1772452800@rutherfordconnect.com
SUMMARY:Hope. Help. Healing
DESCRIPTION:Struggling with addiction to opioids?\nRecovery starts here. \nFree medication assisted treatment for uninsured Rutherford County residents \nCall ICGH for more information about MAT and other addiction treatment services:\n828.322.5915
URL:https://rutherfordconnect.com/event/hope-help-healing/2026-03-02/
LOCATION:Harvest House Baptist Church\, 2938 Harris Henrietta Rd.\, Mooresboro\, NC\, 28114\, United States
CATEGORIES:Faith-Based Support Groups,Health & Wellness,Mental Health & Recovery Support Events,Substance Use Recovery Meetings
ORGANIZER;CN="Harvest House Baptist Church":MAILTO:hhnmerciescenter@gmail.com
END:VEVENT
BEGIN:VEVENT
DTSTART;TZID=America/New_York:20260302T100000
DTEND;TZID=America/New_York:20260302T140000
DTSTAMP:20260421T075700
CREATED:20251125T135433Z
LAST-MODIFIED:20251125T135433Z
UID:10015357-1772445600-1772460000@rutherfordconnect.com
SUMMARY:Showers of Blessing
DESCRIPTION:First Baptist Church Spindale \n871 Thunder Rd\, Spindale NC \nOffers a shower and a snack on Mondays from 10am to 2pm. \nSoap\, towel\, and wash cloth supplied
URL:https://rutherfordconnect.com/event/showers-of-blessing/2026-03-02/
LOCATION:First Baptist Church Spindale\, 871 Thunder Rd\, Spindale\, NC\, 28160\, United States
CATEGORIES:Community Support Event,Faith & Spiritual Life,Faith-Based Support Groups,Health & Wellness
END:VEVENT
BEGIN:VEVENT
DTSTART;TZID=America/New_York:20260302T100000
DTEND;TZID=America/New_York:20260302T160000
DTSTAMP:20260421T075700
CREATED:20250720T120524Z
LAST-MODIFIED:20250720T120524Z
UID:10002578-1772445600-1772467200@rutherfordconnect.com
SUMMARY:Hickory Nut Gorge Outreach Food Pantry
DESCRIPTION:Helping Relieve Hunger at Home in our Community.\nHours of Operation: Monday\, Thursday\, Friday 10:00-4:00.
URL:https://rutherfordconnect.com/event/hickory-nut-gorge-outreach-food-pantry/2026-03-02/
LOCATION:Hickory Nut Gorge Outreach\, 2556 Memorial Highway\, Lake Lure\, NC\, 28746\, United States
CATEGORIES:Soup Kitchens & Free Meal Events
END:VEVENT
BEGIN:VEVENT
DTSTART;TZID=America/New_York:20260302T110000
DTEND;TZID=America/New_York:20260302T130000
DTSTAMP:20260421T075700
CREATED:20251003T172159Z
LAST-MODIFIED:20251003T172159Z
UID:10012818-1772449200-1772456400@rutherfordconnect.com
SUMMARY:Acceptance\, Resilience\, and Togetherness (A.R.T)
DESCRIPTION:Where we can use creative expression & shared experiences to foster healing\, connection\, & personal growth. \nMondays from 11am to 1pm \n648 Withrow Rd\, Forest City\, NC 28043
URL:https://rutherfordconnect.com/event/acceptance-resilience-and-togetherness-a-r-t/2026-03-02/
LOCATION:United Way of Rutherford County\, 668 Withrow Rd\, Forest City\, NC\, 28043\, United States
CATEGORIES:Mental Health & Recovery Support Events
ORGANIZER;CN="United Way of Rutherford County":MAILTO:bdblack59@uwrcinc.org
END:VEVENT
BEGIN:VEVENT
DTSTART;TZID=America/New_York:20260302T160000
DTEND;TZID=America/New_York:20260302T173000
DTSTAMP:20260421T075700
CREATED:20250720T114540Z
LAST-MODIFIED:20250720T114540Z
UID:10000987-1772467200-1772472600@rutherfordconnect.com
SUMMARY:Grace of God Rescue Mission Meals
DESCRIPTION:Hot Meal Monday-Saturday 4pm-5:30pm.
URL:https://rutherfordconnect.com/event/grace-of-god-rescue-mission-meals/2026-03-02/
LOCATION:Grace of God Rescue Mission\, 537 W. Main St.\, Forest City\, NC\, 28043\, United States
CATEGORIES:Soup Kitchens & Free Meal Events
END:VEVENT
BEGIN:VEVENT
DTSTART;TZID=America/New_York:20260302T170000
DTEND;TZID=America/New_York:20260302T183000
DTSTAMP:20260421T075700
CREATED:20260105T183624Z
LAST-MODIFIED:20260105T183624Z
UID:10015616-1772470800-1772476200@rutherfordconnect.com
SUMMARY:Welcome Table Community Meal
DESCRIPTION:Come enjoy a free hot meal served by local Rutherfordton Churches and Ruff’ton Roots.  All all welcome!  Meals served 5-6:30 pm each Monday following the county school calendar.
URL:https://rutherfordconnect.com/event/welcome-table-community-meal/2026-03-02/2/
LOCATION:First United Methodist Church of Rutherfordton\, 264 N Main St\, Rutherfordton\, 28139
CATEGORIES:Faith-Based Support Groups,Soup Kitchens & Free Meal Events
END:VEVENT
BEGIN:VEVENT
DTSTART;TZID=America/New_York:20260302T180000
DTEND;TZID=America/New_York:20260302T190000
DTSTAMP:20260421T075700
CREATED:20250919T165417Z
LAST-MODIFIED:20250919T165417Z
UID:10012610-1772474400-1772478000@rutherfordconnect.com
SUMMARY:Rutherford County Commissioner's Meeting
DESCRIPTION:NOTICE IS HEREBY GIVEN that the following special meetings of the Rutherford County Board of Commissioners will be held at the Rutherford County Office Building\, 289 North Main Street\, Rutherfordton\, NC in the County Commissioners’ Meeting Room. \nRegular Meetings of Rutherford County Board of Commissioners occur on the first Monday of each month (except holidays) \nat 6:00 P.M.\nRutherford County Office Building\n289 N. Main St.\nRutherfordton\, NC 28139\nMeetings are live streamed and may be seen by visiting the Rutherford County webpage at http://www.rutherfordcountync.gov
URL:https://rutherfordconnect.com/event/rutherford-county-commissioners-meeting/2026-03-02/
LOCATION:Rutherford County Office Building\, 289 North Main St\, Rutherfordton\, 28139
CATEGORIES:Public Forums & Hearings
ORGANIZER;CN="Rutherford County Commissioners":MAILTO:hazel.haynes@rutherfordcountync.gov
END:VEVENT
BEGIN:VEVENT
DTSTART;TZID=America/New_York:20260302T180000
DTEND;TZID=America/New_York:20260302T193000
DTSTAMP:20260421T075700
CREATED:20251029T171018Z
LAST-MODIFIED:20251029T171018Z
UID:10015087-1772474400-1772479800@rutherfordconnect.com
SUMMARY:P.A.L.s (Parents of Addicted Loved Ones)
DESCRIPTION:Support group for parents of loved ones struggling with addiction.
URL:https://rutherfordconnect.com/event/p-a-l-s-parents-of-addicted-loved-ones/2026-03-02/
LOCATION:Adaville Baptist Church\, 805 Oakland Rd\, Spindale\, NC\, 28160\, United States
CATEGORIES:Faith-Based Support Groups
END:VEVENT
BEGIN:VEVENT
DTSTART;TZID=America/New_York:20260302T190000
DTEND;TZID=America/New_York:20260302T200000
DTSTAMP:20260421T075700
CREATED:20250725T160928Z
LAST-MODIFIED:20250725T161322Z
UID:10008962-1772478000-1772481600@rutherfordconnect.com
SUMMARY:Sobriety & Beyond Group (AA meeting)
DESCRIPTION:Alcoholics Anonymous meeting \nDiscussion\nIn-person\nLiterature\nOpen\nWheelchair Access
URL:https://rutherfordconnect.com/event/sobriety-beyond-group-aa-meeting/2026-03-02/
LOCATION:First Presbyterian Church\, 438 W Main St\, Forest City\, NC\, 28043\, United States
CATEGORIES:Faith-Based Support Groups,Mental Health & Recovery Support Events,Substance Use Recovery Meetings
END:VEVENT
BEGIN:VEVENT
DTSTART;TZID=America/New_York:20260302T200000
DTEND;TZID=America/New_York:20260302T210000
DTSTAMP:20260421T075700
CREATED:20250803T185703Z
LAST-MODIFIED:20250803T185703Z
UID:10011052-1772481600-1772485200@rutherfordconnect.com
SUMMARY:Never too Late Group (NA meeting)
DESCRIPTION:This meeting is open to addicts and non-addicts alike. All are welcome.\n    Approved N.A. Books
URL:https://rutherfordconnect.com/event/never-too-late-group-na-meeting-2/2026-03-02/
LOCATION:Wells Spring United Methodist Church\, 201 Wells Spring Rd\, Forest City\, NC\, 28043\, United States
CATEGORIES:Faith-Based Support Groups,Mental Health & Recovery Support Events,Substance Use Recovery Meetings
END:VEVENT
BEGIN:VEVENT
DTSTART;TZID=America/New_York:20260303T080000
DTEND;TZID=America/New_York:20260303T170000
DTSTAMP:20260421T075700
CREATED:20250720T122956Z
LAST-MODIFIED:20250720T122956Z
UID:10004131-1772524800-1772557200@rutherfordconnect.com
SUMMARY:Congregant Meals
DESCRIPTION:Home Delivered Meals – Seniors over 60.\nCongregant Meals – register at least one day in advance. Meals provided at 193 Callahan-\nKoon Road. Congregant meals offered Monday through Friday. Call to register.\nCommodities Supplemental Food Program (CSFP)\nFood assistance for seniors ages 60 and up. Call to register.
URL:https://rutherfordconnect.com/event/congregant-meals/2026-03-03/
LOCATION:Rutherford County Senior Center\, 193 Callahan-Koon Rd\, Spindale\, NC\, 28160\, United States
CATEGORIES:Soup Kitchens & Free Meal Events
END:VEVENT
BEGIN:VEVENT
DTSTART;TZID=America/New_York:20260303T100000
DTEND;TZID=America/New_York:20260303T110000
DTSTAMP:20260421T075700
CREATED:20251003T172620Z
LAST-MODIFIED:20251003T174734Z
UID:10013079-1772532000-1772535600@rutherfordconnect.com
SUMMARY:Coffee & Connection
DESCRIPTION:Coffee & morning meditation to start your day. \n648 Withrow Rd\, Forest City\, NC 28043 \n828-286-3929
URL:https://rutherfordconnect.com/event/coffee-connection/2026-03-03/
LOCATION:United Way of Rutherford County\, 668 Withrow Rd\, Forest City\, NC\, 28043\, United States
CATEGORIES:Mental Health & Recovery Support Events
ORGANIZER;CN="United Way of Rutherford County":MAILTO:bdblack59@uwrcinc.org
END:VEVENT
BEGIN:VEVENT
DTSTART;TZID=America/New_York:20260303T100000
DTEND;TZID=America/New_York:20260303T170000
DTSTAMP:20260421T075700
CREATED:20250720T123541Z
LAST-MODIFIED:20250720T123541Z
UID:10005403-1772532000-1772557200@rutherfordconnect.com
SUMMARY:Salvation Army Food Assistance
DESCRIPTION:Food assistance. Tuesday-Friday 10am-5pm.
URL:https://rutherfordconnect.com/event/salvation-army-food-assistance/2026-03-03/
LOCATION:Salvation Army\, 256 Main Street\, Forest City\, NC\, 28043\, United States
CATEGORIES:Soup Kitchens & Free Meal Events
END:VEVENT
BEGIN:VEVENT
DTSTART;TZID=America/New_York:20260303T150000
DTEND;TZID=America/New_York:20260303T180000
DTSTAMP:20260421T075700
CREATED:20250720T122424Z
LAST-MODIFIED:20250720T122424Z
UID:10003741-1772550000-1772560800@rutherfordconnect.com
SUMMARY:Red Bird Food Pantry
DESCRIPTION:Food assistance: Tuesdays from 3 – 6 pm.
URL:https://rutherfordconnect.com/event/red-bird-food-pantry/2026-03-03/
LOCATION:Mountain Creek Baptist Church\, 710 Mountain Creek Road\, Rutherfordton\, NC\, 28139\, United States
CATEGORIES:Soup Kitchens & Free Meal Events
END:VEVENT
BEGIN:VEVENT
DTSTART;TZID=America/New_York:20260303T160000
DTEND;TZID=America/New_York:20260303T173000
DTSTAMP:20260421T075700
CREATED:20250720T114540Z
LAST-MODIFIED:20250720T114540Z
UID:10000988-1772553600-1772559000@rutherfordconnect.com
SUMMARY:Grace of God Rescue Mission Meals
DESCRIPTION:Hot Meal Monday-Saturday 4pm-5:30pm.
URL:https://rutherfordconnect.com/event/grace-of-god-rescue-mission-meals/2026-03-03/
LOCATION:Grace of God Rescue Mission\, 537 W. Main St.\, Forest City\, NC\, 28043\, United States
CATEGORIES:Soup Kitchens & Free Meal Events
END:VEVENT
BEGIN:VEVENT
DTSTART;TZID=America/New_York:20260303T180000
DTEND;TZID=America/New_York:20260303T190000
DTSTAMP:20260421T075700
CREATED:20250725T160239Z
LAST-MODIFIED:20250725T161051Z
UID:10009254-1772560800-1772564400@rutherfordconnect.com
SUMMARY:Promises Group (AA meeting)
DESCRIPTION:Alcoholics Anonymous meeting \nBig Book\nIn-person\nOpen
URL:https://rutherfordconnect.com/event/promises-group-aa-meeting/2026-03-03/
LOCATION:Rutherfordton Presbyterian Church\, 252 N Washington St\, Rutherfordton\, NC\, 28139\, United States
CATEGORIES:Faith-Based Support Groups,Mental Health & Recovery Support Events,Substance Use Recovery Meetings
END:VEVENT
BEGIN:VEVENT
DTSTART;TZID=America/New_York:20260303T183000
DTEND;TZID=America/New_York:20260303T193000
DTSTAMP:20260421T075700
CREATED:20251003T172956Z
LAST-MODIFIED:20251003T172956Z
UID:10013340-1772562600-1772566200@rutherfordconnect.com
SUMMARY:Parents' Circle
DESCRIPTION:A safe place for parents whose children experience addiction &/or incarceration. \n648 Withrow Rd\, Forest City\, NC 28043 \n828-286-3929
URL:https://rutherfordconnect.com/event/parents-circle/2026-03-03/
LOCATION:United Way of Rutherford County\, 668 Withrow Rd\, Forest City\, NC\, 28043\, United States
CATEGORIES:Mental Health & Recovery Support Events
ORGANIZER;CN="United Way of Rutherford County":MAILTO:bdblack59@uwrcinc.org
END:VEVENT
BEGIN:VEVENT
DTSTART;TZID=America/New_York:20260303T200000
DTEND;TZID=America/New_York:20260303T210000
DTSTAMP:20260421T075700
CREATED:20250803T185538Z
LAST-MODIFIED:20250803T185538Z
UID:10010791-1772568000-1772571600@rutherfordconnect.com
SUMMARY:Never too Late Group (NA meeting)
DESCRIPTION:This meeting is open to addicts and non-addicts alike. All are welcome.\nThis meeting is focused on discussion of the Basic Text of Narcotics Anonymous.\nThis meeting invites participation by all attendees.
URL:https://rutherfordconnect.com/event/never-too-late-group-na-meeting/2026-03-03/
LOCATION:Wells Spring United Methodist Church\, 201 Wells Spring Rd\, Forest City\, NC\, 28043\, United States
CATEGORIES:Faith-Based Support Groups,Mental Health & Recovery Support Events,Substance Use Recovery Meetings
END:VEVENT
BEGIN:VEVENT
DTSTART;TZID=America/New_York:20260304T080000
DTEND;TZID=America/New_York:20260304T170000
DTSTAMP:20260421T075700
CREATED:20250720T122956Z
LAST-MODIFIED:20250720T122956Z
UID:10004132-1772611200-1772643600@rutherfordconnect.com
SUMMARY:Congregant Meals
DESCRIPTION:Home Delivered Meals – Seniors over 60.\nCongregant Meals – register at least one day in advance. Meals provided at 193 Callahan-\nKoon Road. Congregant meals offered Monday through Friday. Call to register.\nCommodities Supplemental Food Program (CSFP)\nFood assistance for seniors ages 60 and up. Call to register.
URL:https://rutherfordconnect.com/event/congregant-meals/2026-03-04/
LOCATION:Rutherford County Senior Center\, 193 Callahan-Koon Rd\, Spindale\, NC\, 28160\, United States
CATEGORIES:Soup Kitchens & Free Meal Events
END:VEVENT
BEGIN:VEVENT
DTSTART;TZID=America/New_York:20260304T090000
DTEND;TZID=America/New_York:20260304T140000
DTSTAMP:20260421T075700
CREATED:20250720T114142Z
LAST-MODIFIED:20250720T114142Z
UID:10000566-1772614800-1772632800@rutherfordconnect.com
SUMMARY:Chase Corner Ministries Food Pantry
DESCRIPTION:Emergency assistance for food\, clothing\, utility\, rent\nand medication assistance once every 6 months.\nEmergency Food Pantry: Monday\, Tuesday\, Thursday\, Friday from 9:00am – 2:00pm.\nWednesday food distribution from 9:00am – 2:00pm.
URL:https://rutherfordconnect.com/event/chase-corner-ministries-food-pantry/2026-03-04/
LOCATION:Chase Corner Ministries\, 1604 Chase High Road\, Forest City\, NC\, 28043\, United States
CATEGORIES:Soup Kitchens & Free Meal Events
END:VEVENT
BEGIN:VEVENT
DTSTART;TZID=America/New_York:20260304T100000
DTEND;TZID=America/New_York:20260304T120000
DTSTAMP:20260421T075700
CREATED:20250720T124208Z
LAST-MODIFIED:20250720T124208Z
UID:10006612-1772618400-1772625600@rutherfordconnect.com
SUMMARY:Jericho Road Soup Kitchen
DESCRIPTION:Jericho Road Soup Kitchen – serves a free meal every Wednesday from 10:00 am\nto 12:00 pm.
URL:https://rutherfordconnect.com/event/jericho-road-soup-kitchen/2026-03-04/
LOCATION:St. Gabriel Episcopal Church\, 264 N. Ridgecrest Ave.\, Rutherfordton\, NC\, 28139\, United States
CATEGORIES:Soup Kitchens & Free Meal Events
END:VEVENT
BEGIN:VEVENT
DTSTART;TZID=America/New_York:20260304T100000
DTEND;TZID=America/New_York:20260304T170000
DTSTAMP:20260421T075700
CREATED:20250720T123541Z
LAST-MODIFIED:20250720T123541Z
UID:10005404-1772618400-1772643600@rutherfordconnect.com
SUMMARY:Salvation Army Food Assistance
DESCRIPTION:Food assistance. Tuesday-Friday 10am-5pm.
URL:https://rutherfordconnect.com/event/salvation-army-food-assistance/2026-03-04/
LOCATION:Salvation Army\, 256 Main Street\, Forest City\, NC\, 28043\, United States
CATEGORIES:Soup Kitchens & Free Meal Events
END:VEVENT
BEGIN:VEVENT
DTSTART;TZID=America/New_York:20260304T110000
DTEND;TZID=America/New_York:20260304T160000
DTSTAMP:20260421T075700
CREATED:20250720T123846Z
LAST-MODIFIED:20250720T123846Z
UID:10006351-1772622000-1772640000@rutherfordconnect.com
SUMMARY:The Source Ministries / Loving Arms Ministry
DESCRIPTION:Food distribution on Wednesdays from 11:00am – 4:00pm. Clothing\, baby products\,\nhygiene products.
URL:https://rutherfordconnect.com/event/the-source-ministries-loving-arms-ministry/2026-03-04/
LOCATION:The Source Ministries\, 661 W Main St\, Forest City\, NC\, 28043\, United States
CATEGORIES:Soup Kitchens & Free Meal Events
END:VEVENT
BEGIN:VEVENT
DTSTART;TZID=America/New_York:20260304T120000
DTEND;TZID=America/New_York:20260304T130000
DTSTAMP:20260421T075700
CREATED:20250806T151627Z
LAST-MODIFIED:20250806T151627Z
UID:10011836-1772625600-1772629200@rutherfordconnect.com
SUMMARY:Moms in Recovery
DESCRIPTION:Come as you are. \nThis is a safe\, judgement-free space for mothers in any stage of recovery to connect\, share\, and grow together. Whether you’re just starting out or years into your journey- you’re not alone. \nPeer-led conversations \nEncouragement & resources
URL:https://rutherfordconnect.com/event/moms-in-recovery/2026-03-04/
LOCATION:Healing\, Recovery\, and Thriving Center\, 646 Withrow Rd\, Forest City\, NC\, 28043\, United States
CATEGORIES:Mental Health & Recovery Support Events,Substance Use Recovery Meetings
ORGANIZER;CN="United Way of Rutherford County":MAILTO:bdblack59@uwrcinc.org
END:VEVENT
BEGIN:VEVENT
DTSTART;TZID=America/New_York:20260304T120000
DTEND;TZID=America/New_York:20260304T130000
DTSTAMP:20260421T075700
CREATED:20251003T173222Z
LAST-MODIFIED:20251003T173222Z
UID:10013601-1772625600-1772629200@rutherfordconnect.com
SUMMARY:Moms in Recovery
DESCRIPTION:Where moms in any stage of recovery can connect\, share\, & grow. \n648 Withrow Rd\, Forest City\, NC 28043 \n828-286-3929
URL:https://rutherfordconnect.com/event/moms-in-recovery-2/2026-03-04/
LOCATION:United Way of Rutherford County\, 668 Withrow Rd\, Forest City\, NC\, 28043\, United States
CATEGORIES:Mental Health & Recovery Support Events
ORGANIZER;CN="United Way of Rutherford County":MAILTO:bdblack59@uwrcinc.org
END:VEVENT
END:VCALENDAR