BEGIN:VCALENDAR
VERSION:2.0
PRODID:-//Rutherford Connect - ECPv6.15.20//NONSGML v1.0//EN
CALSCALE:GREGORIAN
METHOD:PUBLISH
X-WR-CALNAME:Rutherford Connect
X-ORIGINAL-URL:https://rutherfordconnect.com
X-WR-CALDESC:Events for Rutherford Connect
REFRESH-INTERVAL;VALUE=DURATION:PT1H
X-Robots-Tag:noindex
X-PUBLISHED-TTL:PT1H
BEGIN:VTIMEZONE
TZID:America/New_York
BEGIN:DAYLIGHT
TZOFFSETFROM:-0500
TZOFFSETTO:-0400
TZNAME:EDT
DTSTART:20240310T070000
END:DAYLIGHT
BEGIN:STANDARD
TZOFFSETFROM:-0400
TZOFFSETTO:-0500
TZNAME:EST
DTSTART:20241103T060000
END:STANDARD
BEGIN:DAYLIGHT
TZOFFSETFROM:-0500
TZOFFSETTO:-0400
TZNAME:EDT
DTSTART:20250309T070000
END:DAYLIGHT
BEGIN:STANDARD
TZOFFSETFROM:-0400
TZOFFSETTO:-0500
TZNAME:EST
DTSTART:20251102T060000
END:STANDARD
BEGIN:DAYLIGHT
TZOFFSETFROM:-0500
TZOFFSETTO:-0400
TZNAME:EDT
DTSTART:20260308T070000
END:DAYLIGHT
BEGIN:STANDARD
TZOFFSETFROM:-0400
TZOFFSETTO:-0500
TZNAME:EST
DTSTART:20261101T060000
END:STANDARD
BEGIN:DAYLIGHT
TZOFFSETFROM:-0500
TZOFFSETTO:-0400
TZNAME:EDT
DTSTART:20270314T070000
END:DAYLIGHT
BEGIN:STANDARD
TZOFFSETFROM:-0400
TZOFFSETTO:-0500
TZNAME:EST
DTSTART:20271107T060000
END:STANDARD
END:VTIMEZONE
BEGIN:VEVENT
DTSTART;TZID=America/New_York:20260416T100000
DTEND;TZID=America/New_York:20260416T140000
DTSTAMP:20260423T113114
CREATED:20250720T113735Z
LAST-MODIFIED:20250720T113735Z
UID:10000311-1776333600-1776348000@rutherfordconnect.com
SUMMARY:Basics Christian Ministries Food Pantry
DESCRIPTION:BASICS is an all-volunteer Christian ministry that provides food\, clothing\, and\nspiritual counseling to those who need it in Rutherford County\, NC. Provides\nshowers and laundry services for homeless persons. Food pantry Thursdays from\n10:00am – 2:00pm. Thrift store open Thursday – Saturday\, 10:00am – 2:00pm.
URL:https://rutherfordconnect.com/event/basics-christian-ministries-food-pantry/2026-04-16/
LOCATION:Basics Christian Ministries\, 141 N Main St\, Mooresboro\, NC\, 28114\, United States
CATEGORIES:Soup Kitchens & Free Meal Events
END:VEVENT
BEGIN:VEVENT
DTSTART;TZID=America/New_York:20260409T100000
DTEND;TZID=America/New_York:20260409T140000
DTSTAMP:20260423T113114
CREATED:20250720T113735Z
LAST-MODIFIED:20250720T113735Z
UID:10000310-1775728800-1775743200@rutherfordconnect.com
SUMMARY:Basics Christian Ministries Food Pantry
DESCRIPTION:BASICS is an all-volunteer Christian ministry that provides food\, clothing\, and\nspiritual counseling to those who need it in Rutherford County\, NC. Provides\nshowers and laundry services for homeless persons. Food pantry Thursdays from\n10:00am – 2:00pm. Thrift store open Thursday – Saturday\, 10:00am – 2:00pm.
URL:https://rutherfordconnect.com/event/basics-christian-ministries-food-pantry/2026-04-09/
LOCATION:Basics Christian Ministries\, 141 N Main St\, Mooresboro\, NC\, 28114\, United States
CATEGORIES:Soup Kitchens & Free Meal Events
END:VEVENT
BEGIN:VEVENT
DTSTART;TZID=America/New_York:20260402T100000
DTEND;TZID=America/New_York:20260402T140000
DTSTAMP:20260423T113114
CREATED:20250720T113735Z
LAST-MODIFIED:20250720T113735Z
UID:10000309-1775124000-1775138400@rutherfordconnect.com
SUMMARY:Basics Christian Ministries Food Pantry
DESCRIPTION:BASICS is an all-volunteer Christian ministry that provides food\, clothing\, and\nspiritual counseling to those who need it in Rutherford County\, NC. Provides\nshowers and laundry services for homeless persons. Food pantry Thursdays from\n10:00am – 2:00pm. Thrift store open Thursday – Saturday\, 10:00am – 2:00pm.
URL:https://rutherfordconnect.com/event/basics-christian-ministries-food-pantry/2026-04-02/
LOCATION:Basics Christian Ministries\, 141 N Main St\, Mooresboro\, NC\, 28114\, United States
CATEGORIES:Soup Kitchens & Free Meal Events
END:VEVENT
BEGIN:VEVENT
DTSTART;TZID=America/New_York:20260326T100000
DTEND;TZID=America/New_York:20260326T140000
DTSTAMP:20260423T113114
CREATED:20250720T113735Z
LAST-MODIFIED:20250720T113735Z
UID:10000308-1774519200-1774533600@rutherfordconnect.com
SUMMARY:Basics Christian Ministries Food Pantry
DESCRIPTION:BASICS is an all-volunteer Christian ministry that provides food\, clothing\, and\nspiritual counseling to those who need it in Rutherford County\, NC. Provides\nshowers and laundry services for homeless persons. Food pantry Thursdays from\n10:00am – 2:00pm. Thrift store open Thursday – Saturday\, 10:00am – 2:00pm.
URL:https://rutherfordconnect.com/event/basics-christian-ministries-food-pantry/2026-03-26/
LOCATION:Basics Christian Ministries\, 141 N Main St\, Mooresboro\, NC\, 28114\, United States
CATEGORIES:Soup Kitchens & Free Meal Events
END:VEVENT
BEGIN:VEVENT
DTSTART;TZID=America/New_York:20260319T100000
DTEND;TZID=America/New_York:20260319T140000
DTSTAMP:20260423T113114
CREATED:20250720T113735Z
LAST-MODIFIED:20250720T113735Z
UID:10000307-1773914400-1773928800@rutherfordconnect.com
SUMMARY:Basics Christian Ministries Food Pantry
DESCRIPTION:BASICS is an all-volunteer Christian ministry that provides food\, clothing\, and\nspiritual counseling to those who need it in Rutherford County\, NC. Provides\nshowers and laundry services for homeless persons. Food pantry Thursdays from\n10:00am – 2:00pm. Thrift store open Thursday – Saturday\, 10:00am – 2:00pm.
URL:https://rutherfordconnect.com/event/basics-christian-ministries-food-pantry/2026-03-19/
LOCATION:Basics Christian Ministries\, 141 N Main St\, Mooresboro\, NC\, 28114\, United States
CATEGORIES:Soup Kitchens & Free Meal Events
END:VEVENT
BEGIN:VEVENT
DTSTART;TZID=America/New_York:20260312T100000
DTEND;TZID=America/New_York:20260312T140000
DTSTAMP:20260423T113114
CREATED:20250720T113735Z
LAST-MODIFIED:20250720T113735Z
UID:10000306-1773309600-1773324000@rutherfordconnect.com
SUMMARY:Basics Christian Ministries Food Pantry
DESCRIPTION:BASICS is an all-volunteer Christian ministry that provides food\, clothing\, and\nspiritual counseling to those who need it in Rutherford County\, NC. Provides\nshowers and laundry services for homeless persons. Food pantry Thursdays from\n10:00am – 2:00pm. Thrift store open Thursday – Saturday\, 10:00am – 2:00pm.
URL:https://rutherfordconnect.com/event/basics-christian-ministries-food-pantry/2026-03-12/
LOCATION:Basics Christian Ministries\, 141 N Main St\, Mooresboro\, NC\, 28114\, United States
CATEGORIES:Soup Kitchens & Free Meal Events
END:VEVENT
BEGIN:VEVENT
DTSTART;TZID=America/New_York:20260305T100000
DTEND;TZID=America/New_York:20260305T140000
DTSTAMP:20260423T113114
CREATED:20250720T113735Z
LAST-MODIFIED:20250720T113735Z
UID:10000305-1772704800-1772719200@rutherfordconnect.com
SUMMARY:Basics Christian Ministries Food Pantry
DESCRIPTION:BASICS is an all-volunteer Christian ministry that provides food\, clothing\, and\nspiritual counseling to those who need it in Rutherford County\, NC. Provides\nshowers and laundry services for homeless persons. Food pantry Thursdays from\n10:00am – 2:00pm. Thrift store open Thursday – Saturday\, 10:00am – 2:00pm.
URL:https://rutherfordconnect.com/event/basics-christian-ministries-food-pantry/2026-03-05/
LOCATION:Basics Christian Ministries\, 141 N Main St\, Mooresboro\, NC\, 28114\, United States
CATEGORIES:Soup Kitchens & Free Meal Events
END:VEVENT
BEGIN:VEVENT
DTSTART;TZID=America/New_York:20260226T100000
DTEND;TZID=America/New_York:20260226T140000
DTSTAMP:20260423T113114
CREATED:20250720T113735Z
LAST-MODIFIED:20250720T113735Z
UID:10000304-1772100000-1772114400@rutherfordconnect.com
SUMMARY:Basics Christian Ministries Food Pantry
DESCRIPTION:BASICS is an all-volunteer Christian ministry that provides food\, clothing\, and\nspiritual counseling to those who need it in Rutherford County\, NC. Provides\nshowers and laundry services for homeless persons. Food pantry Thursdays from\n10:00am – 2:00pm. Thrift store open Thursday – Saturday\, 10:00am – 2:00pm.
URL:https://rutherfordconnect.com/event/basics-christian-ministries-food-pantry/2026-02-26/
LOCATION:Basics Christian Ministries\, 141 N Main St\, Mooresboro\, NC\, 28114\, United States
CATEGORIES:Soup Kitchens & Free Meal Events
END:VEVENT
BEGIN:VEVENT
DTSTART;TZID=America/New_York:20260219T100000
DTEND;TZID=America/New_York:20260219T140000
DTSTAMP:20260423T113114
CREATED:20250720T113735Z
LAST-MODIFIED:20250720T113735Z
UID:10000303-1771495200-1771509600@rutherfordconnect.com
SUMMARY:Basics Christian Ministries Food Pantry
DESCRIPTION:BASICS is an all-volunteer Christian ministry that provides food\, clothing\, and\nspiritual counseling to those who need it in Rutherford County\, NC. Provides\nshowers and laundry services for homeless persons. Food pantry Thursdays from\n10:00am – 2:00pm. Thrift store open Thursday – Saturday\, 10:00am – 2:00pm.
URL:https://rutherfordconnect.com/event/basics-christian-ministries-food-pantry/2026-02-19/
LOCATION:Basics Christian Ministries\, 141 N Main St\, Mooresboro\, NC\, 28114\, United States
CATEGORIES:Soup Kitchens & Free Meal Events
END:VEVENT
BEGIN:VEVENT
DTSTART;TZID=America/New_York:20260212T100000
DTEND;TZID=America/New_York:20260212T140000
DTSTAMP:20260423T113114
CREATED:20250720T113735Z
LAST-MODIFIED:20250720T113735Z
UID:10000302-1770890400-1770904800@rutherfordconnect.com
SUMMARY:Basics Christian Ministries Food Pantry
DESCRIPTION:BASICS is an all-volunteer Christian ministry that provides food\, clothing\, and\nspiritual counseling to those who need it in Rutherford County\, NC. Provides\nshowers and laundry services for homeless persons. Food pantry Thursdays from\n10:00am – 2:00pm. Thrift store open Thursday – Saturday\, 10:00am – 2:00pm.
URL:https://rutherfordconnect.com/event/basics-christian-ministries-food-pantry/2026-02-12/
LOCATION:Basics Christian Ministries\, 141 N Main St\, Mooresboro\, NC\, 28114\, United States
CATEGORIES:Soup Kitchens & Free Meal Events
END:VEVENT
BEGIN:VEVENT
DTSTART;TZID=America/New_York:20260205T100000
DTEND;TZID=America/New_York:20260205T140000
DTSTAMP:20260423T113114
CREATED:20250720T113735Z
LAST-MODIFIED:20250720T113735Z
UID:10000301-1770285600-1770300000@rutherfordconnect.com
SUMMARY:Basics Christian Ministries Food Pantry
DESCRIPTION:BASICS is an all-volunteer Christian ministry that provides food\, clothing\, and\nspiritual counseling to those who need it in Rutherford County\, NC. Provides\nshowers and laundry services for homeless persons. Food pantry Thursdays from\n10:00am – 2:00pm. Thrift store open Thursday – Saturday\, 10:00am – 2:00pm.
URL:https://rutherfordconnect.com/event/basics-christian-ministries-food-pantry/2026-02-05/
LOCATION:Basics Christian Ministries\, 141 N Main St\, Mooresboro\, NC\, 28114\, United States
CATEGORIES:Soup Kitchens & Free Meal Events
END:VEVENT
BEGIN:VEVENT
DTSTART;TZID=America/New_York:20260129T100000
DTEND;TZID=America/New_York:20260129T140000
DTSTAMP:20260423T113114
CREATED:20250720T113735Z
LAST-MODIFIED:20250720T113735Z
UID:10000300-1769680800-1769695200@rutherfordconnect.com
SUMMARY:Basics Christian Ministries Food Pantry
DESCRIPTION:BASICS is an all-volunteer Christian ministry that provides food\, clothing\, and\nspiritual counseling to those who need it in Rutherford County\, NC. Provides\nshowers and laundry services for homeless persons. Food pantry Thursdays from\n10:00am – 2:00pm. Thrift store open Thursday – Saturday\, 10:00am – 2:00pm.
URL:https://rutherfordconnect.com/event/basics-christian-ministries-food-pantry/2026-01-29/
LOCATION:Basics Christian Ministries\, 141 N Main St\, Mooresboro\, NC\, 28114\, United States
CATEGORIES:Soup Kitchens & Free Meal Events
END:VEVENT
BEGIN:VEVENT
DTSTART;TZID=America/New_York:20260122T100000
DTEND;TZID=America/New_York:20260122T140000
DTSTAMP:20260423T113114
CREATED:20250720T113735Z
LAST-MODIFIED:20250720T113735Z
UID:10000299-1769076000-1769090400@rutherfordconnect.com
SUMMARY:Basics Christian Ministries Food Pantry
DESCRIPTION:BASICS is an all-volunteer Christian ministry that provides food\, clothing\, and\nspiritual counseling to those who need it in Rutherford County\, NC. Provides\nshowers and laundry services for homeless persons. Food pantry Thursdays from\n10:00am – 2:00pm. Thrift store open Thursday – Saturday\, 10:00am – 2:00pm.
URL:https://rutherfordconnect.com/event/basics-christian-ministries-food-pantry/2026-01-22/
LOCATION:Basics Christian Ministries\, 141 N Main St\, Mooresboro\, NC\, 28114\, United States
CATEGORIES:Soup Kitchens & Free Meal Events
END:VEVENT
BEGIN:VEVENT
DTSTART;TZID=America/New_York:20260115T100000
DTEND;TZID=America/New_York:20260115T140000
DTSTAMP:20260423T113114
CREATED:20250720T113735Z
LAST-MODIFIED:20250720T113735Z
UID:10000298-1768471200-1768485600@rutherfordconnect.com
SUMMARY:Basics Christian Ministries Food Pantry
DESCRIPTION:BASICS is an all-volunteer Christian ministry that provides food\, clothing\, and\nspiritual counseling to those who need it in Rutherford County\, NC. Provides\nshowers and laundry services for homeless persons. Food pantry Thursdays from\n10:00am – 2:00pm. Thrift store open Thursday – Saturday\, 10:00am – 2:00pm.
URL:https://rutherfordconnect.com/event/basics-christian-ministries-food-pantry/2026-01-15/
LOCATION:Basics Christian Ministries\, 141 N Main St\, Mooresboro\, NC\, 28114\, United States
CATEGORIES:Soup Kitchens & Free Meal Events
END:VEVENT
BEGIN:VEVENT
DTSTART;TZID=America/New_York:20260108T100000
DTEND;TZID=America/New_York:20260108T140000
DTSTAMP:20260423T113114
CREATED:20250720T113735Z
LAST-MODIFIED:20250720T113735Z
UID:10000297-1767866400-1767880800@rutherfordconnect.com
SUMMARY:Basics Christian Ministries Food Pantry
DESCRIPTION:BASICS is an all-volunteer Christian ministry that provides food\, clothing\, and\nspiritual counseling to those who need it in Rutherford County\, NC. Provides\nshowers and laundry services for homeless persons. Food pantry Thursdays from\n10:00am – 2:00pm. Thrift store open Thursday – Saturday\, 10:00am – 2:00pm.
URL:https://rutherfordconnect.com/event/basics-christian-ministries-food-pantry/2026-01-08/
LOCATION:Basics Christian Ministries\, 141 N Main St\, Mooresboro\, NC\, 28114\, United States
CATEGORIES:Soup Kitchens & Free Meal Events
END:VEVENT
BEGIN:VEVENT
DTSTART;TZID=America/New_York:20260101T100000
DTEND;TZID=America/New_York:20260101T140000
DTSTAMP:20260423T113114
CREATED:20250720T113735Z
LAST-MODIFIED:20250720T113735Z
UID:10000296-1767261600-1767276000@rutherfordconnect.com
SUMMARY:Basics Christian Ministries Food Pantry
DESCRIPTION:BASICS is an all-volunteer Christian ministry that provides food\, clothing\, and\nspiritual counseling to those who need it in Rutherford County\, NC. Provides\nshowers and laundry services for homeless persons. Food pantry Thursdays from\n10:00am – 2:00pm. Thrift store open Thursday – Saturday\, 10:00am – 2:00pm.
URL:https://rutherfordconnect.com/event/basics-christian-ministries-food-pantry/2026-01-01/
LOCATION:Basics Christian Ministries\, 141 N Main St\, Mooresboro\, NC\, 28114\, United States
CATEGORIES:Soup Kitchens & Free Meal Events
END:VEVENT
BEGIN:VEVENT
DTSTART;TZID=America/New_York:20251225T100000
DTEND;TZID=America/New_York:20251225T140000
DTSTAMP:20260423T113114
CREATED:20250720T113735Z
LAST-MODIFIED:20250720T113735Z
UID:10000295-1766656800-1766671200@rutherfordconnect.com
SUMMARY:Basics Christian Ministries Food Pantry
DESCRIPTION:BASICS is an all-volunteer Christian ministry that provides food\, clothing\, and\nspiritual counseling to those who need it in Rutherford County\, NC. Provides\nshowers and laundry services for homeless persons. Food pantry Thursdays from\n10:00am – 2:00pm. Thrift store open Thursday – Saturday\, 10:00am – 2:00pm.
URL:https://rutherfordconnect.com/event/basics-christian-ministries-food-pantry/2025-12-25/
LOCATION:Basics Christian Ministries\, 141 N Main St\, Mooresboro\, NC\, 28114\, United States
CATEGORIES:Soup Kitchens & Free Meal Events
END:VEVENT
BEGIN:VEVENT
DTSTART;TZID=America/New_York:20251218T100000
DTEND;TZID=America/New_York:20251218T140000
DTSTAMP:20260423T113114
CREATED:20250720T113735Z
LAST-MODIFIED:20250720T113735Z
UID:10000294-1766052000-1766066400@rutherfordconnect.com
SUMMARY:Basics Christian Ministries Food Pantry
DESCRIPTION:BASICS is an all-volunteer Christian ministry that provides food\, clothing\, and\nspiritual counseling to those who need it in Rutherford County\, NC. Provides\nshowers and laundry services for homeless persons. Food pantry Thursdays from\n10:00am – 2:00pm. Thrift store open Thursday – Saturday\, 10:00am – 2:00pm.
URL:https://rutherfordconnect.com/event/basics-christian-ministries-food-pantry/2025-12-18/
LOCATION:Basics Christian Ministries\, 141 N Main St\, Mooresboro\, NC\, 28114\, United States
CATEGORIES:Soup Kitchens & Free Meal Events
END:VEVENT
BEGIN:VEVENT
DTSTART;TZID=America/New_York:20251211T100000
DTEND;TZID=America/New_York:20251211T140000
DTSTAMP:20260423T113114
CREATED:20250720T113735Z
LAST-MODIFIED:20250720T113735Z
UID:10000293-1765447200-1765461600@rutherfordconnect.com
SUMMARY:Basics Christian Ministries Food Pantry
DESCRIPTION:BASICS is an all-volunteer Christian ministry that provides food\, clothing\, and\nspiritual counseling to those who need it in Rutherford County\, NC. Provides\nshowers and laundry services for homeless persons. Food pantry Thursdays from\n10:00am – 2:00pm. Thrift store open Thursday – Saturday\, 10:00am – 2:00pm.
URL:https://rutherfordconnect.com/event/basics-christian-ministries-food-pantry/2025-12-11/
LOCATION:Basics Christian Ministries\, 141 N Main St\, Mooresboro\, NC\, 28114\, United States
CATEGORIES:Soup Kitchens & Free Meal Events
END:VEVENT
BEGIN:VEVENT
DTSTART;TZID=America/New_York:20251204T100000
DTEND;TZID=America/New_York:20251204T140000
DTSTAMP:20260423T113114
CREATED:20250720T113735Z
LAST-MODIFIED:20250720T113735Z
UID:10000292-1764842400-1764856800@rutherfordconnect.com
SUMMARY:Basics Christian Ministries Food Pantry
DESCRIPTION:BASICS is an all-volunteer Christian ministry that provides food\, clothing\, and\nspiritual counseling to those who need it in Rutherford County\, NC. Provides\nshowers and laundry services for homeless persons. Food pantry Thursdays from\n10:00am – 2:00pm. Thrift store open Thursday – Saturday\, 10:00am – 2:00pm.
URL:https://rutherfordconnect.com/event/basics-christian-ministries-food-pantry/2025-12-04/
LOCATION:Basics Christian Ministries\, 141 N Main St\, Mooresboro\, NC\, 28114\, United States
CATEGORIES:Soup Kitchens & Free Meal Events
END:VEVENT
BEGIN:VEVENT
DTSTART;TZID=America/New_York:20251127T100000
DTEND;TZID=America/New_York:20251127T140000
DTSTAMP:20260423T113114
CREATED:20250720T113735Z
LAST-MODIFIED:20250720T113735Z
UID:10000291-1764237600-1764252000@rutherfordconnect.com
SUMMARY:Basics Christian Ministries Food Pantry
DESCRIPTION:BASICS is an all-volunteer Christian ministry that provides food\, clothing\, and\nspiritual counseling to those who need it in Rutherford County\, NC. Provides\nshowers and laundry services for homeless persons. Food pantry Thursdays from\n10:00am – 2:00pm. Thrift store open Thursday – Saturday\, 10:00am – 2:00pm.
URL:https://rutherfordconnect.com/event/basics-christian-ministries-food-pantry/2025-11-27/
LOCATION:Basics Christian Ministries\, 141 N Main St\, Mooresboro\, NC\, 28114\, United States
CATEGORIES:Soup Kitchens & Free Meal Events
END:VEVENT
BEGIN:VEVENT
DTSTART;TZID=America/New_York:20251120T100000
DTEND;TZID=America/New_York:20251120T140000
DTSTAMP:20260423T113114
CREATED:20250720T113735Z
LAST-MODIFIED:20250720T113735Z
UID:10000290-1763632800-1763647200@rutherfordconnect.com
SUMMARY:Basics Christian Ministries Food Pantry
DESCRIPTION:BASICS is an all-volunteer Christian ministry that provides food\, clothing\, and\nspiritual counseling to those who need it in Rutherford County\, NC. Provides\nshowers and laundry services for homeless persons. Food pantry Thursdays from\n10:00am – 2:00pm. Thrift store open Thursday – Saturday\, 10:00am – 2:00pm.
URL:https://rutherfordconnect.com/event/basics-christian-ministries-food-pantry/2025-11-20/
LOCATION:Basics Christian Ministries\, 141 N Main St\, Mooresboro\, NC\, 28114\, United States
CATEGORIES:Soup Kitchens & Free Meal Events
END:VEVENT
BEGIN:VEVENT
DTSTART;TZID=America/New_York:20251113T100000
DTEND;TZID=America/New_York:20251113T140000
DTSTAMP:20260423T113114
CREATED:20250720T113735Z
LAST-MODIFIED:20250720T113735Z
UID:10000289-1763028000-1763042400@rutherfordconnect.com
SUMMARY:Basics Christian Ministries Food Pantry
DESCRIPTION:BASICS is an all-volunteer Christian ministry that provides food\, clothing\, and\nspiritual counseling to those who need it in Rutherford County\, NC. Provides\nshowers and laundry services for homeless persons. Food pantry Thursdays from\n10:00am – 2:00pm. Thrift store open Thursday – Saturday\, 10:00am – 2:00pm.
URL:https://rutherfordconnect.com/event/basics-christian-ministries-food-pantry/2025-11-13/
LOCATION:Basics Christian Ministries\, 141 N Main St\, Mooresboro\, NC\, 28114\, United States
CATEGORIES:Soup Kitchens & Free Meal Events
END:VEVENT
BEGIN:VEVENT
DTSTART;TZID=America/New_York:20251106T100000
DTEND;TZID=America/New_York:20251106T140000
DTSTAMP:20260423T113114
CREATED:20250720T113735Z
LAST-MODIFIED:20250720T113735Z
UID:10000288-1762423200-1762437600@rutherfordconnect.com
SUMMARY:Basics Christian Ministries Food Pantry
DESCRIPTION:BASICS is an all-volunteer Christian ministry that provides food\, clothing\, and\nspiritual counseling to those who need it in Rutherford County\, NC. Provides\nshowers and laundry services for homeless persons. Food pantry Thursdays from\n10:00am – 2:00pm. Thrift store open Thursday – Saturday\, 10:00am – 2:00pm.
URL:https://rutherfordconnect.com/event/basics-christian-ministries-food-pantry/2025-11-06/
LOCATION:Basics Christian Ministries\, 141 N Main St\, Mooresboro\, NC\, 28114\, United States
CATEGORIES:Soup Kitchens & Free Meal Events
END:VEVENT
BEGIN:VEVENT
DTSTART;TZID=America/New_York:20251030T100000
DTEND;TZID=America/New_York:20251030T140000
DTSTAMP:20260423T113114
CREATED:20250720T113735Z
LAST-MODIFIED:20250720T113735Z
UID:10000287-1761818400-1761832800@rutherfordconnect.com
SUMMARY:Basics Christian Ministries Food Pantry
DESCRIPTION:BASICS is an all-volunteer Christian ministry that provides food\, clothing\, and\nspiritual counseling to those who need it in Rutherford County\, NC. Provides\nshowers and laundry services for homeless persons. Food pantry Thursdays from\n10:00am – 2:00pm. Thrift store open Thursday – Saturday\, 10:00am – 2:00pm.
URL:https://rutherfordconnect.com/event/basics-christian-ministries-food-pantry/2025-10-30/
LOCATION:Basics Christian Ministries\, 141 N Main St\, Mooresboro\, NC\, 28114\, United States
CATEGORIES:Soup Kitchens & Free Meal Events
END:VEVENT
BEGIN:VEVENT
DTSTART;TZID=America/New_York:20251023T100000
DTEND;TZID=America/New_York:20251023T140000
DTSTAMP:20260423T113114
CREATED:20250720T113735Z
LAST-MODIFIED:20250720T113735Z
UID:10000286-1761213600-1761228000@rutherfordconnect.com
SUMMARY:Basics Christian Ministries Food Pantry
DESCRIPTION:BASICS is an all-volunteer Christian ministry that provides food\, clothing\, and\nspiritual counseling to those who need it in Rutherford County\, NC. Provides\nshowers and laundry services for homeless persons. Food pantry Thursdays from\n10:00am – 2:00pm. Thrift store open Thursday – Saturday\, 10:00am – 2:00pm.
URL:https://rutherfordconnect.com/event/basics-christian-ministries-food-pantry/2025-10-23/
LOCATION:Basics Christian Ministries\, 141 N Main St\, Mooresboro\, NC\, 28114\, United States
CATEGORIES:Soup Kitchens & Free Meal Events
END:VEVENT
BEGIN:VEVENT
DTSTART;TZID=America/New_York:20251016T100000
DTEND;TZID=America/New_York:20251016T140000
DTSTAMP:20260423T113114
CREATED:20250720T113735Z
LAST-MODIFIED:20250720T113735Z
UID:10000285-1760608800-1760623200@rutherfordconnect.com
SUMMARY:Basics Christian Ministries Food Pantry
DESCRIPTION:BASICS is an all-volunteer Christian ministry that provides food\, clothing\, and\nspiritual counseling to those who need it in Rutherford County\, NC. Provides\nshowers and laundry services for homeless persons. Food pantry Thursdays from\n10:00am – 2:00pm. Thrift store open Thursday – Saturday\, 10:00am – 2:00pm.
URL:https://rutherfordconnect.com/event/basics-christian-ministries-food-pantry/2025-10-16/
LOCATION:Basics Christian Ministries\, 141 N Main St\, Mooresboro\, NC\, 28114\, United States
CATEGORIES:Soup Kitchens & Free Meal Events
END:VEVENT
BEGIN:VEVENT
DTSTART;TZID=America/New_York:20251009T100000
DTEND;TZID=America/New_York:20251009T140000
DTSTAMP:20260423T113114
CREATED:20250720T113735Z
LAST-MODIFIED:20250720T113735Z
UID:10000284-1760004000-1760018400@rutherfordconnect.com
SUMMARY:Basics Christian Ministries Food Pantry
DESCRIPTION:BASICS is an all-volunteer Christian ministry that provides food\, clothing\, and\nspiritual counseling to those who need it in Rutherford County\, NC. Provides\nshowers and laundry services for homeless persons. Food pantry Thursdays from\n10:00am – 2:00pm. Thrift store open Thursday – Saturday\, 10:00am – 2:00pm.
URL:https://rutherfordconnect.com/event/basics-christian-ministries-food-pantry/2025-10-09/
LOCATION:Basics Christian Ministries\, 141 N Main St\, Mooresboro\, NC\, 28114\, United States
CATEGORIES:Soup Kitchens & Free Meal Events
END:VEVENT
BEGIN:VEVENT
DTSTART;TZID=America/New_York:20251002T100000
DTEND;TZID=America/New_York:20251002T140000
DTSTAMP:20260423T113114
CREATED:20250720T113735Z
LAST-MODIFIED:20250720T113735Z
UID:10000283-1759399200-1759413600@rutherfordconnect.com
SUMMARY:Basics Christian Ministries Food Pantry
DESCRIPTION:BASICS is an all-volunteer Christian ministry that provides food\, clothing\, and\nspiritual counseling to those who need it in Rutherford County\, NC. Provides\nshowers and laundry services for homeless persons. Food pantry Thursdays from\n10:00am – 2:00pm. Thrift store open Thursday – Saturday\, 10:00am – 2:00pm.
URL:https://rutherfordconnect.com/event/basics-christian-ministries-food-pantry/2025-10-02/
LOCATION:Basics Christian Ministries\, 141 N Main St\, Mooresboro\, NC\, 28114\, United States
CATEGORIES:Soup Kitchens & Free Meal Events
END:VEVENT
BEGIN:VEVENT
DTSTART;TZID=America/New_York:20250925T100000
DTEND;TZID=America/New_York:20250925T140000
DTSTAMP:20260423T113114
CREATED:20250720T113735Z
LAST-MODIFIED:20250720T113735Z
UID:10000282-1758794400-1758808800@rutherfordconnect.com
SUMMARY:Basics Christian Ministries Food Pantry
DESCRIPTION:BASICS is an all-volunteer Christian ministry that provides food\, clothing\, and\nspiritual counseling to those who need it in Rutherford County\, NC. Provides\nshowers and laundry services for homeless persons. Food pantry Thursdays from\n10:00am – 2:00pm. Thrift store open Thursday – Saturday\, 10:00am – 2:00pm.
URL:https://rutherfordconnect.com/event/basics-christian-ministries-food-pantry/2025-09-25/
LOCATION:Basics Christian Ministries\, 141 N Main St\, Mooresboro\, NC\, 28114\, United States
CATEGORIES:Soup Kitchens & Free Meal Events
END:VEVENT
END:VCALENDAR