BEGIN:VCALENDAR
VERSION:2.0
PRODID:-//Rutherford Connect - ECPv6.15.20//NONSGML v1.0//EN
CALSCALE:GREGORIAN
METHOD:PUBLISH
X-WR-CALNAME:Rutherford Connect
X-ORIGINAL-URL:https://rutherfordconnect.com
X-WR-CALDESC:Events for Rutherford Connect
REFRESH-INTERVAL;VALUE=DURATION:PT1H
X-Robots-Tag:noindex
X-PUBLISHED-TTL:PT1H
BEGIN:VTIMEZONE
TZID:America/New_York
BEGIN:DAYLIGHT
TZOFFSETFROM:-0500
TZOFFSETTO:-0400
TZNAME:EDT
DTSTART:20250309T070000
END:DAYLIGHT
BEGIN:STANDARD
TZOFFSETFROM:-0400
TZOFFSETTO:-0500
TZNAME:EST
DTSTART:20251102T060000
END:STANDARD
BEGIN:DAYLIGHT
TZOFFSETFROM:-0500
TZOFFSETTO:-0400
TZNAME:EDT
DTSTART:20260308T070000
END:DAYLIGHT
BEGIN:STANDARD
TZOFFSETFROM:-0400
TZOFFSETTO:-0500
TZNAME:EST
DTSTART:20261101T060000
END:STANDARD
BEGIN:DAYLIGHT
TZOFFSETFROM:-0500
TZOFFSETTO:-0400
TZNAME:EDT
DTSTART:20270314T070000
END:DAYLIGHT
BEGIN:STANDARD
TZOFFSETFROM:-0400
TZOFFSETTO:-0500
TZNAME:EST
DTSTART:20271107T060000
END:STANDARD
BEGIN:DAYLIGHT
TZOFFSETFROM:-0500
TZOFFSETTO:-0400
TZNAME:EDT
DTSTART:20280312T070000
END:DAYLIGHT
BEGIN:STANDARD
TZOFFSETFROM:-0400
TZOFFSETTO:-0500
TZNAME:EST
DTSTART:20281105T060000
END:STANDARD
END:VTIMEZONE
BEGIN:VEVENT
DTSTART;TZID=America/New_York:20261125T090000
DTEND;TZID=America/New_York:20261125T140000
DTSTAMP:20260425T102944
CREATED:20250720T114142Z
LAST-MODIFIED:20250720T114142Z
UID:10000604-1795597200-1795615200@rutherfordconnect.com
SUMMARY:Chase Corner Ministries Food Pantry
DESCRIPTION:Emergency assistance for food\, clothing\, utility\, rent\nand medication assistance once every 6 months.\nEmergency Food Pantry: Monday\, Tuesday\, Thursday\, Friday from 9:00am – 2:00pm.\nWednesday food distribution from 9:00am – 2:00pm.
URL:https://rutherfordconnect.com/event/chase-corner-ministries-food-pantry/2026-11-25/
LOCATION:Chase Corner Ministries\, 1604 Chase High Road\, Forest City\, NC\, 28043\, United States
CATEGORIES:Soup Kitchens & Free Meal Events
END:VEVENT
BEGIN:VEVENT
DTSTART;TZID=America/New_York:20261202T090000
DTEND;TZID=America/New_York:20261202T140000
DTSTAMP:20260425T102944
CREATED:20250720T114142Z
LAST-MODIFIED:20250720T114142Z
UID:10000605-1796202000-1796220000@rutherfordconnect.com
SUMMARY:Chase Corner Ministries Food Pantry
DESCRIPTION:Emergency assistance for food\, clothing\, utility\, rent\nand medication assistance once every 6 months.\nEmergency Food Pantry: Monday\, Tuesday\, Thursday\, Friday from 9:00am – 2:00pm.\nWednesday food distribution from 9:00am – 2:00pm.
URL:https://rutherfordconnect.com/event/chase-corner-ministries-food-pantry/2026-12-02/
LOCATION:Chase Corner Ministries\, 1604 Chase High Road\, Forest City\, NC\, 28043\, United States
CATEGORIES:Soup Kitchens & Free Meal Events
END:VEVENT
BEGIN:VEVENT
DTSTART;TZID=America/New_York:20261209T090000
DTEND;TZID=America/New_York:20261209T140000
DTSTAMP:20260425T102944
CREATED:20250720T114142Z
LAST-MODIFIED:20250720T114142Z
UID:10000606-1796806800-1796824800@rutherfordconnect.com
SUMMARY:Chase Corner Ministries Food Pantry
DESCRIPTION:Emergency assistance for food\, clothing\, utility\, rent\nand medication assistance once every 6 months.\nEmergency Food Pantry: Monday\, Tuesday\, Thursday\, Friday from 9:00am – 2:00pm.\nWednesday food distribution from 9:00am – 2:00pm.
URL:https://rutherfordconnect.com/event/chase-corner-ministries-food-pantry/2026-12-09/
LOCATION:Chase Corner Ministries\, 1604 Chase High Road\, Forest City\, NC\, 28043\, United States
CATEGORIES:Soup Kitchens & Free Meal Events
END:VEVENT
BEGIN:VEVENT
DTSTART;TZID=America/New_York:20261216T090000
DTEND;TZID=America/New_York:20261216T140000
DTSTAMP:20260425T102944
CREATED:20250720T114142Z
LAST-MODIFIED:20250720T114142Z
UID:10000607-1797411600-1797429600@rutherfordconnect.com
SUMMARY:Chase Corner Ministries Food Pantry
DESCRIPTION:Emergency assistance for food\, clothing\, utility\, rent\nand medication assistance once every 6 months.\nEmergency Food Pantry: Monday\, Tuesday\, Thursday\, Friday from 9:00am – 2:00pm.\nWednesday food distribution from 9:00am – 2:00pm.
URL:https://rutherfordconnect.com/event/chase-corner-ministries-food-pantry/2026-12-16/
LOCATION:Chase Corner Ministries\, 1604 Chase High Road\, Forest City\, NC\, 28043\, United States
CATEGORIES:Soup Kitchens & Free Meal Events
END:VEVENT
BEGIN:VEVENT
DTSTART;TZID=America/New_York:20261223T090000
DTEND;TZID=America/New_York:20261223T140000
DTSTAMP:20260425T102944
CREATED:20250720T114142Z
LAST-MODIFIED:20250720T114142Z
UID:10000608-1798016400-1798034400@rutherfordconnect.com
SUMMARY:Chase Corner Ministries Food Pantry
DESCRIPTION:Emergency assistance for food\, clothing\, utility\, rent\nand medication assistance once every 6 months.\nEmergency Food Pantry: Monday\, Tuesday\, Thursday\, Friday from 9:00am – 2:00pm.\nWednesday food distribution from 9:00am – 2:00pm.
URL:https://rutherfordconnect.com/event/chase-corner-ministries-food-pantry/2026-12-23/
LOCATION:Chase Corner Ministries\, 1604 Chase High Road\, Forest City\, NC\, 28043\, United States
CATEGORIES:Soup Kitchens & Free Meal Events
END:VEVENT
BEGIN:VEVENT
DTSTART;TZID=America/New_York:20261230T090000
DTEND;TZID=America/New_York:20261230T140000
DTSTAMP:20260425T102944
CREATED:20250720T114142Z
LAST-MODIFIED:20250720T114142Z
UID:10000609-1798621200-1798639200@rutherfordconnect.com
SUMMARY:Chase Corner Ministries Food Pantry
DESCRIPTION:Emergency assistance for food\, clothing\, utility\, rent\nand medication assistance once every 6 months.\nEmergency Food Pantry: Monday\, Tuesday\, Thursday\, Friday from 9:00am – 2:00pm.\nWednesday food distribution from 9:00am – 2:00pm.
URL:https://rutherfordconnect.com/event/chase-corner-ministries-food-pantry/2026-12-30/
LOCATION:Chase Corner Ministries\, 1604 Chase High Road\, Forest City\, NC\, 28043\, United States
CATEGORIES:Soup Kitchens & Free Meal Events
END:VEVENT
BEGIN:VEVENT
DTSTART;TZID=America/New_York:20270106T090000
DTEND;TZID=America/New_York:20270106T140000
DTSTAMP:20260425T102944
CREATED:20250720T114142Z
LAST-MODIFIED:20250720T114142Z
UID:10000610-1799226000-1799244000@rutherfordconnect.com
SUMMARY:Chase Corner Ministries Food Pantry
DESCRIPTION:Emergency assistance for food\, clothing\, utility\, rent\nand medication assistance once every 6 months.\nEmergency Food Pantry: Monday\, Tuesday\, Thursday\, Friday from 9:00am – 2:00pm.\nWednesday food distribution from 9:00am – 2:00pm.
URL:https://rutherfordconnect.com/event/chase-corner-ministries-food-pantry/2027-01-06/
LOCATION:Chase Corner Ministries\, 1604 Chase High Road\, Forest City\, NC\, 28043\, United States
CATEGORIES:Soup Kitchens & Free Meal Events
END:VEVENT
BEGIN:VEVENT
DTSTART;TZID=America/New_York:20270113T090000
DTEND;TZID=America/New_York:20270113T140000
DTSTAMP:20260425T102944
CREATED:20250720T114142Z
LAST-MODIFIED:20250720T114142Z
UID:10000611-1799830800-1799848800@rutherfordconnect.com
SUMMARY:Chase Corner Ministries Food Pantry
DESCRIPTION:Emergency assistance for food\, clothing\, utility\, rent\nand medication assistance once every 6 months.\nEmergency Food Pantry: Monday\, Tuesday\, Thursday\, Friday from 9:00am – 2:00pm.\nWednesday food distribution from 9:00am – 2:00pm.
URL:https://rutherfordconnect.com/event/chase-corner-ministries-food-pantry/2027-01-13/
LOCATION:Chase Corner Ministries\, 1604 Chase High Road\, Forest City\, NC\, 28043\, United States
CATEGORIES:Soup Kitchens & Free Meal Events
END:VEVENT
BEGIN:VEVENT
DTSTART;TZID=America/New_York:20270120T090000
DTEND;TZID=America/New_York:20270120T140000
DTSTAMP:20260425T102944
CREATED:20250720T114142Z
LAST-MODIFIED:20250720T114142Z
UID:10000612-1800435600-1800453600@rutherfordconnect.com
SUMMARY:Chase Corner Ministries Food Pantry
DESCRIPTION:Emergency assistance for food\, clothing\, utility\, rent\nand medication assistance once every 6 months.\nEmergency Food Pantry: Monday\, Tuesday\, Thursday\, Friday from 9:00am – 2:00pm.\nWednesday food distribution from 9:00am – 2:00pm.
URL:https://rutherfordconnect.com/event/chase-corner-ministries-food-pantry/2027-01-20/
LOCATION:Chase Corner Ministries\, 1604 Chase High Road\, Forest City\, NC\, 28043\, United States
CATEGORIES:Soup Kitchens & Free Meal Events
END:VEVENT
BEGIN:VEVENT
DTSTART;TZID=America/New_York:20270127T090000
DTEND;TZID=America/New_York:20270127T140000
DTSTAMP:20260425T102944
CREATED:20250720T114142Z
LAST-MODIFIED:20250720T114142Z
UID:10000613-1801040400-1801058400@rutherfordconnect.com
SUMMARY:Chase Corner Ministries Food Pantry
DESCRIPTION:Emergency assistance for food\, clothing\, utility\, rent\nand medication assistance once every 6 months.\nEmergency Food Pantry: Monday\, Tuesday\, Thursday\, Friday from 9:00am – 2:00pm.\nWednesday food distribution from 9:00am – 2:00pm.
URL:https://rutherfordconnect.com/event/chase-corner-ministries-food-pantry/2027-01-27/
LOCATION:Chase Corner Ministries\, 1604 Chase High Road\, Forest City\, NC\, 28043\, United States
CATEGORIES:Soup Kitchens & Free Meal Events
END:VEVENT
BEGIN:VEVENT
DTSTART;TZID=America/New_York:20270203T090000
DTEND;TZID=America/New_York:20270203T140000
DTSTAMP:20260425T102944
CREATED:20250720T114142Z
LAST-MODIFIED:20250720T114142Z
UID:10000614-1801645200-1801663200@rutherfordconnect.com
SUMMARY:Chase Corner Ministries Food Pantry
DESCRIPTION:Emergency assistance for food\, clothing\, utility\, rent\nand medication assistance once every 6 months.\nEmergency Food Pantry: Monday\, Tuesday\, Thursday\, Friday from 9:00am – 2:00pm.\nWednesday food distribution from 9:00am – 2:00pm.
URL:https://rutherfordconnect.com/event/chase-corner-ministries-food-pantry/2027-02-03/
LOCATION:Chase Corner Ministries\, 1604 Chase High Road\, Forest City\, NC\, 28043\, United States
CATEGORIES:Soup Kitchens & Free Meal Events
END:VEVENT
BEGIN:VEVENT
DTSTART;TZID=America/New_York:20270210T090000
DTEND;TZID=America/New_York:20270210T140000
DTSTAMP:20260425T102944
CREATED:20250720T114142Z
LAST-MODIFIED:20250720T114142Z
UID:10000615-1802250000-1802268000@rutherfordconnect.com
SUMMARY:Chase Corner Ministries Food Pantry
DESCRIPTION:Emergency assistance for food\, clothing\, utility\, rent\nand medication assistance once every 6 months.\nEmergency Food Pantry: Monday\, Tuesday\, Thursday\, Friday from 9:00am – 2:00pm.\nWednesday food distribution from 9:00am – 2:00pm.
URL:https://rutherfordconnect.com/event/chase-corner-ministries-food-pantry/2027-02-10/
LOCATION:Chase Corner Ministries\, 1604 Chase High Road\, Forest City\, NC\, 28043\, United States
CATEGORIES:Soup Kitchens & Free Meal Events
END:VEVENT
BEGIN:VEVENT
DTSTART;TZID=America/New_York:20270217T090000
DTEND;TZID=America/New_York:20270217T140000
DTSTAMP:20260425T102944
CREATED:20250720T114142Z
LAST-MODIFIED:20250720T114142Z
UID:10000616-1802854800-1802872800@rutherfordconnect.com
SUMMARY:Chase Corner Ministries Food Pantry
DESCRIPTION:Emergency assistance for food\, clothing\, utility\, rent\nand medication assistance once every 6 months.\nEmergency Food Pantry: Monday\, Tuesday\, Thursday\, Friday from 9:00am – 2:00pm.\nWednesday food distribution from 9:00am – 2:00pm.
URL:https://rutherfordconnect.com/event/chase-corner-ministries-food-pantry/2027-02-17/
LOCATION:Chase Corner Ministries\, 1604 Chase High Road\, Forest City\, NC\, 28043\, United States
CATEGORIES:Soup Kitchens & Free Meal Events
END:VEVENT
BEGIN:VEVENT
DTSTART;TZID=America/New_York:20270224T090000
DTEND;TZID=America/New_York:20270224T140000
DTSTAMP:20260425T102944
CREATED:20250720T114142Z
LAST-MODIFIED:20250720T114142Z
UID:10000617-1803459600-1803477600@rutherfordconnect.com
SUMMARY:Chase Corner Ministries Food Pantry
DESCRIPTION:Emergency assistance for food\, clothing\, utility\, rent\nand medication assistance once every 6 months.\nEmergency Food Pantry: Monday\, Tuesday\, Thursday\, Friday from 9:00am – 2:00pm.\nWednesday food distribution from 9:00am – 2:00pm.
URL:https://rutherfordconnect.com/event/chase-corner-ministries-food-pantry/2027-02-24/
LOCATION:Chase Corner Ministries\, 1604 Chase High Road\, Forest City\, NC\, 28043\, United States
CATEGORIES:Soup Kitchens & Free Meal Events
END:VEVENT
BEGIN:VEVENT
DTSTART;TZID=America/New_York:20270303T090000
DTEND;TZID=America/New_York:20270303T140000
DTSTAMP:20260425T102944
CREATED:20250720T114142Z
LAST-MODIFIED:20250720T114142Z
UID:10000618-1804064400-1804082400@rutherfordconnect.com
SUMMARY:Chase Corner Ministries Food Pantry
DESCRIPTION:Emergency assistance for food\, clothing\, utility\, rent\nand medication assistance once every 6 months.\nEmergency Food Pantry: Monday\, Tuesday\, Thursday\, Friday from 9:00am – 2:00pm.\nWednesday food distribution from 9:00am – 2:00pm.
URL:https://rutherfordconnect.com/event/chase-corner-ministries-food-pantry/2027-03-03/
LOCATION:Chase Corner Ministries\, 1604 Chase High Road\, Forest City\, NC\, 28043\, United States
CATEGORIES:Soup Kitchens & Free Meal Events
END:VEVENT
BEGIN:VEVENT
DTSTART;TZID=America/New_York:20270310T090000
DTEND;TZID=America/New_York:20270310T140000
DTSTAMP:20260425T102944
CREATED:20250720T114142Z
LAST-MODIFIED:20250720T114142Z
UID:10000619-1804669200-1804687200@rutherfordconnect.com
SUMMARY:Chase Corner Ministries Food Pantry
DESCRIPTION:Emergency assistance for food\, clothing\, utility\, rent\nand medication assistance once every 6 months.\nEmergency Food Pantry: Monday\, Tuesday\, Thursday\, Friday from 9:00am – 2:00pm.\nWednesday food distribution from 9:00am – 2:00pm.
URL:https://rutherfordconnect.com/event/chase-corner-ministries-food-pantry/2027-03-10/
LOCATION:Chase Corner Ministries\, 1604 Chase High Road\, Forest City\, NC\, 28043\, United States
CATEGORIES:Soup Kitchens & Free Meal Events
END:VEVENT
BEGIN:VEVENT
DTSTART;TZID=America/New_York:20270317T090000
DTEND;TZID=America/New_York:20270317T140000
DTSTAMP:20260425T102944
CREATED:20250720T114142Z
LAST-MODIFIED:20250720T114142Z
UID:10000620-1805274000-1805292000@rutherfordconnect.com
SUMMARY:Chase Corner Ministries Food Pantry
DESCRIPTION:Emergency assistance for food\, clothing\, utility\, rent\nand medication assistance once every 6 months.\nEmergency Food Pantry: Monday\, Tuesday\, Thursday\, Friday from 9:00am – 2:00pm.\nWednesday food distribution from 9:00am – 2:00pm.
URL:https://rutherfordconnect.com/event/chase-corner-ministries-food-pantry/2027-03-17/
LOCATION:Chase Corner Ministries\, 1604 Chase High Road\, Forest City\, NC\, 28043\, United States
CATEGORIES:Soup Kitchens & Free Meal Events
END:VEVENT
BEGIN:VEVENT
DTSTART;TZID=America/New_York:20270324T090000
DTEND;TZID=America/New_York:20270324T140000
DTSTAMP:20260425T102944
CREATED:20250720T114142Z
LAST-MODIFIED:20250720T114142Z
UID:10000621-1805878800-1805896800@rutherfordconnect.com
SUMMARY:Chase Corner Ministries Food Pantry
DESCRIPTION:Emergency assistance for food\, clothing\, utility\, rent\nand medication assistance once every 6 months.\nEmergency Food Pantry: Monday\, Tuesday\, Thursday\, Friday from 9:00am – 2:00pm.\nWednesday food distribution from 9:00am – 2:00pm.
URL:https://rutherfordconnect.com/event/chase-corner-ministries-food-pantry/2027-03-24/
LOCATION:Chase Corner Ministries\, 1604 Chase High Road\, Forest City\, NC\, 28043\, United States
CATEGORIES:Soup Kitchens & Free Meal Events
END:VEVENT
BEGIN:VEVENT
DTSTART;TZID=America/New_York:20270331T090000
DTEND;TZID=America/New_York:20270331T140000
DTSTAMP:20260425T102944
CREATED:20250720T114142Z
LAST-MODIFIED:20250720T114142Z
UID:10000622-1806483600-1806501600@rutherfordconnect.com
SUMMARY:Chase Corner Ministries Food Pantry
DESCRIPTION:Emergency assistance for food\, clothing\, utility\, rent\nand medication assistance once every 6 months.\nEmergency Food Pantry: Monday\, Tuesday\, Thursday\, Friday from 9:00am – 2:00pm.\nWednesday food distribution from 9:00am – 2:00pm.
URL:https://rutherfordconnect.com/event/chase-corner-ministries-food-pantry/2027-03-31/
LOCATION:Chase Corner Ministries\, 1604 Chase High Road\, Forest City\, NC\, 28043\, United States
CATEGORIES:Soup Kitchens & Free Meal Events
END:VEVENT
BEGIN:VEVENT
DTSTART;TZID=America/New_York:20270407T090000
DTEND;TZID=America/New_York:20270407T140000
DTSTAMP:20260425T102945
CREATED:20250720T114142Z
LAST-MODIFIED:20250720T114142Z
UID:10000623-1807088400-1807106400@rutherfordconnect.com
SUMMARY:Chase Corner Ministries Food Pantry
DESCRIPTION:Emergency assistance for food\, clothing\, utility\, rent\nand medication assistance once every 6 months.\nEmergency Food Pantry: Monday\, Tuesday\, Thursday\, Friday from 9:00am – 2:00pm.\nWednesday food distribution from 9:00am – 2:00pm.
URL:https://rutherfordconnect.com/event/chase-corner-ministries-food-pantry/2027-04-07/
LOCATION:Chase Corner Ministries\, 1604 Chase High Road\, Forest City\, NC\, 28043\, United States
CATEGORIES:Soup Kitchens & Free Meal Events
END:VEVENT
BEGIN:VEVENT
DTSTART;TZID=America/New_York:20270414T090000
DTEND;TZID=America/New_York:20270414T140000
DTSTAMP:20260425T102945
CREATED:20250720T114142Z
LAST-MODIFIED:20250720T114142Z
UID:10000624-1807693200-1807711200@rutherfordconnect.com
SUMMARY:Chase Corner Ministries Food Pantry
DESCRIPTION:Emergency assistance for food\, clothing\, utility\, rent\nand medication assistance once every 6 months.\nEmergency Food Pantry: Monday\, Tuesday\, Thursday\, Friday from 9:00am – 2:00pm.\nWednesday food distribution from 9:00am – 2:00pm.
URL:https://rutherfordconnect.com/event/chase-corner-ministries-food-pantry/2027-04-14/
LOCATION:Chase Corner Ministries\, 1604 Chase High Road\, Forest City\, NC\, 28043\, United States
CATEGORIES:Soup Kitchens & Free Meal Events
END:VEVENT
BEGIN:VEVENT
DTSTART;TZID=America/New_York:20270421T090000
DTEND;TZID=America/New_York:20270421T140000
DTSTAMP:20260425T102945
CREATED:20250720T114142Z
LAST-MODIFIED:20250720T114142Z
UID:10000625-1808298000-1808316000@rutherfordconnect.com
SUMMARY:Chase Corner Ministries Food Pantry
DESCRIPTION:Emergency assistance for food\, clothing\, utility\, rent\nand medication assistance once every 6 months.\nEmergency Food Pantry: Monday\, Tuesday\, Thursday\, Friday from 9:00am – 2:00pm.\nWednesday food distribution from 9:00am – 2:00pm.
URL:https://rutherfordconnect.com/event/chase-corner-ministries-food-pantry/2027-04-21/
LOCATION:Chase Corner Ministries\, 1604 Chase High Road\, Forest City\, NC\, 28043\, United States
CATEGORIES:Soup Kitchens & Free Meal Events
END:VEVENT
BEGIN:VEVENT
DTSTART;TZID=America/New_York:20270428T090000
DTEND;TZID=America/New_York:20270428T140000
DTSTAMP:20260425T102945
CREATED:20250720T114142Z
LAST-MODIFIED:20250720T114142Z
UID:10000626-1808902800-1808920800@rutherfordconnect.com
SUMMARY:Chase Corner Ministries Food Pantry
DESCRIPTION:Emergency assistance for food\, clothing\, utility\, rent\nand medication assistance once every 6 months.\nEmergency Food Pantry: Monday\, Tuesday\, Thursday\, Friday from 9:00am – 2:00pm.\nWednesday food distribution from 9:00am – 2:00pm.
URL:https://rutherfordconnect.com/event/chase-corner-ministries-food-pantry/2027-04-28/
LOCATION:Chase Corner Ministries\, 1604 Chase High Road\, Forest City\, NC\, 28043\, United States
CATEGORIES:Soup Kitchens & Free Meal Events
END:VEVENT
BEGIN:VEVENT
DTSTART;TZID=America/New_York:20270505T090000
DTEND;TZID=America/New_York:20270505T140000
DTSTAMP:20260425T102945
CREATED:20250720T114142Z
LAST-MODIFIED:20250720T114142Z
UID:10000627-1809507600-1809525600@rutherfordconnect.com
SUMMARY:Chase Corner Ministries Food Pantry
DESCRIPTION:Emergency assistance for food\, clothing\, utility\, rent\nand medication assistance once every 6 months.\nEmergency Food Pantry: Monday\, Tuesday\, Thursday\, Friday from 9:00am – 2:00pm.\nWednesday food distribution from 9:00am – 2:00pm.
URL:https://rutherfordconnect.com/event/chase-corner-ministries-food-pantry/2027-05-05/
LOCATION:Chase Corner Ministries\, 1604 Chase High Road\, Forest City\, NC\, 28043\, United States
CATEGORIES:Soup Kitchens & Free Meal Events
END:VEVENT
BEGIN:VEVENT
DTSTART;TZID=America/New_York:20270512T090000
DTEND;TZID=America/New_York:20270512T140000
DTSTAMP:20260425T102945
CREATED:20250720T114142Z
LAST-MODIFIED:20250720T114142Z
UID:10000628-1810112400-1810130400@rutherfordconnect.com
SUMMARY:Chase Corner Ministries Food Pantry
DESCRIPTION:Emergency assistance for food\, clothing\, utility\, rent\nand medication assistance once every 6 months.\nEmergency Food Pantry: Monday\, Tuesday\, Thursday\, Friday from 9:00am – 2:00pm.\nWednesday food distribution from 9:00am – 2:00pm.
URL:https://rutherfordconnect.com/event/chase-corner-ministries-food-pantry/2027-05-12/
LOCATION:Chase Corner Ministries\, 1604 Chase High Road\, Forest City\, NC\, 28043\, United States
CATEGORIES:Soup Kitchens & Free Meal Events
END:VEVENT
BEGIN:VEVENT
DTSTART;TZID=America/New_York:20270519T090000
DTEND;TZID=America/New_York:20270519T140000
DTSTAMP:20260425T102945
CREATED:20250720T114142Z
LAST-MODIFIED:20250720T114142Z
UID:10000629-1810717200-1810735200@rutherfordconnect.com
SUMMARY:Chase Corner Ministries Food Pantry
DESCRIPTION:Emergency assistance for food\, clothing\, utility\, rent\nand medication assistance once every 6 months.\nEmergency Food Pantry: Monday\, Tuesday\, Thursday\, Friday from 9:00am – 2:00pm.\nWednesday food distribution from 9:00am – 2:00pm.
URL:https://rutherfordconnect.com/event/chase-corner-ministries-food-pantry/2027-05-19/
LOCATION:Chase Corner Ministries\, 1604 Chase High Road\, Forest City\, NC\, 28043\, United States
CATEGORIES:Soup Kitchens & Free Meal Events
END:VEVENT
BEGIN:VEVENT
DTSTART;TZID=America/New_York:20270526T090000
DTEND;TZID=America/New_York:20270526T140000
DTSTAMP:20260425T102945
CREATED:20250720T114142Z
LAST-MODIFIED:20250720T114142Z
UID:10000630-1811322000-1811340000@rutherfordconnect.com
SUMMARY:Chase Corner Ministries Food Pantry
DESCRIPTION:Emergency assistance for food\, clothing\, utility\, rent\nand medication assistance once every 6 months.\nEmergency Food Pantry: Monday\, Tuesday\, Thursday\, Friday from 9:00am – 2:00pm.\nWednesday food distribution from 9:00am – 2:00pm.
URL:https://rutherfordconnect.com/event/chase-corner-ministries-food-pantry/2027-05-26/
LOCATION:Chase Corner Ministries\, 1604 Chase High Road\, Forest City\, NC\, 28043\, United States
CATEGORIES:Soup Kitchens & Free Meal Events
END:VEVENT
BEGIN:VEVENT
DTSTART;TZID=America/New_York:20270602T090000
DTEND;TZID=America/New_York:20270602T140000
DTSTAMP:20260425T102945
CREATED:20250720T114142Z
LAST-MODIFIED:20250720T114142Z
UID:10000631-1811926800-1811944800@rutherfordconnect.com
SUMMARY:Chase Corner Ministries Food Pantry
DESCRIPTION:Emergency assistance for food\, clothing\, utility\, rent\nand medication assistance once every 6 months.\nEmergency Food Pantry: Monday\, Tuesday\, Thursday\, Friday from 9:00am – 2:00pm.\nWednesday food distribution from 9:00am – 2:00pm.
URL:https://rutherfordconnect.com/event/chase-corner-ministries-food-pantry/2027-06-02/
LOCATION:Chase Corner Ministries\, 1604 Chase High Road\, Forest City\, NC\, 28043\, United States
CATEGORIES:Soup Kitchens & Free Meal Events
END:VEVENT
BEGIN:VEVENT
DTSTART;TZID=America/New_York:20270609T090000
DTEND;TZID=America/New_York:20270609T140000
DTSTAMP:20260425T102945
CREATED:20250720T114142Z
LAST-MODIFIED:20250720T114142Z
UID:10000632-1812531600-1812549600@rutherfordconnect.com
SUMMARY:Chase Corner Ministries Food Pantry
DESCRIPTION:Emergency assistance for food\, clothing\, utility\, rent\nand medication assistance once every 6 months.\nEmergency Food Pantry: Monday\, Tuesday\, Thursday\, Friday from 9:00am – 2:00pm.\nWednesday food distribution from 9:00am – 2:00pm.
URL:https://rutherfordconnect.com/event/chase-corner-ministries-food-pantry/2027-06-09/
LOCATION:Chase Corner Ministries\, 1604 Chase High Road\, Forest City\, NC\, 28043\, United States
CATEGORIES:Soup Kitchens & Free Meal Events
END:VEVENT
BEGIN:VEVENT
DTSTART;TZID=America/New_York:20270616T090000
DTEND;TZID=America/New_York:20270616T140000
DTSTAMP:20260425T102945
CREATED:20250720T114142Z
LAST-MODIFIED:20250720T114142Z
UID:10000633-1813136400-1813154400@rutherfordconnect.com
SUMMARY:Chase Corner Ministries Food Pantry
DESCRIPTION:Emergency assistance for food\, clothing\, utility\, rent\nand medication assistance once every 6 months.\nEmergency Food Pantry: Monday\, Tuesday\, Thursday\, Friday from 9:00am – 2:00pm.\nWednesday food distribution from 9:00am – 2:00pm.
URL:https://rutherfordconnect.com/event/chase-corner-ministries-food-pantry/2027-06-16/
LOCATION:Chase Corner Ministries\, 1604 Chase High Road\, Forest City\, NC\, 28043\, United States
CATEGORIES:Soup Kitchens & Free Meal Events
END:VEVENT
END:VCALENDAR