BEGIN:VCALENDAR
VERSION:2.0
PRODID:-//Rutherford Connect - ECPv6.15.20//NONSGML v1.0//EN
CALSCALE:GREGORIAN
METHOD:PUBLISH
X-WR-CALNAME:Rutherford Connect
X-ORIGINAL-URL:https://rutherfordconnect.com
X-WR-CALDESC:Events for Rutherford Connect
REFRESH-INTERVAL;VALUE=DURATION:PT1H
X-Robots-Tag:noindex
X-PUBLISHED-TTL:PT1H
BEGIN:VTIMEZONE
TZID:America/New_York
BEGIN:DAYLIGHT
TZOFFSETFROM:-0500
TZOFFSETTO:-0400
TZNAME:EDT
DTSTART:20250309T070000
END:DAYLIGHT
BEGIN:STANDARD
TZOFFSETFROM:-0400
TZOFFSETTO:-0500
TZNAME:EST
DTSTART:20251102T060000
END:STANDARD
BEGIN:DAYLIGHT
TZOFFSETFROM:-0500
TZOFFSETTO:-0400
TZNAME:EDT
DTSTART:20260308T070000
END:DAYLIGHT
BEGIN:STANDARD
TZOFFSETFROM:-0400
TZOFFSETTO:-0500
TZNAME:EST
DTSTART:20261101T060000
END:STANDARD
BEGIN:DAYLIGHT
TZOFFSETFROM:-0500
TZOFFSETTO:-0400
TZNAME:EDT
DTSTART:20270314T070000
END:DAYLIGHT
BEGIN:STANDARD
TZOFFSETFROM:-0400
TZOFFSETTO:-0500
TZNAME:EST
DTSTART:20271107T060000
END:STANDARD
BEGIN:DAYLIGHT
TZOFFSETFROM:-0500
TZOFFSETTO:-0400
TZNAME:EDT
DTSTART:20280312T070000
END:DAYLIGHT
BEGIN:STANDARD
TZOFFSETFROM:-0400
TZOFFSETTO:-0500
TZNAME:EST
DTSTART:20281105T060000
END:STANDARD
END:VTIMEZONE
BEGIN:VEVENT
DTSTART;TZID=America/New_York:20260814T090000
DTEND;TZID=America/New_York:20260814T120000
DTSTAMP:20260424T090917
CREATED:20250720T121403Z
LAST-MODIFIED:20250720T121403Z
UID:10003400-1786698000-1786708800@rutherfordconnect.com
SUMMARY:Neighbors Pantry Food Assistance
DESCRIPTION:Provides food assistance. The 1st and 3rd Saturday each month from 9:00am-12:00 and Friday after 1st and 3rd Saturday 5-7pm.
URL:https://rutherfordconnect.com/event/neighbors-pantry-food-assistance-3/2026-08-14/
LOCATION:Neighbors Pantry\, 217 Gilkey School Rd\, Rutherfordton\, NC\, 28139\, United States
CATEGORIES:Soup Kitchens & Free Meal Events
END:VEVENT
BEGIN:VEVENT
DTSTART;TZID=America/New_York:20260815T090000
DTEND;TZID=America/New_York:20260815T120000
DTSTAMP:20260424T090917
CREATED:20250720T121149Z
LAST-MODIFIED:20250720T121149Z
UID:10003339-1786784400-1786795200@rutherfordconnect.com
SUMMARY:Neighbors Pantry Food Assistance
DESCRIPTION:Provides food assistance. The 1st and 3rd Saturday each month from 9:00am-12:00 and Friday after 1st and 3rd Saturday 5-7pm.
URL:https://rutherfordconnect.com/event/neighbors-pantry-food-assistance-2/2026-08-15/
LOCATION:Neighbors Pantry\, 217 Gilkey School Rd\, Rutherfordton\, NC\, 28139\, United States
CATEGORIES:Soup Kitchens & Free Meal Events
END:VEVENT
BEGIN:VEVENT
DTSTART;TZID=America/New_York:20260905T090000
DTEND;TZID=America/New_York:20260905T120000
DTSTAMP:20260424T090917
CREATED:20250720T120959Z
LAST-MODIFIED:20250720T120959Z
UID:10003279-1788598800-1788609600@rutherfordconnect.com
SUMMARY:Neighbors Pantry Food Assistance
DESCRIPTION:Provides food assistance. The 1st and 3rd Saturday each month from 9:00am-12:00 and Friday after 1st and 3rd Saturday 5-7pm.
URL:https://rutherfordconnect.com/event/neighbors-pantry-food-assistance/2026-09-05/
LOCATION:Neighbors Pantry\, 217 Gilkey School Rd\, Rutherfordton\, NC\, 28139\, United States
CATEGORIES:Soup Kitchens & Free Meal Events
END:VEVENT
BEGIN:VEVENT
DTSTART;TZID=America/New_York:20260911T090000
DTEND;TZID=America/New_York:20260911T120000
DTSTAMP:20260424T090917
CREATED:20250720T121403Z
LAST-MODIFIED:20250720T121403Z
UID:10003401-1789117200-1789128000@rutherfordconnect.com
SUMMARY:Neighbors Pantry Food Assistance
DESCRIPTION:Provides food assistance. The 1st and 3rd Saturday each month from 9:00am-12:00 and Friday after 1st and 3rd Saturday 5-7pm.
URL:https://rutherfordconnect.com/event/neighbors-pantry-food-assistance-3/2026-09-11/
LOCATION:Neighbors Pantry\, 217 Gilkey School Rd\, Rutherfordton\, NC\, 28139\, United States
CATEGORIES:Soup Kitchens & Free Meal Events
END:VEVENT
BEGIN:VEVENT
DTSTART;TZID=America/New_York:20260919T090000
DTEND;TZID=America/New_York:20260919T120000
DTSTAMP:20260424T090917
CREATED:20250720T121149Z
LAST-MODIFIED:20250720T121149Z
UID:10003340-1789808400-1789819200@rutherfordconnect.com
SUMMARY:Neighbors Pantry Food Assistance
DESCRIPTION:Provides food assistance. The 1st and 3rd Saturday each month from 9:00am-12:00 and Friday after 1st and 3rd Saturday 5-7pm.
URL:https://rutherfordconnect.com/event/neighbors-pantry-food-assistance-2/2026-09-19/
LOCATION:Neighbors Pantry\, 217 Gilkey School Rd\, Rutherfordton\, NC\, 28139\, United States
CATEGORIES:Soup Kitchens & Free Meal Events
END:VEVENT
BEGIN:VEVENT
DTSTART;TZID=America/New_York:20261003T090000
DTEND;TZID=America/New_York:20261003T120000
DTSTAMP:20260424T090917
CREATED:20250720T120959Z
LAST-MODIFIED:20250720T120959Z
UID:10003280-1791018000-1791028800@rutherfordconnect.com
SUMMARY:Neighbors Pantry Food Assistance
DESCRIPTION:Provides food assistance. The 1st and 3rd Saturday each month from 9:00am-12:00 and Friday after 1st and 3rd Saturday 5-7pm.
URL:https://rutherfordconnect.com/event/neighbors-pantry-food-assistance/2026-10-03/
LOCATION:Neighbors Pantry\, 217 Gilkey School Rd\, Rutherfordton\, NC\, 28139\, United States
CATEGORIES:Soup Kitchens & Free Meal Events
END:VEVENT
BEGIN:VEVENT
DTSTART;TZID=America/New_York:20261009T090000
DTEND;TZID=America/New_York:20261009T120000
DTSTAMP:20260424T090917
CREATED:20250720T121403Z
LAST-MODIFIED:20250720T121403Z
UID:10003402-1791536400-1791547200@rutherfordconnect.com
SUMMARY:Neighbors Pantry Food Assistance
DESCRIPTION:Provides food assistance. The 1st and 3rd Saturday each month from 9:00am-12:00 and Friday after 1st and 3rd Saturday 5-7pm.
URL:https://rutherfordconnect.com/event/neighbors-pantry-food-assistance-3/2026-10-09/
LOCATION:Neighbors Pantry\, 217 Gilkey School Rd\, Rutherfordton\, NC\, 28139\, United States
CATEGORIES:Soup Kitchens & Free Meal Events
END:VEVENT
BEGIN:VEVENT
DTSTART;TZID=America/New_York:20261017T090000
DTEND;TZID=America/New_York:20261017T120000
DTSTAMP:20260424T090917
CREATED:20250720T121149Z
LAST-MODIFIED:20250720T121149Z
UID:10003341-1792227600-1792238400@rutherfordconnect.com
SUMMARY:Neighbors Pantry Food Assistance
DESCRIPTION:Provides food assistance. The 1st and 3rd Saturday each month from 9:00am-12:00 and Friday after 1st and 3rd Saturday 5-7pm.
URL:https://rutherfordconnect.com/event/neighbors-pantry-food-assistance-2/2026-10-17/
LOCATION:Neighbors Pantry\, 217 Gilkey School Rd\, Rutherfordton\, NC\, 28139\, United States
CATEGORIES:Soup Kitchens & Free Meal Events
END:VEVENT
BEGIN:VEVENT
DTSTART;TZID=America/New_York:20261107T090000
DTEND;TZID=America/New_York:20261107T120000
DTSTAMP:20260424T090917
CREATED:20250720T120959Z
LAST-MODIFIED:20250720T120959Z
UID:10003281-1794042000-1794052800@rutherfordconnect.com
SUMMARY:Neighbors Pantry Food Assistance
DESCRIPTION:Provides food assistance. The 1st and 3rd Saturday each month from 9:00am-12:00 and Friday after 1st and 3rd Saturday 5-7pm.
URL:https://rutherfordconnect.com/event/neighbors-pantry-food-assistance/2026-11-07/
LOCATION:Neighbors Pantry\, 217 Gilkey School Rd\, Rutherfordton\, NC\, 28139\, United States
CATEGORIES:Soup Kitchens & Free Meal Events
END:VEVENT
BEGIN:VEVENT
DTSTART;TZID=America/New_York:20261113T090000
DTEND;TZID=America/New_York:20261113T120000
DTSTAMP:20260424T090917
CREATED:20250720T121403Z
LAST-MODIFIED:20250720T121403Z
UID:10003403-1794560400-1794571200@rutherfordconnect.com
SUMMARY:Neighbors Pantry Food Assistance
DESCRIPTION:Provides food assistance. The 1st and 3rd Saturday each month from 9:00am-12:00 and Friday after 1st and 3rd Saturday 5-7pm.
URL:https://rutherfordconnect.com/event/neighbors-pantry-food-assistance-3/2026-11-13/
LOCATION:Neighbors Pantry\, 217 Gilkey School Rd\, Rutherfordton\, NC\, 28139\, United States
CATEGORIES:Soup Kitchens & Free Meal Events
END:VEVENT
BEGIN:VEVENT
DTSTART;TZID=America/New_York:20261121T090000
DTEND;TZID=America/New_York:20261121T120000
DTSTAMP:20260424T090917
CREATED:20250720T121149Z
LAST-MODIFIED:20250720T121149Z
UID:10003342-1795251600-1795262400@rutherfordconnect.com
SUMMARY:Neighbors Pantry Food Assistance
DESCRIPTION:Provides food assistance. The 1st and 3rd Saturday each month from 9:00am-12:00 and Friday after 1st and 3rd Saturday 5-7pm.
URL:https://rutherfordconnect.com/event/neighbors-pantry-food-assistance-2/2026-11-21/
LOCATION:Neighbors Pantry\, 217 Gilkey School Rd\, Rutherfordton\, NC\, 28139\, United States
CATEGORIES:Soup Kitchens & Free Meal Events
END:VEVENT
BEGIN:VEVENT
DTSTART;TZID=America/New_York:20261205T090000
DTEND;TZID=America/New_York:20261205T120000
DTSTAMP:20260424T090917
CREATED:20250720T120959Z
LAST-MODIFIED:20250720T120959Z
UID:10003282-1796461200-1796472000@rutherfordconnect.com
SUMMARY:Neighbors Pantry Food Assistance
DESCRIPTION:Provides food assistance. The 1st and 3rd Saturday each month from 9:00am-12:00 and Friday after 1st and 3rd Saturday 5-7pm.
URL:https://rutherfordconnect.com/event/neighbors-pantry-food-assistance/2026-12-05/
LOCATION:Neighbors Pantry\, 217 Gilkey School Rd\, Rutherfordton\, NC\, 28139\, United States
CATEGORIES:Soup Kitchens & Free Meal Events
END:VEVENT
BEGIN:VEVENT
DTSTART;TZID=America/New_York:20261211T090000
DTEND;TZID=America/New_York:20261211T120000
DTSTAMP:20260424T090917
CREATED:20250720T121403Z
LAST-MODIFIED:20250720T121403Z
UID:10003404-1796979600-1796990400@rutherfordconnect.com
SUMMARY:Neighbors Pantry Food Assistance
DESCRIPTION:Provides food assistance. The 1st and 3rd Saturday each month from 9:00am-12:00 and Friday after 1st and 3rd Saturday 5-7pm.
URL:https://rutherfordconnect.com/event/neighbors-pantry-food-assistance-3/2026-12-11/
LOCATION:Neighbors Pantry\, 217 Gilkey School Rd\, Rutherfordton\, NC\, 28139\, United States
CATEGORIES:Soup Kitchens & Free Meal Events
END:VEVENT
BEGIN:VEVENT
DTSTART;TZID=America/New_York:20261219T090000
DTEND;TZID=America/New_York:20261219T120000
DTSTAMP:20260424T090917
CREATED:20250720T121149Z
LAST-MODIFIED:20250720T121149Z
UID:10003343-1797670800-1797681600@rutherfordconnect.com
SUMMARY:Neighbors Pantry Food Assistance
DESCRIPTION:Provides food assistance. The 1st and 3rd Saturday each month from 9:00am-12:00 and Friday after 1st and 3rd Saturday 5-7pm.
URL:https://rutherfordconnect.com/event/neighbors-pantry-food-assistance-2/2026-12-19/
LOCATION:Neighbors Pantry\, 217 Gilkey School Rd\, Rutherfordton\, NC\, 28139\, United States
CATEGORIES:Soup Kitchens & Free Meal Events
END:VEVENT
BEGIN:VEVENT
DTSTART;TZID=America/New_York:20270102T090000
DTEND;TZID=America/New_York:20270102T120000
DTSTAMP:20260424T090917
CREATED:20250720T120959Z
LAST-MODIFIED:20250720T120959Z
UID:10003283-1798880400-1798891200@rutherfordconnect.com
SUMMARY:Neighbors Pantry Food Assistance
DESCRIPTION:Provides food assistance. The 1st and 3rd Saturday each month from 9:00am-12:00 and Friday after 1st and 3rd Saturday 5-7pm.
URL:https://rutherfordconnect.com/event/neighbors-pantry-food-assistance/2027-01-02/
LOCATION:Neighbors Pantry\, 217 Gilkey School Rd\, Rutherfordton\, NC\, 28139\, United States
CATEGORIES:Soup Kitchens & Free Meal Events
END:VEVENT
BEGIN:VEVENT
DTSTART;TZID=America/New_York:20270108T090000
DTEND;TZID=America/New_York:20270108T120000
DTSTAMP:20260424T090917
CREATED:20250720T121403Z
LAST-MODIFIED:20250720T121403Z
UID:10003405-1799398800-1799409600@rutherfordconnect.com
SUMMARY:Neighbors Pantry Food Assistance
DESCRIPTION:Provides food assistance. The 1st and 3rd Saturday each month from 9:00am-12:00 and Friday after 1st and 3rd Saturday 5-7pm.
URL:https://rutherfordconnect.com/event/neighbors-pantry-food-assistance-3/2027-01-08/
LOCATION:Neighbors Pantry\, 217 Gilkey School Rd\, Rutherfordton\, NC\, 28139\, United States
CATEGORIES:Soup Kitchens & Free Meal Events
END:VEVENT
BEGIN:VEVENT
DTSTART;TZID=America/New_York:20270116T090000
DTEND;TZID=America/New_York:20270116T120000
DTSTAMP:20260424T090917
CREATED:20250720T121149Z
LAST-MODIFIED:20250720T121149Z
UID:10003344-1800090000-1800100800@rutherfordconnect.com
SUMMARY:Neighbors Pantry Food Assistance
DESCRIPTION:Provides food assistance. The 1st and 3rd Saturday each month from 9:00am-12:00 and Friday after 1st and 3rd Saturday 5-7pm.
URL:https://rutherfordconnect.com/event/neighbors-pantry-food-assistance-2/2027-01-16/
LOCATION:Neighbors Pantry\, 217 Gilkey School Rd\, Rutherfordton\, NC\, 28139\, United States
CATEGORIES:Soup Kitchens & Free Meal Events
END:VEVENT
BEGIN:VEVENT
DTSTART;TZID=America/New_York:20270206T090000
DTEND;TZID=America/New_York:20270206T120000
DTSTAMP:20260424T090918
CREATED:20250720T120959Z
LAST-MODIFIED:20250720T120959Z
UID:10003284-1801904400-1801915200@rutherfordconnect.com
SUMMARY:Neighbors Pantry Food Assistance
DESCRIPTION:Provides food assistance. The 1st and 3rd Saturday each month from 9:00am-12:00 and Friday after 1st and 3rd Saturday 5-7pm.
URL:https://rutherfordconnect.com/event/neighbors-pantry-food-assistance/2027-02-06/
LOCATION:Neighbors Pantry\, 217 Gilkey School Rd\, Rutherfordton\, NC\, 28139\, United States
CATEGORIES:Soup Kitchens & Free Meal Events
END:VEVENT
BEGIN:VEVENT
DTSTART;TZID=America/New_York:20270212T090000
DTEND;TZID=America/New_York:20270212T120000
DTSTAMP:20260424T090918
CREATED:20250720T121403Z
LAST-MODIFIED:20250720T121403Z
UID:10003406-1802422800-1802433600@rutherfordconnect.com
SUMMARY:Neighbors Pantry Food Assistance
DESCRIPTION:Provides food assistance. The 1st and 3rd Saturday each month from 9:00am-12:00 and Friday after 1st and 3rd Saturday 5-7pm.
URL:https://rutherfordconnect.com/event/neighbors-pantry-food-assistance-3/2027-02-12/
LOCATION:Neighbors Pantry\, 217 Gilkey School Rd\, Rutherfordton\, NC\, 28139\, United States
CATEGORIES:Soup Kitchens & Free Meal Events
END:VEVENT
BEGIN:VEVENT
DTSTART;TZID=America/New_York:20270220T090000
DTEND;TZID=America/New_York:20270220T120000
DTSTAMP:20260424T090918
CREATED:20250720T121149Z
LAST-MODIFIED:20250720T121149Z
UID:10003345-1803114000-1803124800@rutherfordconnect.com
SUMMARY:Neighbors Pantry Food Assistance
DESCRIPTION:Provides food assistance. The 1st and 3rd Saturday each month from 9:00am-12:00 and Friday after 1st and 3rd Saturday 5-7pm.
URL:https://rutherfordconnect.com/event/neighbors-pantry-food-assistance-2/2027-02-20/
LOCATION:Neighbors Pantry\, 217 Gilkey School Rd\, Rutherfordton\, NC\, 28139\, United States
CATEGORIES:Soup Kitchens & Free Meal Events
END:VEVENT
BEGIN:VEVENT
DTSTART;TZID=America/New_York:20270306T090000
DTEND;TZID=America/New_York:20270306T120000
DTSTAMP:20260424T090918
CREATED:20250720T120959Z
LAST-MODIFIED:20250720T120959Z
UID:10003285-1804323600-1804334400@rutherfordconnect.com
SUMMARY:Neighbors Pantry Food Assistance
DESCRIPTION:Provides food assistance. The 1st and 3rd Saturday each month from 9:00am-12:00 and Friday after 1st and 3rd Saturday 5-7pm.
URL:https://rutherfordconnect.com/event/neighbors-pantry-food-assistance/2027-03-06/
LOCATION:Neighbors Pantry\, 217 Gilkey School Rd\, Rutherfordton\, NC\, 28139\, United States
CATEGORIES:Soup Kitchens & Free Meal Events
END:VEVENT
BEGIN:VEVENT
DTSTART;TZID=America/New_York:20270312T090000
DTEND;TZID=America/New_York:20270312T120000
DTSTAMP:20260424T090918
CREATED:20250720T121403Z
LAST-MODIFIED:20250720T121403Z
UID:10003407-1804842000-1804852800@rutherfordconnect.com
SUMMARY:Neighbors Pantry Food Assistance
DESCRIPTION:Provides food assistance. The 1st and 3rd Saturday each month from 9:00am-12:00 and Friday after 1st and 3rd Saturday 5-7pm.
URL:https://rutherfordconnect.com/event/neighbors-pantry-food-assistance-3/2027-03-12/
LOCATION:Neighbors Pantry\, 217 Gilkey School Rd\, Rutherfordton\, NC\, 28139\, United States
CATEGORIES:Soup Kitchens & Free Meal Events
END:VEVENT
BEGIN:VEVENT
DTSTART;TZID=America/New_York:20270320T090000
DTEND;TZID=America/New_York:20270320T120000
DTSTAMP:20260424T090918
CREATED:20250720T121149Z
LAST-MODIFIED:20250720T121149Z
UID:10003346-1805533200-1805544000@rutherfordconnect.com
SUMMARY:Neighbors Pantry Food Assistance
DESCRIPTION:Provides food assistance. The 1st and 3rd Saturday each month from 9:00am-12:00 and Friday after 1st and 3rd Saturday 5-7pm.
URL:https://rutherfordconnect.com/event/neighbors-pantry-food-assistance-2/2027-03-20/
LOCATION:Neighbors Pantry\, 217 Gilkey School Rd\, Rutherfordton\, NC\, 28139\, United States
CATEGORIES:Soup Kitchens & Free Meal Events
END:VEVENT
BEGIN:VEVENT
DTSTART;TZID=America/New_York:20270403T090000
DTEND;TZID=America/New_York:20270403T120000
DTSTAMP:20260424T090918
CREATED:20250720T120959Z
LAST-MODIFIED:20250720T120959Z
UID:10003286-1806742800-1806753600@rutherfordconnect.com
SUMMARY:Neighbors Pantry Food Assistance
DESCRIPTION:Provides food assistance. The 1st and 3rd Saturday each month from 9:00am-12:00 and Friday after 1st and 3rd Saturday 5-7pm.
URL:https://rutherfordconnect.com/event/neighbors-pantry-food-assistance/2027-04-03/
LOCATION:Neighbors Pantry\, 217 Gilkey School Rd\, Rutherfordton\, NC\, 28139\, United States
CATEGORIES:Soup Kitchens & Free Meal Events
END:VEVENT
BEGIN:VEVENT
DTSTART;TZID=America/New_York:20270409T090000
DTEND;TZID=America/New_York:20270409T120000
DTSTAMP:20260424T090918
CREATED:20250720T121403Z
LAST-MODIFIED:20250720T121403Z
UID:10003408-1807261200-1807272000@rutherfordconnect.com
SUMMARY:Neighbors Pantry Food Assistance
DESCRIPTION:Provides food assistance. The 1st and 3rd Saturday each month from 9:00am-12:00 and Friday after 1st and 3rd Saturday 5-7pm.
URL:https://rutherfordconnect.com/event/neighbors-pantry-food-assistance-3/2027-04-09/
LOCATION:Neighbors Pantry\, 217 Gilkey School Rd\, Rutherfordton\, NC\, 28139\, United States
CATEGORIES:Soup Kitchens & Free Meal Events
END:VEVENT
BEGIN:VEVENT
DTSTART;TZID=America/New_York:20270417T090000
DTEND;TZID=America/New_York:20270417T120000
DTSTAMP:20260424T090918
CREATED:20250720T121149Z
LAST-MODIFIED:20250720T121149Z
UID:10003347-1807952400-1807963200@rutherfordconnect.com
SUMMARY:Neighbors Pantry Food Assistance
DESCRIPTION:Provides food assistance. The 1st and 3rd Saturday each month from 9:00am-12:00 and Friday after 1st and 3rd Saturday 5-7pm.
URL:https://rutherfordconnect.com/event/neighbors-pantry-food-assistance-2/2027-04-17/
LOCATION:Neighbors Pantry\, 217 Gilkey School Rd\, Rutherfordton\, NC\, 28139\, United States
CATEGORIES:Soup Kitchens & Free Meal Events
END:VEVENT
BEGIN:VEVENT
DTSTART;TZID=America/New_York:20270501T090000
DTEND;TZID=America/New_York:20270501T120000
DTSTAMP:20260424T090918
CREATED:20250720T120959Z
LAST-MODIFIED:20250720T120959Z
UID:10003287-1809162000-1809172800@rutherfordconnect.com
SUMMARY:Neighbors Pantry Food Assistance
DESCRIPTION:Provides food assistance. The 1st and 3rd Saturday each month from 9:00am-12:00 and Friday after 1st and 3rd Saturday 5-7pm.
URL:https://rutherfordconnect.com/event/neighbors-pantry-food-assistance/2027-05-01/
LOCATION:Neighbors Pantry\, 217 Gilkey School Rd\, Rutherfordton\, NC\, 28139\, United States
CATEGORIES:Soup Kitchens & Free Meal Events
END:VEVENT
BEGIN:VEVENT
DTSTART;TZID=America/New_York:20270514T090000
DTEND;TZID=America/New_York:20270514T120000
DTSTAMP:20260424T090918
CREATED:20250720T121403Z
LAST-MODIFIED:20250720T121403Z
UID:10003409-1810285200-1810296000@rutherfordconnect.com
SUMMARY:Neighbors Pantry Food Assistance
DESCRIPTION:Provides food assistance. The 1st and 3rd Saturday each month from 9:00am-12:00 and Friday after 1st and 3rd Saturday 5-7pm.
URL:https://rutherfordconnect.com/event/neighbors-pantry-food-assistance-3/2027-05-14/
LOCATION:Neighbors Pantry\, 217 Gilkey School Rd\, Rutherfordton\, NC\, 28139\, United States
CATEGORIES:Soup Kitchens & Free Meal Events
END:VEVENT
BEGIN:VEVENT
DTSTART;TZID=America/New_York:20270515T090000
DTEND;TZID=America/New_York:20270515T120000
DTSTAMP:20260424T090918
CREATED:20250720T121149Z
LAST-MODIFIED:20250720T121149Z
UID:10003348-1810371600-1810382400@rutherfordconnect.com
SUMMARY:Neighbors Pantry Food Assistance
DESCRIPTION:Provides food assistance. The 1st and 3rd Saturday each month from 9:00am-12:00 and Friday after 1st and 3rd Saturday 5-7pm.
URL:https://rutherfordconnect.com/event/neighbors-pantry-food-assistance-2/2027-05-15/
LOCATION:Neighbors Pantry\, 217 Gilkey School Rd\, Rutherfordton\, NC\, 28139\, United States
CATEGORIES:Soup Kitchens & Free Meal Events
END:VEVENT
BEGIN:VEVENT
DTSTART;TZID=America/New_York:20270605T090000
DTEND;TZID=America/New_York:20270605T120000
DTSTAMP:20260424T090918
CREATED:20250720T120959Z
LAST-MODIFIED:20250720T120959Z
UID:10003288-1812186000-1812196800@rutherfordconnect.com
SUMMARY:Neighbors Pantry Food Assistance
DESCRIPTION:Provides food assistance. The 1st and 3rd Saturday each month from 9:00am-12:00 and Friday after 1st and 3rd Saturday 5-7pm.
URL:https://rutherfordconnect.com/event/neighbors-pantry-food-assistance/2027-06-05/
LOCATION:Neighbors Pantry\, 217 Gilkey School Rd\, Rutherfordton\, NC\, 28139\, United States
CATEGORIES:Soup Kitchens & Free Meal Events
END:VEVENT
END:VCALENDAR