BEGIN:VCALENDAR
VERSION:2.0
PRODID:-//Rutherford Connect - ECPv6.15.20//NONSGML v1.0//EN
CALSCALE:GREGORIAN
METHOD:PUBLISH
X-ORIGINAL-URL:https://rutherfordconnect.com
X-WR-CALDESC:Events for Rutherford Connect
REFRESH-INTERVAL;VALUE=DURATION:PT1H
X-Robots-Tag:noindex
X-PUBLISHED-TTL:PT1H
BEGIN:VTIMEZONE
TZID:America/New_York
BEGIN:DAYLIGHT
TZOFFSETFROM:-0500
TZOFFSETTO:-0400
TZNAME:EDT
DTSTART:20240310T070000
END:DAYLIGHT
BEGIN:STANDARD
TZOFFSETFROM:-0400
TZOFFSETTO:-0500
TZNAME:EST
DTSTART:20241103T060000
END:STANDARD
BEGIN:DAYLIGHT
TZOFFSETFROM:-0500
TZOFFSETTO:-0400
TZNAME:EDT
DTSTART:20250309T070000
END:DAYLIGHT
BEGIN:STANDARD
TZOFFSETFROM:-0400
TZOFFSETTO:-0500
TZNAME:EST
DTSTART:20251102T060000
END:STANDARD
BEGIN:DAYLIGHT
TZOFFSETFROM:-0500
TZOFFSETTO:-0400
TZNAME:EDT
DTSTART:20260308T070000
END:DAYLIGHT
BEGIN:STANDARD
TZOFFSETFROM:-0400
TZOFFSETTO:-0500
TZNAME:EST
DTSTART:20261101T060000
END:STANDARD
BEGIN:DAYLIGHT
TZOFFSETFROM:-0500
TZOFFSETTO:-0400
TZNAME:EDT
DTSTART:20270314T070000
END:DAYLIGHT
BEGIN:STANDARD
TZOFFSETFROM:-0400
TZOFFSETTO:-0500
TZNAME:EST
DTSTART:20271107T060000
END:STANDARD
END:VTIMEZONE
BEGIN:VEVENT
DTSTART;TZID=America/New_York:20260415T110000
DTEND;TZID=America/New_York:20260415T160000
DTSTAMP:20260420T182848
CREATED:20250720T123846Z
LAST-MODIFIED:20250720T123846Z
UID:10006357-1776250800-1776268800@rutherfordconnect.com
SUMMARY:The Source Ministries / Loving Arms Ministry
DESCRIPTION:Food distribution on Wednesdays from 11:00am – 4:00pm. Clothing\, baby products\,\nhygiene products.
URL:https://rutherfordconnect.com/event/the-source-ministries-loving-arms-ministry/2026-04-15/
LOCATION:The Source Ministries\, 661 W Main St\, Forest City\, NC\, 28043\, United States
CATEGORIES:Soup Kitchens & Free Meal Events
END:VEVENT
BEGIN:VEVENT
DTSTART;TZID=America/New_York:20260408T110000
DTEND;TZID=America/New_York:20260408T160000
DTSTAMP:20260420T182848
CREATED:20250720T123846Z
LAST-MODIFIED:20250720T123846Z
UID:10006356-1775646000-1775664000@rutherfordconnect.com
SUMMARY:The Source Ministries / Loving Arms Ministry
DESCRIPTION:Food distribution on Wednesdays from 11:00am – 4:00pm. Clothing\, baby products\,\nhygiene products.
URL:https://rutherfordconnect.com/event/the-source-ministries-loving-arms-ministry/2026-04-08/
LOCATION:The Source Ministries\, 661 W Main St\, Forest City\, NC\, 28043\, United States
CATEGORIES:Soup Kitchens & Free Meal Events
END:VEVENT
BEGIN:VEVENT
DTSTART;TZID=America/New_York:20260401T110000
DTEND;TZID=America/New_York:20260401T160000
DTSTAMP:20260420T182848
CREATED:20250720T123846Z
LAST-MODIFIED:20250720T123846Z
UID:10006355-1775041200-1775059200@rutherfordconnect.com
SUMMARY:The Source Ministries / Loving Arms Ministry
DESCRIPTION:Food distribution on Wednesdays from 11:00am – 4:00pm. Clothing\, baby products\,\nhygiene products.
URL:https://rutherfordconnect.com/event/the-source-ministries-loving-arms-ministry/2026-04-01/
LOCATION:The Source Ministries\, 661 W Main St\, Forest City\, NC\, 28043\, United States
CATEGORIES:Soup Kitchens & Free Meal Events
END:VEVENT
BEGIN:VEVENT
DTSTART;TZID=America/New_York:20260325T110000
DTEND;TZID=America/New_York:20260325T160000
DTSTAMP:20260420T182848
CREATED:20250720T123846Z
LAST-MODIFIED:20250720T123846Z
UID:10006354-1774436400-1774454400@rutherfordconnect.com
SUMMARY:The Source Ministries / Loving Arms Ministry
DESCRIPTION:Food distribution on Wednesdays from 11:00am – 4:00pm. Clothing\, baby products\,\nhygiene products.
URL:https://rutherfordconnect.com/event/the-source-ministries-loving-arms-ministry/2026-03-25/
LOCATION:The Source Ministries\, 661 W Main St\, Forest City\, NC\, 28043\, United States
CATEGORIES:Soup Kitchens & Free Meal Events
END:VEVENT
BEGIN:VEVENT
DTSTART;TZID=America/New_York:20260318T110000
DTEND;TZID=America/New_York:20260318T160000
DTSTAMP:20260420T182848
CREATED:20250720T123846Z
LAST-MODIFIED:20250720T123846Z
UID:10006353-1773831600-1773849600@rutherfordconnect.com
SUMMARY:The Source Ministries / Loving Arms Ministry
DESCRIPTION:Food distribution on Wednesdays from 11:00am – 4:00pm. Clothing\, baby products\,\nhygiene products.
URL:https://rutherfordconnect.com/event/the-source-ministries-loving-arms-ministry/2026-03-18/
LOCATION:The Source Ministries\, 661 W Main St\, Forest City\, NC\, 28043\, United States
CATEGORIES:Soup Kitchens & Free Meal Events
END:VEVENT
BEGIN:VEVENT
DTSTART;TZID=America/New_York:20260311T110000
DTEND;TZID=America/New_York:20260311T160000
DTSTAMP:20260420T182848
CREATED:20250720T123846Z
LAST-MODIFIED:20250720T123846Z
UID:10006352-1773226800-1773244800@rutherfordconnect.com
SUMMARY:The Source Ministries / Loving Arms Ministry
DESCRIPTION:Food distribution on Wednesdays from 11:00am – 4:00pm. Clothing\, baby products\,\nhygiene products.
URL:https://rutherfordconnect.com/event/the-source-ministries-loving-arms-ministry/2026-03-11/
LOCATION:The Source Ministries\, 661 W Main St\, Forest City\, NC\, 28043\, United States
CATEGORIES:Soup Kitchens & Free Meal Events
END:VEVENT
BEGIN:VEVENT
DTSTART;TZID=America/New_York:20260304T110000
DTEND;TZID=America/New_York:20260304T160000
DTSTAMP:20260420T182848
CREATED:20250720T123846Z
LAST-MODIFIED:20250720T123846Z
UID:10006351-1772622000-1772640000@rutherfordconnect.com
SUMMARY:The Source Ministries / Loving Arms Ministry
DESCRIPTION:Food distribution on Wednesdays from 11:00am – 4:00pm. Clothing\, baby products\,\nhygiene products.
URL:https://rutherfordconnect.com/event/the-source-ministries-loving-arms-ministry/2026-03-04/
LOCATION:The Source Ministries\, 661 W Main St\, Forest City\, NC\, 28043\, United States
CATEGORIES:Soup Kitchens & Free Meal Events
END:VEVENT
BEGIN:VEVENT
DTSTART;TZID=America/New_York:20260225T110000
DTEND;TZID=America/New_York:20260225T160000
DTSTAMP:20260420T182848
CREATED:20250720T123846Z
LAST-MODIFIED:20250720T123846Z
UID:10006350-1772017200-1772035200@rutherfordconnect.com
SUMMARY:The Source Ministries / Loving Arms Ministry
DESCRIPTION:Food distribution on Wednesdays from 11:00am – 4:00pm. Clothing\, baby products\,\nhygiene products.
URL:https://rutherfordconnect.com/event/the-source-ministries-loving-arms-ministry/2026-02-25/
LOCATION:The Source Ministries\, 661 W Main St\, Forest City\, NC\, 28043\, United States
CATEGORIES:Soup Kitchens & Free Meal Events
END:VEVENT
BEGIN:VEVENT
DTSTART;TZID=America/New_York:20260218T110000
DTEND;TZID=America/New_York:20260218T160000
DTSTAMP:20260420T182848
CREATED:20250720T123846Z
LAST-MODIFIED:20250720T123846Z
UID:10006349-1771412400-1771430400@rutherfordconnect.com
SUMMARY:The Source Ministries / Loving Arms Ministry
DESCRIPTION:Food distribution on Wednesdays from 11:00am – 4:00pm. Clothing\, baby products\,\nhygiene products.
URL:https://rutherfordconnect.com/event/the-source-ministries-loving-arms-ministry/2026-02-18/
LOCATION:The Source Ministries\, 661 W Main St\, Forest City\, NC\, 28043\, United States
CATEGORIES:Soup Kitchens & Free Meal Events
END:VEVENT
BEGIN:VEVENT
DTSTART;TZID=America/New_York:20260211T110000
DTEND;TZID=America/New_York:20260211T160000
DTSTAMP:20260420T182848
CREATED:20250720T123846Z
LAST-MODIFIED:20250720T123846Z
UID:10006348-1770807600-1770825600@rutherfordconnect.com
SUMMARY:The Source Ministries / Loving Arms Ministry
DESCRIPTION:Food distribution on Wednesdays from 11:00am – 4:00pm. Clothing\, baby products\,\nhygiene products.
URL:https://rutherfordconnect.com/event/the-source-ministries-loving-arms-ministry/2026-02-11/
LOCATION:The Source Ministries\, 661 W Main St\, Forest City\, NC\, 28043\, United States
CATEGORIES:Soup Kitchens & Free Meal Events
END:VEVENT
BEGIN:VEVENT
DTSTART;TZID=America/New_York:20260204T110000
DTEND;TZID=America/New_York:20260204T160000
DTSTAMP:20260420T182848
CREATED:20250720T123846Z
LAST-MODIFIED:20250720T123846Z
UID:10006347-1770202800-1770220800@rutherfordconnect.com
SUMMARY:The Source Ministries / Loving Arms Ministry
DESCRIPTION:Food distribution on Wednesdays from 11:00am – 4:00pm. Clothing\, baby products\,\nhygiene products.
URL:https://rutherfordconnect.com/event/the-source-ministries-loving-arms-ministry/2026-02-04/
LOCATION:The Source Ministries\, 661 W Main St\, Forest City\, NC\, 28043\, United States
CATEGORIES:Soup Kitchens & Free Meal Events
END:VEVENT
BEGIN:VEVENT
DTSTART;TZID=America/New_York:20260128T110000
DTEND;TZID=America/New_York:20260128T160000
DTSTAMP:20260420T182848
CREATED:20250720T123846Z
LAST-MODIFIED:20250720T123846Z
UID:10006346-1769598000-1769616000@rutherfordconnect.com
SUMMARY:The Source Ministries / Loving Arms Ministry
DESCRIPTION:Food distribution on Wednesdays from 11:00am – 4:00pm. Clothing\, baby products\,\nhygiene products.
URL:https://rutherfordconnect.com/event/the-source-ministries-loving-arms-ministry/2026-01-28/
LOCATION:The Source Ministries\, 661 W Main St\, Forest City\, NC\, 28043\, United States
CATEGORIES:Soup Kitchens & Free Meal Events
END:VEVENT
BEGIN:VEVENT
DTSTART;TZID=America/New_York:20260121T110000
DTEND;TZID=America/New_York:20260121T160000
DTSTAMP:20260420T182848
CREATED:20250720T123846Z
LAST-MODIFIED:20250720T123846Z
UID:10006345-1768993200-1769011200@rutherfordconnect.com
SUMMARY:The Source Ministries / Loving Arms Ministry
DESCRIPTION:Food distribution on Wednesdays from 11:00am – 4:00pm. Clothing\, baby products\,\nhygiene products.
URL:https://rutherfordconnect.com/event/the-source-ministries-loving-arms-ministry/2026-01-21/
LOCATION:The Source Ministries\, 661 W Main St\, Forest City\, NC\, 28043\, United States
CATEGORIES:Soup Kitchens & Free Meal Events
END:VEVENT
BEGIN:VEVENT
DTSTART;TZID=America/New_York:20260114T110000
DTEND;TZID=America/New_York:20260114T160000
DTSTAMP:20260420T182848
CREATED:20250720T123846Z
LAST-MODIFIED:20250720T123846Z
UID:10006344-1768388400-1768406400@rutherfordconnect.com
SUMMARY:The Source Ministries / Loving Arms Ministry
DESCRIPTION:Food distribution on Wednesdays from 11:00am – 4:00pm. Clothing\, baby products\,\nhygiene products.
URL:https://rutherfordconnect.com/event/the-source-ministries-loving-arms-ministry/2026-01-14/
LOCATION:The Source Ministries\, 661 W Main St\, Forest City\, NC\, 28043\, United States
CATEGORIES:Soup Kitchens & Free Meal Events
END:VEVENT
BEGIN:VEVENT
DTSTART;TZID=America/New_York:20260107T110000
DTEND;TZID=America/New_York:20260107T160000
DTSTAMP:20260420T182848
CREATED:20250720T123846Z
LAST-MODIFIED:20250720T123846Z
UID:10006343-1767783600-1767801600@rutherfordconnect.com
SUMMARY:The Source Ministries / Loving Arms Ministry
DESCRIPTION:Food distribution on Wednesdays from 11:00am – 4:00pm. Clothing\, baby products\,\nhygiene products.
URL:https://rutherfordconnect.com/event/the-source-ministries-loving-arms-ministry/2026-01-07/
LOCATION:The Source Ministries\, 661 W Main St\, Forest City\, NC\, 28043\, United States
CATEGORIES:Soup Kitchens & Free Meal Events
END:VEVENT
BEGIN:VEVENT
DTSTART;TZID=America/New_York:20251231T110000
DTEND;TZID=America/New_York:20251231T160000
DTSTAMP:20260420T182848
CREATED:20250720T123846Z
LAST-MODIFIED:20250720T123846Z
UID:10006342-1767178800-1767196800@rutherfordconnect.com
SUMMARY:The Source Ministries / Loving Arms Ministry
DESCRIPTION:Food distribution on Wednesdays from 11:00am – 4:00pm. Clothing\, baby products\,\nhygiene products.
URL:https://rutherfordconnect.com/event/the-source-ministries-loving-arms-ministry/2025-12-31/
LOCATION:The Source Ministries\, 661 W Main St\, Forest City\, NC\, 28043\, United States
CATEGORIES:Soup Kitchens & Free Meal Events
END:VEVENT
BEGIN:VEVENT
DTSTART;TZID=America/New_York:20251224T110000
DTEND;TZID=America/New_York:20251224T160000
DTSTAMP:20260420T182848
CREATED:20250720T123846Z
LAST-MODIFIED:20250720T123846Z
UID:10006341-1766574000-1766592000@rutherfordconnect.com
SUMMARY:The Source Ministries / Loving Arms Ministry
DESCRIPTION:Food distribution on Wednesdays from 11:00am – 4:00pm. Clothing\, baby products\,\nhygiene products.
URL:https://rutherfordconnect.com/event/the-source-ministries-loving-arms-ministry/2025-12-24/
LOCATION:The Source Ministries\, 661 W Main St\, Forest City\, NC\, 28043\, United States
CATEGORIES:Soup Kitchens & Free Meal Events
END:VEVENT
BEGIN:VEVENT
DTSTART;TZID=America/New_York:20251217T110000
DTEND;TZID=America/New_York:20251217T160000
DTSTAMP:20260420T182848
CREATED:20250720T123846Z
LAST-MODIFIED:20250720T123846Z
UID:10006340-1765969200-1765987200@rutherfordconnect.com
SUMMARY:The Source Ministries / Loving Arms Ministry
DESCRIPTION:Food distribution on Wednesdays from 11:00am – 4:00pm. Clothing\, baby products\,\nhygiene products.
URL:https://rutherfordconnect.com/event/the-source-ministries-loving-arms-ministry/2025-12-17/
LOCATION:The Source Ministries\, 661 W Main St\, Forest City\, NC\, 28043\, United States
CATEGORIES:Soup Kitchens & Free Meal Events
END:VEVENT
BEGIN:VEVENT
DTSTART;TZID=America/New_York:20251210T110000
DTEND;TZID=America/New_York:20251210T160000
DTSTAMP:20260420T182848
CREATED:20250720T123846Z
LAST-MODIFIED:20250720T123846Z
UID:10006339-1765364400-1765382400@rutherfordconnect.com
SUMMARY:The Source Ministries / Loving Arms Ministry
DESCRIPTION:Food distribution on Wednesdays from 11:00am – 4:00pm. Clothing\, baby products\,\nhygiene products.
URL:https://rutherfordconnect.com/event/the-source-ministries-loving-arms-ministry/2025-12-10/
LOCATION:The Source Ministries\, 661 W Main St\, Forest City\, NC\, 28043\, United States
CATEGORIES:Soup Kitchens & Free Meal Events
END:VEVENT
BEGIN:VEVENT
DTSTART;TZID=America/New_York:20251203T110000
DTEND;TZID=America/New_York:20251203T160000
DTSTAMP:20260420T182848
CREATED:20250720T123846Z
LAST-MODIFIED:20250720T123846Z
UID:10006338-1764759600-1764777600@rutherfordconnect.com
SUMMARY:The Source Ministries / Loving Arms Ministry
DESCRIPTION:Food distribution on Wednesdays from 11:00am – 4:00pm. Clothing\, baby products\,\nhygiene products.
URL:https://rutherfordconnect.com/event/the-source-ministries-loving-arms-ministry/2025-12-03/
LOCATION:The Source Ministries\, 661 W Main St\, Forest City\, NC\, 28043\, United States
CATEGORIES:Soup Kitchens & Free Meal Events
END:VEVENT
BEGIN:VEVENT
DTSTART;TZID=America/New_York:20251126T110000
DTEND;TZID=America/New_York:20251126T160000
DTSTAMP:20260420T182848
CREATED:20250720T123846Z
LAST-MODIFIED:20250720T123846Z
UID:10006337-1764154800-1764172800@rutherfordconnect.com
SUMMARY:The Source Ministries / Loving Arms Ministry
DESCRIPTION:Food distribution on Wednesdays from 11:00am – 4:00pm. Clothing\, baby products\,\nhygiene products.
URL:https://rutherfordconnect.com/event/the-source-ministries-loving-arms-ministry/2025-11-26/
LOCATION:The Source Ministries\, 661 W Main St\, Forest City\, NC\, 28043\, United States
CATEGORIES:Soup Kitchens & Free Meal Events
END:VEVENT
BEGIN:VEVENT
DTSTART;TZID=America/New_York:20251119T110000
DTEND;TZID=America/New_York:20251119T160000
DTSTAMP:20260420T182848
CREATED:20250720T123846Z
LAST-MODIFIED:20250720T123846Z
UID:10006336-1763550000-1763568000@rutherfordconnect.com
SUMMARY:The Source Ministries / Loving Arms Ministry
DESCRIPTION:Food distribution on Wednesdays from 11:00am – 4:00pm. Clothing\, baby products\,\nhygiene products.
URL:https://rutherfordconnect.com/event/the-source-ministries-loving-arms-ministry/2025-11-19/
LOCATION:The Source Ministries\, 661 W Main St\, Forest City\, NC\, 28043\, United States
CATEGORIES:Soup Kitchens & Free Meal Events
END:VEVENT
BEGIN:VEVENT
DTSTART;TZID=America/New_York:20251112T110000
DTEND;TZID=America/New_York:20251112T160000
DTSTAMP:20260420T182848
CREATED:20250720T123846Z
LAST-MODIFIED:20250720T123846Z
UID:10006335-1762945200-1762963200@rutherfordconnect.com
SUMMARY:The Source Ministries / Loving Arms Ministry
DESCRIPTION:Food distribution on Wednesdays from 11:00am – 4:00pm. Clothing\, baby products\,\nhygiene products.
URL:https://rutherfordconnect.com/event/the-source-ministries-loving-arms-ministry/2025-11-12/
LOCATION:The Source Ministries\, 661 W Main St\, Forest City\, NC\, 28043\, United States
CATEGORIES:Soup Kitchens & Free Meal Events
END:VEVENT
BEGIN:VEVENT
DTSTART;TZID=America/New_York:20251105T110000
DTEND;TZID=America/New_York:20251105T160000
DTSTAMP:20260420T182848
CREATED:20250720T123846Z
LAST-MODIFIED:20250720T123846Z
UID:10006334-1762340400-1762358400@rutherfordconnect.com
SUMMARY:The Source Ministries / Loving Arms Ministry
DESCRIPTION:Food distribution on Wednesdays from 11:00am – 4:00pm. Clothing\, baby products\,\nhygiene products.
URL:https://rutherfordconnect.com/event/the-source-ministries-loving-arms-ministry/2025-11-05/
LOCATION:The Source Ministries\, 661 W Main St\, Forest City\, NC\, 28043\, United States
CATEGORIES:Soup Kitchens & Free Meal Events
END:VEVENT
BEGIN:VEVENT
DTSTART;TZID=America/New_York:20251029T110000
DTEND;TZID=America/New_York:20251029T160000
DTSTAMP:20260420T182848
CREATED:20250720T123846Z
LAST-MODIFIED:20250720T123846Z
UID:10006333-1761735600-1761753600@rutherfordconnect.com
SUMMARY:The Source Ministries / Loving Arms Ministry
DESCRIPTION:Food distribution on Wednesdays from 11:00am – 4:00pm. Clothing\, baby products\,\nhygiene products.
URL:https://rutherfordconnect.com/event/the-source-ministries-loving-arms-ministry/2025-10-29/
LOCATION:The Source Ministries\, 661 W Main St\, Forest City\, NC\, 28043\, United States
CATEGORIES:Soup Kitchens & Free Meal Events
END:VEVENT
BEGIN:VEVENT
DTSTART;TZID=America/New_York:20251022T110000
DTEND;TZID=America/New_York:20251022T160000
DTSTAMP:20260420T182848
CREATED:20250720T123846Z
LAST-MODIFIED:20250720T123846Z
UID:10006332-1761130800-1761148800@rutherfordconnect.com
SUMMARY:The Source Ministries / Loving Arms Ministry
DESCRIPTION:Food distribution on Wednesdays from 11:00am – 4:00pm. Clothing\, baby products\,\nhygiene products.
URL:https://rutherfordconnect.com/event/the-source-ministries-loving-arms-ministry/2025-10-22/
LOCATION:The Source Ministries\, 661 W Main St\, Forest City\, NC\, 28043\, United States
CATEGORIES:Soup Kitchens & Free Meal Events
END:VEVENT
BEGIN:VEVENT
DTSTART;TZID=America/New_York:20251015T110000
DTEND;TZID=America/New_York:20251015T160000
DTSTAMP:20260420T182848
CREATED:20250720T123846Z
LAST-MODIFIED:20250720T123846Z
UID:10006331-1760526000-1760544000@rutherfordconnect.com
SUMMARY:The Source Ministries / Loving Arms Ministry
DESCRIPTION:Food distribution on Wednesdays from 11:00am – 4:00pm. Clothing\, baby products\,\nhygiene products.
URL:https://rutherfordconnect.com/event/the-source-ministries-loving-arms-ministry/2025-10-15/
LOCATION:The Source Ministries\, 661 W Main St\, Forest City\, NC\, 28043\, United States
CATEGORIES:Soup Kitchens & Free Meal Events
END:VEVENT
BEGIN:VEVENT
DTSTART;TZID=America/New_York:20251008T110000
DTEND;TZID=America/New_York:20251008T160000
DTSTAMP:20260420T182848
CREATED:20250720T123846Z
LAST-MODIFIED:20250720T123846Z
UID:10006330-1759921200-1759939200@rutherfordconnect.com
SUMMARY:The Source Ministries / Loving Arms Ministry
DESCRIPTION:Food distribution on Wednesdays from 11:00am – 4:00pm. Clothing\, baby products\,\nhygiene products.
URL:https://rutherfordconnect.com/event/the-source-ministries-loving-arms-ministry/2025-10-08/
LOCATION:The Source Ministries\, 661 W Main St\, Forest City\, NC\, 28043\, United States
CATEGORIES:Soup Kitchens & Free Meal Events
END:VEVENT
BEGIN:VEVENT
DTSTART;TZID=America/New_York:20251001T110000
DTEND;TZID=America/New_York:20251001T160000
DTSTAMP:20260420T182848
CREATED:20250720T123846Z
LAST-MODIFIED:20250720T123846Z
UID:10006329-1759316400-1759334400@rutherfordconnect.com
SUMMARY:The Source Ministries / Loving Arms Ministry
DESCRIPTION:Food distribution on Wednesdays from 11:00am – 4:00pm. Clothing\, baby products\,\nhygiene products.
URL:https://rutherfordconnect.com/event/the-source-ministries-loving-arms-ministry/2025-10-01/
LOCATION:The Source Ministries\, 661 W Main St\, Forest City\, NC\, 28043\, United States
CATEGORIES:Soup Kitchens & Free Meal Events
END:VEVENT
BEGIN:VEVENT
DTSTART;TZID=America/New_York:20250924T110000
DTEND;TZID=America/New_York:20250924T160000
DTSTAMP:20260420T182848
CREATED:20250720T123846Z
LAST-MODIFIED:20250720T123846Z
UID:10006328-1758711600-1758729600@rutherfordconnect.com
SUMMARY:The Source Ministries / Loving Arms Ministry
DESCRIPTION:Food distribution on Wednesdays from 11:00am – 4:00pm. Clothing\, baby products\,\nhygiene products.
URL:https://rutherfordconnect.com/event/the-source-ministries-loving-arms-ministry/2025-09-24/
LOCATION:The Source Ministries\, 661 W Main St\, Forest City\, NC\, 28043\, United States
CATEGORIES:Soup Kitchens & Free Meal Events
END:VEVENT
END:VCALENDAR