BEGIN:VCALENDAR
VERSION:2.0
PRODID:-//Rutherford Connect - ECPv6.15.20//NONSGML v1.0//EN
CALSCALE:GREGORIAN
METHOD:PUBLISH
X-WR-CALNAME:Rutherford Connect
X-ORIGINAL-URL:https://rutherfordconnect.com
X-WR-CALDESC:Events for Rutherford Connect
REFRESH-INTERVAL;VALUE=DURATION:PT1H
X-Robots-Tag:noindex
X-PUBLISHED-TTL:PT1H
BEGIN:VTIMEZONE
TZID:America/New_York
BEGIN:DAYLIGHT
TZOFFSETFROM:-0500
TZOFFSETTO:-0400
TZNAME:EDT
DTSTART:20250309T070000
END:DAYLIGHT
BEGIN:STANDARD
TZOFFSETFROM:-0400
TZOFFSETTO:-0500
TZNAME:EST
DTSTART:20251102T060000
END:STANDARD
BEGIN:DAYLIGHT
TZOFFSETFROM:-0500
TZOFFSETTO:-0400
TZNAME:EDT
DTSTART:20260308T070000
END:DAYLIGHT
BEGIN:STANDARD
TZOFFSETFROM:-0400
TZOFFSETTO:-0500
TZNAME:EST
DTSTART:20261101T060000
END:STANDARD
BEGIN:DAYLIGHT
TZOFFSETFROM:-0500
TZOFFSETTO:-0400
TZNAME:EDT
DTSTART:20270314T070000
END:DAYLIGHT
BEGIN:STANDARD
TZOFFSETFROM:-0400
TZOFFSETTO:-0500
TZNAME:EST
DTSTART:20271107T060000
END:STANDARD
END:VTIMEZONE
BEGIN:VEVENT
DTSTART;TZID=America/New_York:20260422T110000
DTEND;TZID=America/New_York:20260422T160000
DTSTAMP:20260420T164513
CREATED:20250720T123846Z
LAST-MODIFIED:20250720T123846Z
UID:10006358-1776855600-1776873600@rutherfordconnect.com
SUMMARY:The Source Ministries / Loving Arms Ministry
DESCRIPTION:Food distribution on Wednesdays from 11:00am – 4:00pm. Clothing\, baby products\,\nhygiene products.
URL:https://rutherfordconnect.com/event/the-source-ministries-loving-arms-ministry/2026-04-22/
LOCATION:The Source Ministries\, 661 W Main St\, Forest City\, NC\, 28043\, United States
CATEGORIES:Soup Kitchens & Free Meal Events
END:VEVENT
BEGIN:VEVENT
DTSTART;TZID=America/New_York:20260429T110000
DTEND;TZID=America/New_York:20260429T160000
DTSTAMP:20260420T164513
CREATED:20250720T123846Z
LAST-MODIFIED:20250720T123846Z
UID:10006359-1777460400-1777478400@rutherfordconnect.com
SUMMARY:The Source Ministries / Loving Arms Ministry
DESCRIPTION:Food distribution on Wednesdays from 11:00am – 4:00pm. Clothing\, baby products\,\nhygiene products.
URL:https://rutherfordconnect.com/event/the-source-ministries-loving-arms-ministry/2026-04-29/
LOCATION:The Source Ministries\, 661 W Main St\, Forest City\, NC\, 28043\, United States
CATEGORIES:Soup Kitchens & Free Meal Events
END:VEVENT
BEGIN:VEVENT
DTSTART;TZID=America/New_York:20260506T110000
DTEND;TZID=America/New_York:20260506T160000
DTSTAMP:20260420T164513
CREATED:20250720T123846Z
LAST-MODIFIED:20250720T123846Z
UID:10006360-1778065200-1778083200@rutherfordconnect.com
SUMMARY:The Source Ministries / Loving Arms Ministry
DESCRIPTION:Food distribution on Wednesdays from 11:00am – 4:00pm. Clothing\, baby products\,\nhygiene products.
URL:https://rutherfordconnect.com/event/the-source-ministries-loving-arms-ministry/2026-05-06/
LOCATION:The Source Ministries\, 661 W Main St\, Forest City\, NC\, 28043\, United States
CATEGORIES:Soup Kitchens & Free Meal Events
END:VEVENT
BEGIN:VEVENT
DTSTART;TZID=America/New_York:20260513T110000
DTEND;TZID=America/New_York:20260513T160000
DTSTAMP:20260420T164513
CREATED:20250720T123846Z
LAST-MODIFIED:20250720T123846Z
UID:10006361-1778670000-1778688000@rutherfordconnect.com
SUMMARY:The Source Ministries / Loving Arms Ministry
DESCRIPTION:Food distribution on Wednesdays from 11:00am – 4:00pm. Clothing\, baby products\,\nhygiene products.
URL:https://rutherfordconnect.com/event/the-source-ministries-loving-arms-ministry/2026-05-13/
LOCATION:The Source Ministries\, 661 W Main St\, Forest City\, NC\, 28043\, United States
CATEGORIES:Soup Kitchens & Free Meal Events
END:VEVENT
BEGIN:VEVENT
DTSTART;TZID=America/New_York:20260520T110000
DTEND;TZID=America/New_York:20260520T160000
DTSTAMP:20260420T164513
CREATED:20250720T123846Z
LAST-MODIFIED:20250720T123846Z
UID:10006362-1779274800-1779292800@rutherfordconnect.com
SUMMARY:The Source Ministries / Loving Arms Ministry
DESCRIPTION:Food distribution on Wednesdays from 11:00am – 4:00pm. Clothing\, baby products\,\nhygiene products.
URL:https://rutherfordconnect.com/event/the-source-ministries-loving-arms-ministry/2026-05-20/
LOCATION:The Source Ministries\, 661 W Main St\, Forest City\, NC\, 28043\, United States
CATEGORIES:Soup Kitchens & Free Meal Events
END:VEVENT
BEGIN:VEVENT
DTSTART;TZID=America/New_York:20260527T110000
DTEND;TZID=America/New_York:20260527T160000
DTSTAMP:20260420T164513
CREATED:20250720T123846Z
LAST-MODIFIED:20250720T123846Z
UID:10006363-1779879600-1779897600@rutherfordconnect.com
SUMMARY:The Source Ministries / Loving Arms Ministry
DESCRIPTION:Food distribution on Wednesdays from 11:00am – 4:00pm. Clothing\, baby products\,\nhygiene products.
URL:https://rutherfordconnect.com/event/the-source-ministries-loving-arms-ministry/2026-05-27/
LOCATION:The Source Ministries\, 661 W Main St\, Forest City\, NC\, 28043\, United States
CATEGORIES:Soup Kitchens & Free Meal Events
END:VEVENT
BEGIN:VEVENT
DTSTART;TZID=America/New_York:20260603T110000
DTEND;TZID=America/New_York:20260603T160000
DTSTAMP:20260420T164513
CREATED:20250720T123846Z
LAST-MODIFIED:20250720T123846Z
UID:10006364-1780484400-1780502400@rutherfordconnect.com
SUMMARY:The Source Ministries / Loving Arms Ministry
DESCRIPTION:Food distribution on Wednesdays from 11:00am – 4:00pm. Clothing\, baby products\,\nhygiene products.
URL:https://rutherfordconnect.com/event/the-source-ministries-loving-arms-ministry/2026-06-03/
LOCATION:The Source Ministries\, 661 W Main St\, Forest City\, NC\, 28043\, United States
CATEGORIES:Soup Kitchens & Free Meal Events
END:VEVENT
BEGIN:VEVENT
DTSTART;TZID=America/New_York:20260610T110000
DTEND;TZID=America/New_York:20260610T160000
DTSTAMP:20260420T164513
CREATED:20250720T123846Z
LAST-MODIFIED:20250720T123846Z
UID:10006365-1781089200-1781107200@rutherfordconnect.com
SUMMARY:The Source Ministries / Loving Arms Ministry
DESCRIPTION:Food distribution on Wednesdays from 11:00am – 4:00pm. Clothing\, baby products\,\nhygiene products.
URL:https://rutherfordconnect.com/event/the-source-ministries-loving-arms-ministry/2026-06-10/
LOCATION:The Source Ministries\, 661 W Main St\, Forest City\, NC\, 28043\, United States
CATEGORIES:Soup Kitchens & Free Meal Events
END:VEVENT
BEGIN:VEVENT
DTSTART;TZID=America/New_York:20260617T110000
DTEND;TZID=America/New_York:20260617T160000
DTSTAMP:20260420T164513
CREATED:20250720T123846Z
LAST-MODIFIED:20250720T123846Z
UID:10006366-1781694000-1781712000@rutherfordconnect.com
SUMMARY:The Source Ministries / Loving Arms Ministry
DESCRIPTION:Food distribution on Wednesdays from 11:00am – 4:00pm. Clothing\, baby products\,\nhygiene products.
URL:https://rutherfordconnect.com/event/the-source-ministries-loving-arms-ministry/2026-06-17/
LOCATION:The Source Ministries\, 661 W Main St\, Forest City\, NC\, 28043\, United States
CATEGORIES:Soup Kitchens & Free Meal Events
END:VEVENT
BEGIN:VEVENT
DTSTART;TZID=America/New_York:20260624T110000
DTEND;TZID=America/New_York:20260624T160000
DTSTAMP:20260420T164513
CREATED:20250720T123846Z
LAST-MODIFIED:20250720T123846Z
UID:10006367-1782298800-1782316800@rutherfordconnect.com
SUMMARY:The Source Ministries / Loving Arms Ministry
DESCRIPTION:Food distribution on Wednesdays from 11:00am – 4:00pm. Clothing\, baby products\,\nhygiene products.
URL:https://rutherfordconnect.com/event/the-source-ministries-loving-arms-ministry/2026-06-24/
LOCATION:The Source Ministries\, 661 W Main St\, Forest City\, NC\, 28043\, United States
CATEGORIES:Soup Kitchens & Free Meal Events
END:VEVENT
BEGIN:VEVENT
DTSTART;TZID=America/New_York:20260701T110000
DTEND;TZID=America/New_York:20260701T160000
DTSTAMP:20260420T164513
CREATED:20250720T123846Z
LAST-MODIFIED:20250720T123846Z
UID:10006368-1782903600-1782921600@rutherfordconnect.com
SUMMARY:The Source Ministries / Loving Arms Ministry
DESCRIPTION:Food distribution on Wednesdays from 11:00am – 4:00pm. Clothing\, baby products\,\nhygiene products.
URL:https://rutherfordconnect.com/event/the-source-ministries-loving-arms-ministry/2026-07-01/
LOCATION:The Source Ministries\, 661 W Main St\, Forest City\, NC\, 28043\, United States
CATEGORIES:Soup Kitchens & Free Meal Events
END:VEVENT
BEGIN:VEVENT
DTSTART;TZID=America/New_York:20260708T110000
DTEND;TZID=America/New_York:20260708T160000
DTSTAMP:20260420T164513
CREATED:20250720T123846Z
LAST-MODIFIED:20250720T123846Z
UID:10006369-1783508400-1783526400@rutherfordconnect.com
SUMMARY:The Source Ministries / Loving Arms Ministry
DESCRIPTION:Food distribution on Wednesdays from 11:00am – 4:00pm. Clothing\, baby products\,\nhygiene products.
URL:https://rutherfordconnect.com/event/the-source-ministries-loving-arms-ministry/2026-07-08/
LOCATION:The Source Ministries\, 661 W Main St\, Forest City\, NC\, 28043\, United States
CATEGORIES:Soup Kitchens & Free Meal Events
END:VEVENT
BEGIN:VEVENT
DTSTART;TZID=America/New_York:20260715T110000
DTEND;TZID=America/New_York:20260715T160000
DTSTAMP:20260420T164513
CREATED:20250720T123846Z
LAST-MODIFIED:20250720T123846Z
UID:10006370-1784113200-1784131200@rutherfordconnect.com
SUMMARY:The Source Ministries / Loving Arms Ministry
DESCRIPTION:Food distribution on Wednesdays from 11:00am – 4:00pm. Clothing\, baby products\,\nhygiene products.
URL:https://rutherfordconnect.com/event/the-source-ministries-loving-arms-ministry/2026-07-15/
LOCATION:The Source Ministries\, 661 W Main St\, Forest City\, NC\, 28043\, United States
CATEGORIES:Soup Kitchens & Free Meal Events
END:VEVENT
BEGIN:VEVENT
DTSTART;TZID=America/New_York:20260722T110000
DTEND;TZID=America/New_York:20260722T160000
DTSTAMP:20260420T164513
CREATED:20250720T123846Z
LAST-MODIFIED:20250720T123846Z
UID:10006371-1784718000-1784736000@rutherfordconnect.com
SUMMARY:The Source Ministries / Loving Arms Ministry
DESCRIPTION:Food distribution on Wednesdays from 11:00am – 4:00pm. Clothing\, baby products\,\nhygiene products.
URL:https://rutherfordconnect.com/event/the-source-ministries-loving-arms-ministry/2026-07-22/
LOCATION:The Source Ministries\, 661 W Main St\, Forest City\, NC\, 28043\, United States
CATEGORIES:Soup Kitchens & Free Meal Events
END:VEVENT
BEGIN:VEVENT
DTSTART;TZID=America/New_York:20260729T110000
DTEND;TZID=America/New_York:20260729T160000
DTSTAMP:20260420T164513
CREATED:20250720T123846Z
LAST-MODIFIED:20250720T123846Z
UID:10006372-1785322800-1785340800@rutherfordconnect.com
SUMMARY:The Source Ministries / Loving Arms Ministry
DESCRIPTION:Food distribution on Wednesdays from 11:00am – 4:00pm. Clothing\, baby products\,\nhygiene products.
URL:https://rutherfordconnect.com/event/the-source-ministries-loving-arms-ministry/2026-07-29/
LOCATION:The Source Ministries\, 661 W Main St\, Forest City\, NC\, 28043\, United States
CATEGORIES:Soup Kitchens & Free Meal Events
END:VEVENT
BEGIN:VEVENT
DTSTART;TZID=America/New_York:20260805T110000
DTEND;TZID=America/New_York:20260805T160000
DTSTAMP:20260420T164513
CREATED:20250720T123846Z
LAST-MODIFIED:20250720T123846Z
UID:10006373-1785927600-1785945600@rutherfordconnect.com
SUMMARY:The Source Ministries / Loving Arms Ministry
DESCRIPTION:Food distribution on Wednesdays from 11:00am – 4:00pm. Clothing\, baby products\,\nhygiene products.
URL:https://rutherfordconnect.com/event/the-source-ministries-loving-arms-ministry/2026-08-05/
LOCATION:The Source Ministries\, 661 W Main St\, Forest City\, NC\, 28043\, United States
CATEGORIES:Soup Kitchens & Free Meal Events
END:VEVENT
BEGIN:VEVENT
DTSTART;TZID=America/New_York:20260812T110000
DTEND;TZID=America/New_York:20260812T160000
DTSTAMP:20260420T164513
CREATED:20250720T123846Z
LAST-MODIFIED:20250720T123846Z
UID:10006374-1786532400-1786550400@rutherfordconnect.com
SUMMARY:The Source Ministries / Loving Arms Ministry
DESCRIPTION:Food distribution on Wednesdays from 11:00am – 4:00pm. Clothing\, baby products\,\nhygiene products.
URL:https://rutherfordconnect.com/event/the-source-ministries-loving-arms-ministry/2026-08-12/
LOCATION:The Source Ministries\, 661 W Main St\, Forest City\, NC\, 28043\, United States
CATEGORIES:Soup Kitchens & Free Meal Events
END:VEVENT
BEGIN:VEVENT
DTSTART;TZID=America/New_York:20260819T110000
DTEND;TZID=America/New_York:20260819T160000
DTSTAMP:20260420T164513
CREATED:20250720T123846Z
LAST-MODIFIED:20250720T123846Z
UID:10006375-1787137200-1787155200@rutherfordconnect.com
SUMMARY:The Source Ministries / Loving Arms Ministry
DESCRIPTION:Food distribution on Wednesdays from 11:00am – 4:00pm. Clothing\, baby products\,\nhygiene products.
URL:https://rutherfordconnect.com/event/the-source-ministries-loving-arms-ministry/2026-08-19/
LOCATION:The Source Ministries\, 661 W Main St\, Forest City\, NC\, 28043\, United States
CATEGORIES:Soup Kitchens & Free Meal Events
END:VEVENT
BEGIN:VEVENT
DTSTART;TZID=America/New_York:20260826T110000
DTEND;TZID=America/New_York:20260826T160000
DTSTAMP:20260420T164513
CREATED:20250720T123846Z
LAST-MODIFIED:20250720T123846Z
UID:10006376-1787742000-1787760000@rutherfordconnect.com
SUMMARY:The Source Ministries / Loving Arms Ministry
DESCRIPTION:Food distribution on Wednesdays from 11:00am – 4:00pm. Clothing\, baby products\,\nhygiene products.
URL:https://rutherfordconnect.com/event/the-source-ministries-loving-arms-ministry/2026-08-26/
LOCATION:The Source Ministries\, 661 W Main St\, Forest City\, NC\, 28043\, United States
CATEGORIES:Soup Kitchens & Free Meal Events
END:VEVENT
BEGIN:VEVENT
DTSTART;TZID=America/New_York:20260902T110000
DTEND;TZID=America/New_York:20260902T160000
DTSTAMP:20260420T164513
CREATED:20250720T123846Z
LAST-MODIFIED:20250720T123846Z
UID:10006377-1788346800-1788364800@rutherfordconnect.com
SUMMARY:The Source Ministries / Loving Arms Ministry
DESCRIPTION:Food distribution on Wednesdays from 11:00am – 4:00pm. Clothing\, baby products\,\nhygiene products.
URL:https://rutherfordconnect.com/event/the-source-ministries-loving-arms-ministry/2026-09-02/
LOCATION:The Source Ministries\, 661 W Main St\, Forest City\, NC\, 28043\, United States
CATEGORIES:Soup Kitchens & Free Meal Events
END:VEVENT
BEGIN:VEVENT
DTSTART;TZID=America/New_York:20260909T110000
DTEND;TZID=America/New_York:20260909T160000
DTSTAMP:20260420T164513
CREATED:20250720T123846Z
LAST-MODIFIED:20250720T123846Z
UID:10006378-1788951600-1788969600@rutherfordconnect.com
SUMMARY:The Source Ministries / Loving Arms Ministry
DESCRIPTION:Food distribution on Wednesdays from 11:00am – 4:00pm. Clothing\, baby products\,\nhygiene products.
URL:https://rutherfordconnect.com/event/the-source-ministries-loving-arms-ministry/2026-09-09/
LOCATION:The Source Ministries\, 661 W Main St\, Forest City\, NC\, 28043\, United States
CATEGORIES:Soup Kitchens & Free Meal Events
END:VEVENT
BEGIN:VEVENT
DTSTART;TZID=America/New_York:20260916T110000
DTEND;TZID=America/New_York:20260916T160000
DTSTAMP:20260420T164513
CREATED:20250720T123846Z
LAST-MODIFIED:20250720T123846Z
UID:10006379-1789556400-1789574400@rutherfordconnect.com
SUMMARY:The Source Ministries / Loving Arms Ministry
DESCRIPTION:Food distribution on Wednesdays from 11:00am – 4:00pm. Clothing\, baby products\,\nhygiene products.
URL:https://rutherfordconnect.com/event/the-source-ministries-loving-arms-ministry/2026-09-16/
LOCATION:The Source Ministries\, 661 W Main St\, Forest City\, NC\, 28043\, United States
CATEGORIES:Soup Kitchens & Free Meal Events
END:VEVENT
BEGIN:VEVENT
DTSTART;TZID=America/New_York:20260923T110000
DTEND;TZID=America/New_York:20260923T160000
DTSTAMP:20260420T164513
CREATED:20250720T123846Z
LAST-MODIFIED:20250720T123846Z
UID:10006380-1790161200-1790179200@rutherfordconnect.com
SUMMARY:The Source Ministries / Loving Arms Ministry
DESCRIPTION:Food distribution on Wednesdays from 11:00am – 4:00pm. Clothing\, baby products\,\nhygiene products.
URL:https://rutherfordconnect.com/event/the-source-ministries-loving-arms-ministry/2026-09-23/
LOCATION:The Source Ministries\, 661 W Main St\, Forest City\, NC\, 28043\, United States
CATEGORIES:Soup Kitchens & Free Meal Events
END:VEVENT
BEGIN:VEVENT
DTSTART;TZID=America/New_York:20260930T110000
DTEND;TZID=America/New_York:20260930T160000
DTSTAMP:20260420T164513
CREATED:20250720T123846Z
LAST-MODIFIED:20250720T123846Z
UID:10006381-1790766000-1790784000@rutherfordconnect.com
SUMMARY:The Source Ministries / Loving Arms Ministry
DESCRIPTION:Food distribution on Wednesdays from 11:00am – 4:00pm. Clothing\, baby products\,\nhygiene products.
URL:https://rutherfordconnect.com/event/the-source-ministries-loving-arms-ministry/2026-09-30/
LOCATION:The Source Ministries\, 661 W Main St\, Forest City\, NC\, 28043\, United States
CATEGORIES:Soup Kitchens & Free Meal Events
END:VEVENT
BEGIN:VEVENT
DTSTART;TZID=America/New_York:20261007T110000
DTEND;TZID=America/New_York:20261007T160000
DTSTAMP:20260420T164513
CREATED:20250720T123846Z
LAST-MODIFIED:20250720T123846Z
UID:10006382-1791370800-1791388800@rutherfordconnect.com
SUMMARY:The Source Ministries / Loving Arms Ministry
DESCRIPTION:Food distribution on Wednesdays from 11:00am – 4:00pm. Clothing\, baby products\,\nhygiene products.
URL:https://rutherfordconnect.com/event/the-source-ministries-loving-arms-ministry/2026-10-07/
LOCATION:The Source Ministries\, 661 W Main St\, Forest City\, NC\, 28043\, United States
CATEGORIES:Soup Kitchens & Free Meal Events
END:VEVENT
BEGIN:VEVENT
DTSTART;TZID=America/New_York:20261014T110000
DTEND;TZID=America/New_York:20261014T160000
DTSTAMP:20260420T164513
CREATED:20250720T123846Z
LAST-MODIFIED:20250720T123846Z
UID:10006383-1791975600-1791993600@rutherfordconnect.com
SUMMARY:The Source Ministries / Loving Arms Ministry
DESCRIPTION:Food distribution on Wednesdays from 11:00am – 4:00pm. Clothing\, baby products\,\nhygiene products.
URL:https://rutherfordconnect.com/event/the-source-ministries-loving-arms-ministry/2026-10-14/
LOCATION:The Source Ministries\, 661 W Main St\, Forest City\, NC\, 28043\, United States
CATEGORIES:Soup Kitchens & Free Meal Events
END:VEVENT
BEGIN:VEVENT
DTSTART;TZID=America/New_York:20261021T110000
DTEND;TZID=America/New_York:20261021T160000
DTSTAMP:20260420T164513
CREATED:20250720T123846Z
LAST-MODIFIED:20250720T123846Z
UID:10006384-1792580400-1792598400@rutherfordconnect.com
SUMMARY:The Source Ministries / Loving Arms Ministry
DESCRIPTION:Food distribution on Wednesdays from 11:00am – 4:00pm. Clothing\, baby products\,\nhygiene products.
URL:https://rutherfordconnect.com/event/the-source-ministries-loving-arms-ministry/2026-10-21/
LOCATION:The Source Ministries\, 661 W Main St\, Forest City\, NC\, 28043\, United States
CATEGORIES:Soup Kitchens & Free Meal Events
END:VEVENT
BEGIN:VEVENT
DTSTART;TZID=America/New_York:20261028T110000
DTEND;TZID=America/New_York:20261028T160000
DTSTAMP:20260420T164513
CREATED:20250720T123846Z
LAST-MODIFIED:20250720T123846Z
UID:10006385-1793185200-1793203200@rutherfordconnect.com
SUMMARY:The Source Ministries / Loving Arms Ministry
DESCRIPTION:Food distribution on Wednesdays from 11:00am – 4:00pm. Clothing\, baby products\,\nhygiene products.
URL:https://rutherfordconnect.com/event/the-source-ministries-loving-arms-ministry/2026-10-28/
LOCATION:The Source Ministries\, 661 W Main St\, Forest City\, NC\, 28043\, United States
CATEGORIES:Soup Kitchens & Free Meal Events
END:VEVENT
BEGIN:VEVENT
DTSTART;TZID=America/New_York:20261104T110000
DTEND;TZID=America/New_York:20261104T160000
DTSTAMP:20260420T164513
CREATED:20250720T123846Z
LAST-MODIFIED:20250720T123846Z
UID:10006386-1793790000-1793808000@rutherfordconnect.com
SUMMARY:The Source Ministries / Loving Arms Ministry
DESCRIPTION:Food distribution on Wednesdays from 11:00am – 4:00pm. Clothing\, baby products\,\nhygiene products.
URL:https://rutherfordconnect.com/event/the-source-ministries-loving-arms-ministry/2026-11-04/
LOCATION:The Source Ministries\, 661 W Main St\, Forest City\, NC\, 28043\, United States
CATEGORIES:Soup Kitchens & Free Meal Events
END:VEVENT
BEGIN:VEVENT
DTSTART;TZID=America/New_York:20261111T110000
DTEND;TZID=America/New_York:20261111T160000
DTSTAMP:20260420T164513
CREATED:20250720T123846Z
LAST-MODIFIED:20250720T123846Z
UID:10006387-1794394800-1794412800@rutherfordconnect.com
SUMMARY:The Source Ministries / Loving Arms Ministry
DESCRIPTION:Food distribution on Wednesdays from 11:00am – 4:00pm. Clothing\, baby products\,\nhygiene products.
URL:https://rutherfordconnect.com/event/the-source-ministries-loving-arms-ministry/2026-11-11/
LOCATION:The Source Ministries\, 661 W Main St\, Forest City\, NC\, 28043\, United States
CATEGORIES:Soup Kitchens & Free Meal Events
END:VEVENT
END:VCALENDAR