BEGIN:VCALENDAR
VERSION:2.0
PRODID:-//Rutherford Connect - ECPv6.15.20//NONSGML v1.0//EN
CALSCALE:GREGORIAN
METHOD:PUBLISH
X-ORIGINAL-URL:https://rutherfordconnect.com
X-WR-CALDESC:Events for Rutherford Connect
REFRESH-INTERVAL;VALUE=DURATION:PT1H
X-Robots-Tag:noindex
X-PUBLISHED-TTL:PT1H
BEGIN:VTIMEZONE
TZID:America/New_York
BEGIN:DAYLIGHT
TZOFFSETFROM:-0500
TZOFFSETTO:-0400
TZNAME:EDT
DTSTART:20250309T070000
END:DAYLIGHT
BEGIN:STANDARD
TZOFFSETFROM:-0400
TZOFFSETTO:-0500
TZNAME:EST
DTSTART:20251102T060000
END:STANDARD
BEGIN:DAYLIGHT
TZOFFSETFROM:-0500
TZOFFSETTO:-0400
TZNAME:EDT
DTSTART:20260308T070000
END:DAYLIGHT
BEGIN:STANDARD
TZOFFSETFROM:-0400
TZOFFSETTO:-0500
TZNAME:EST
DTSTART:20261101T060000
END:STANDARD
BEGIN:DAYLIGHT
TZOFFSETFROM:-0500
TZOFFSETTO:-0400
TZNAME:EDT
DTSTART:20270314T070000
END:DAYLIGHT
BEGIN:STANDARD
TZOFFSETFROM:-0400
TZOFFSETTO:-0500
TZNAME:EST
DTSTART:20271107T060000
END:STANDARD
END:VTIMEZONE
BEGIN:VEVENT
DTSTART;TZID=America/New_York:20260423T100000
DTEND;TZID=America/New_York:20260423T140000
DTSTAMP:20260423T051653
CREATED:20250720T113735Z
LAST-MODIFIED:20250720T113735Z
UID:10000312-1776938400-1776952800@rutherfordconnect.com
SUMMARY:Basics Christian Ministries Food Pantry
DESCRIPTION:BASICS is an all-volunteer Christian ministry that provides food\, clothing\, and\nspiritual counseling to those who need it in Rutherford County\, NC. Provides\nshowers and laundry services for homeless persons. Food pantry Thursdays from\n10:00am – 2:00pm. Thrift store open Thursday – Saturday\, 10:00am – 2:00pm.
URL:https://rutherfordconnect.com/event/basics-christian-ministries-food-pantry/2026-04-23/
LOCATION:Basics Christian Ministries\, 141 N Main St\, Mooresboro\, NC\, 28114\, United States
CATEGORIES:Soup Kitchens & Free Meal Events
END:VEVENT
BEGIN:VEVENT
DTSTART;TZID=America/New_York:20260430T100000
DTEND;TZID=America/New_York:20260430T140000
DTSTAMP:20260423T051653
CREATED:20250720T113735Z
LAST-MODIFIED:20250720T113735Z
UID:10000313-1777543200-1777557600@rutherfordconnect.com
SUMMARY:Basics Christian Ministries Food Pantry
DESCRIPTION:BASICS is an all-volunteer Christian ministry that provides food\, clothing\, and\nspiritual counseling to those who need it in Rutherford County\, NC. Provides\nshowers and laundry services for homeless persons. Food pantry Thursdays from\n10:00am – 2:00pm. Thrift store open Thursday – Saturday\, 10:00am – 2:00pm.
URL:https://rutherfordconnect.com/event/basics-christian-ministries-food-pantry/2026-04-30/
LOCATION:Basics Christian Ministries\, 141 N Main St\, Mooresboro\, NC\, 28114\, United States
CATEGORIES:Soup Kitchens & Free Meal Events
END:VEVENT
BEGIN:VEVENT
DTSTART;TZID=America/New_York:20260507T100000
DTEND;TZID=America/New_York:20260507T140000
DTSTAMP:20260423T051653
CREATED:20250720T113735Z
LAST-MODIFIED:20250720T113735Z
UID:10000314-1778148000-1778162400@rutherfordconnect.com
SUMMARY:Basics Christian Ministries Food Pantry
DESCRIPTION:BASICS is an all-volunteer Christian ministry that provides food\, clothing\, and\nspiritual counseling to those who need it in Rutherford County\, NC. Provides\nshowers and laundry services for homeless persons. Food pantry Thursdays from\n10:00am – 2:00pm. Thrift store open Thursday – Saturday\, 10:00am – 2:00pm.
URL:https://rutherfordconnect.com/event/basics-christian-ministries-food-pantry/2026-05-07/
LOCATION:Basics Christian Ministries\, 141 N Main St\, Mooresboro\, NC\, 28114\, United States
CATEGORIES:Soup Kitchens & Free Meal Events
END:VEVENT
BEGIN:VEVENT
DTSTART;TZID=America/New_York:20260514T100000
DTEND;TZID=America/New_York:20260514T140000
DTSTAMP:20260423T051653
CREATED:20250720T113735Z
LAST-MODIFIED:20250720T113735Z
UID:10000315-1778752800-1778767200@rutherfordconnect.com
SUMMARY:Basics Christian Ministries Food Pantry
DESCRIPTION:BASICS is an all-volunteer Christian ministry that provides food\, clothing\, and\nspiritual counseling to those who need it in Rutherford County\, NC. Provides\nshowers and laundry services for homeless persons. Food pantry Thursdays from\n10:00am – 2:00pm. Thrift store open Thursday – Saturday\, 10:00am – 2:00pm.
URL:https://rutherfordconnect.com/event/basics-christian-ministries-food-pantry/2026-05-14/
LOCATION:Basics Christian Ministries\, 141 N Main St\, Mooresboro\, NC\, 28114\, United States
CATEGORIES:Soup Kitchens & Free Meal Events
END:VEVENT
BEGIN:VEVENT
DTSTART;TZID=America/New_York:20260521T100000
DTEND;TZID=America/New_York:20260521T140000
DTSTAMP:20260423T051653
CREATED:20250720T113735Z
LAST-MODIFIED:20250720T113735Z
UID:10000316-1779357600-1779372000@rutherfordconnect.com
SUMMARY:Basics Christian Ministries Food Pantry
DESCRIPTION:BASICS is an all-volunteer Christian ministry that provides food\, clothing\, and\nspiritual counseling to those who need it in Rutherford County\, NC. Provides\nshowers and laundry services for homeless persons. Food pantry Thursdays from\n10:00am – 2:00pm. Thrift store open Thursday – Saturday\, 10:00am – 2:00pm.
URL:https://rutherfordconnect.com/event/basics-christian-ministries-food-pantry/2026-05-21/
LOCATION:Basics Christian Ministries\, 141 N Main St\, Mooresboro\, NC\, 28114\, United States
CATEGORIES:Soup Kitchens & Free Meal Events
END:VEVENT
BEGIN:VEVENT
DTSTART;TZID=America/New_York:20260528T100000
DTEND;TZID=America/New_York:20260528T140000
DTSTAMP:20260423T051653
CREATED:20250720T113735Z
LAST-MODIFIED:20250720T113735Z
UID:10000317-1779962400-1779976800@rutherfordconnect.com
SUMMARY:Basics Christian Ministries Food Pantry
DESCRIPTION:BASICS is an all-volunteer Christian ministry that provides food\, clothing\, and\nspiritual counseling to those who need it in Rutherford County\, NC. Provides\nshowers and laundry services for homeless persons. Food pantry Thursdays from\n10:00am – 2:00pm. Thrift store open Thursday – Saturday\, 10:00am – 2:00pm.
URL:https://rutherfordconnect.com/event/basics-christian-ministries-food-pantry/2026-05-28/
LOCATION:Basics Christian Ministries\, 141 N Main St\, Mooresboro\, NC\, 28114\, United States
CATEGORIES:Soup Kitchens & Free Meal Events
END:VEVENT
BEGIN:VEVENT
DTSTART;TZID=America/New_York:20260604T100000
DTEND;TZID=America/New_York:20260604T140000
DTSTAMP:20260423T051653
CREATED:20250720T113735Z
LAST-MODIFIED:20250720T113735Z
UID:10000318-1780567200-1780581600@rutherfordconnect.com
SUMMARY:Basics Christian Ministries Food Pantry
DESCRIPTION:BASICS is an all-volunteer Christian ministry that provides food\, clothing\, and\nspiritual counseling to those who need it in Rutherford County\, NC. Provides\nshowers and laundry services for homeless persons. Food pantry Thursdays from\n10:00am – 2:00pm. Thrift store open Thursday – Saturday\, 10:00am – 2:00pm.
URL:https://rutherfordconnect.com/event/basics-christian-ministries-food-pantry/2026-06-04/
LOCATION:Basics Christian Ministries\, 141 N Main St\, Mooresboro\, NC\, 28114\, United States
CATEGORIES:Soup Kitchens & Free Meal Events
END:VEVENT
BEGIN:VEVENT
DTSTART;TZID=America/New_York:20260611T100000
DTEND;TZID=America/New_York:20260611T140000
DTSTAMP:20260423T051653
CREATED:20250720T113735Z
LAST-MODIFIED:20250720T113735Z
UID:10000319-1781172000-1781186400@rutherfordconnect.com
SUMMARY:Basics Christian Ministries Food Pantry
DESCRIPTION:BASICS is an all-volunteer Christian ministry that provides food\, clothing\, and\nspiritual counseling to those who need it in Rutherford County\, NC. Provides\nshowers and laundry services for homeless persons. Food pantry Thursdays from\n10:00am – 2:00pm. Thrift store open Thursday – Saturday\, 10:00am – 2:00pm.
URL:https://rutherfordconnect.com/event/basics-christian-ministries-food-pantry/2026-06-11/
LOCATION:Basics Christian Ministries\, 141 N Main St\, Mooresboro\, NC\, 28114\, United States
CATEGORIES:Soup Kitchens & Free Meal Events
END:VEVENT
BEGIN:VEVENT
DTSTART;TZID=America/New_York:20260618T100000
DTEND;TZID=America/New_York:20260618T140000
DTSTAMP:20260423T051653
CREATED:20250720T113735Z
LAST-MODIFIED:20250720T113735Z
UID:10000320-1781776800-1781791200@rutherfordconnect.com
SUMMARY:Basics Christian Ministries Food Pantry
DESCRIPTION:BASICS is an all-volunteer Christian ministry that provides food\, clothing\, and\nspiritual counseling to those who need it in Rutherford County\, NC. Provides\nshowers and laundry services for homeless persons. Food pantry Thursdays from\n10:00am – 2:00pm. Thrift store open Thursday – Saturday\, 10:00am – 2:00pm.
URL:https://rutherfordconnect.com/event/basics-christian-ministries-food-pantry/2026-06-18/
LOCATION:Basics Christian Ministries\, 141 N Main St\, Mooresboro\, NC\, 28114\, United States
CATEGORIES:Soup Kitchens & Free Meal Events
END:VEVENT
BEGIN:VEVENT
DTSTART;TZID=America/New_York:20260625T100000
DTEND;TZID=America/New_York:20260625T140000
DTSTAMP:20260423T051653
CREATED:20250720T113735Z
LAST-MODIFIED:20250720T113735Z
UID:10000321-1782381600-1782396000@rutherfordconnect.com
SUMMARY:Basics Christian Ministries Food Pantry
DESCRIPTION:BASICS is an all-volunteer Christian ministry that provides food\, clothing\, and\nspiritual counseling to those who need it in Rutherford County\, NC. Provides\nshowers and laundry services for homeless persons. Food pantry Thursdays from\n10:00am – 2:00pm. Thrift store open Thursday – Saturday\, 10:00am – 2:00pm.
URL:https://rutherfordconnect.com/event/basics-christian-ministries-food-pantry/2026-06-25/
LOCATION:Basics Christian Ministries\, 141 N Main St\, Mooresboro\, NC\, 28114\, United States
CATEGORIES:Soup Kitchens & Free Meal Events
END:VEVENT
BEGIN:VEVENT
DTSTART;TZID=America/New_York:20260702T100000
DTEND;TZID=America/New_York:20260702T140000
DTSTAMP:20260423T051653
CREATED:20250720T113735Z
LAST-MODIFIED:20250720T113735Z
UID:10000322-1782986400-1783000800@rutherfordconnect.com
SUMMARY:Basics Christian Ministries Food Pantry
DESCRIPTION:BASICS is an all-volunteer Christian ministry that provides food\, clothing\, and\nspiritual counseling to those who need it in Rutherford County\, NC. Provides\nshowers and laundry services for homeless persons. Food pantry Thursdays from\n10:00am – 2:00pm. Thrift store open Thursday – Saturday\, 10:00am – 2:00pm.
URL:https://rutherfordconnect.com/event/basics-christian-ministries-food-pantry/2026-07-02/
LOCATION:Basics Christian Ministries\, 141 N Main St\, Mooresboro\, NC\, 28114\, United States
CATEGORIES:Soup Kitchens & Free Meal Events
END:VEVENT
BEGIN:VEVENT
DTSTART;TZID=America/New_York:20260709T100000
DTEND;TZID=America/New_York:20260709T140000
DTSTAMP:20260423T051653
CREATED:20250720T113735Z
LAST-MODIFIED:20250720T113735Z
UID:10000323-1783591200-1783605600@rutherfordconnect.com
SUMMARY:Basics Christian Ministries Food Pantry
DESCRIPTION:BASICS is an all-volunteer Christian ministry that provides food\, clothing\, and\nspiritual counseling to those who need it in Rutherford County\, NC. Provides\nshowers and laundry services for homeless persons. Food pantry Thursdays from\n10:00am – 2:00pm. Thrift store open Thursday – Saturday\, 10:00am – 2:00pm.
URL:https://rutherfordconnect.com/event/basics-christian-ministries-food-pantry/2026-07-09/
LOCATION:Basics Christian Ministries\, 141 N Main St\, Mooresboro\, NC\, 28114\, United States
CATEGORIES:Soup Kitchens & Free Meal Events
END:VEVENT
BEGIN:VEVENT
DTSTART;TZID=America/New_York:20260716T100000
DTEND;TZID=America/New_York:20260716T140000
DTSTAMP:20260423T051653
CREATED:20250720T113735Z
LAST-MODIFIED:20250720T113735Z
UID:10000324-1784196000-1784210400@rutherfordconnect.com
SUMMARY:Basics Christian Ministries Food Pantry
DESCRIPTION:BASICS is an all-volunteer Christian ministry that provides food\, clothing\, and\nspiritual counseling to those who need it in Rutherford County\, NC. Provides\nshowers and laundry services for homeless persons. Food pantry Thursdays from\n10:00am – 2:00pm. Thrift store open Thursday – Saturday\, 10:00am – 2:00pm.
URL:https://rutherfordconnect.com/event/basics-christian-ministries-food-pantry/2026-07-16/
LOCATION:Basics Christian Ministries\, 141 N Main St\, Mooresboro\, NC\, 28114\, United States
CATEGORIES:Soup Kitchens & Free Meal Events
END:VEVENT
BEGIN:VEVENT
DTSTART;TZID=America/New_York:20260723T100000
DTEND;TZID=America/New_York:20260723T140000
DTSTAMP:20260423T051653
CREATED:20250720T113735Z
LAST-MODIFIED:20250720T113735Z
UID:10000325-1784800800-1784815200@rutherfordconnect.com
SUMMARY:Basics Christian Ministries Food Pantry
DESCRIPTION:BASICS is an all-volunteer Christian ministry that provides food\, clothing\, and\nspiritual counseling to those who need it in Rutherford County\, NC. Provides\nshowers and laundry services for homeless persons. Food pantry Thursdays from\n10:00am – 2:00pm. Thrift store open Thursday – Saturday\, 10:00am – 2:00pm.
URL:https://rutherfordconnect.com/event/basics-christian-ministries-food-pantry/2026-07-23/
LOCATION:Basics Christian Ministries\, 141 N Main St\, Mooresboro\, NC\, 28114\, United States
CATEGORIES:Soup Kitchens & Free Meal Events
END:VEVENT
BEGIN:VEVENT
DTSTART;TZID=America/New_York:20260730T100000
DTEND;TZID=America/New_York:20260730T140000
DTSTAMP:20260423T051653
CREATED:20250720T113735Z
LAST-MODIFIED:20250720T113735Z
UID:10000326-1785405600-1785420000@rutherfordconnect.com
SUMMARY:Basics Christian Ministries Food Pantry
DESCRIPTION:BASICS is an all-volunteer Christian ministry that provides food\, clothing\, and\nspiritual counseling to those who need it in Rutherford County\, NC. Provides\nshowers and laundry services for homeless persons. Food pantry Thursdays from\n10:00am – 2:00pm. Thrift store open Thursday – Saturday\, 10:00am – 2:00pm.
URL:https://rutherfordconnect.com/event/basics-christian-ministries-food-pantry/2026-07-30/
LOCATION:Basics Christian Ministries\, 141 N Main St\, Mooresboro\, NC\, 28114\, United States
CATEGORIES:Soup Kitchens & Free Meal Events
END:VEVENT
BEGIN:VEVENT
DTSTART;TZID=America/New_York:20260806T100000
DTEND;TZID=America/New_York:20260806T140000
DTSTAMP:20260423T051653
CREATED:20250720T113735Z
LAST-MODIFIED:20250720T113735Z
UID:10000327-1786010400-1786024800@rutherfordconnect.com
SUMMARY:Basics Christian Ministries Food Pantry
DESCRIPTION:BASICS is an all-volunteer Christian ministry that provides food\, clothing\, and\nspiritual counseling to those who need it in Rutherford County\, NC. Provides\nshowers and laundry services for homeless persons. Food pantry Thursdays from\n10:00am – 2:00pm. Thrift store open Thursday – Saturday\, 10:00am – 2:00pm.
URL:https://rutherfordconnect.com/event/basics-christian-ministries-food-pantry/2026-08-06/
LOCATION:Basics Christian Ministries\, 141 N Main St\, Mooresboro\, NC\, 28114\, United States
CATEGORIES:Soup Kitchens & Free Meal Events
END:VEVENT
BEGIN:VEVENT
DTSTART;TZID=America/New_York:20260813T100000
DTEND;TZID=America/New_York:20260813T140000
DTSTAMP:20260423T051653
CREATED:20250720T113735Z
LAST-MODIFIED:20250720T113735Z
UID:10000328-1786615200-1786629600@rutherfordconnect.com
SUMMARY:Basics Christian Ministries Food Pantry
DESCRIPTION:BASICS is an all-volunteer Christian ministry that provides food\, clothing\, and\nspiritual counseling to those who need it in Rutherford County\, NC. Provides\nshowers and laundry services for homeless persons. Food pantry Thursdays from\n10:00am – 2:00pm. Thrift store open Thursday – Saturday\, 10:00am – 2:00pm.
URL:https://rutherfordconnect.com/event/basics-christian-ministries-food-pantry/2026-08-13/
LOCATION:Basics Christian Ministries\, 141 N Main St\, Mooresboro\, NC\, 28114\, United States
CATEGORIES:Soup Kitchens & Free Meal Events
END:VEVENT
BEGIN:VEVENT
DTSTART;TZID=America/New_York:20260820T100000
DTEND;TZID=America/New_York:20260820T140000
DTSTAMP:20260423T051653
CREATED:20250720T113735Z
LAST-MODIFIED:20250720T113735Z
UID:10000329-1787220000-1787234400@rutherfordconnect.com
SUMMARY:Basics Christian Ministries Food Pantry
DESCRIPTION:BASICS is an all-volunteer Christian ministry that provides food\, clothing\, and\nspiritual counseling to those who need it in Rutherford County\, NC. Provides\nshowers and laundry services for homeless persons. Food pantry Thursdays from\n10:00am – 2:00pm. Thrift store open Thursday – Saturday\, 10:00am – 2:00pm.
URL:https://rutherfordconnect.com/event/basics-christian-ministries-food-pantry/2026-08-20/
LOCATION:Basics Christian Ministries\, 141 N Main St\, Mooresboro\, NC\, 28114\, United States
CATEGORIES:Soup Kitchens & Free Meal Events
END:VEVENT
BEGIN:VEVENT
DTSTART;TZID=America/New_York:20260827T100000
DTEND;TZID=America/New_York:20260827T140000
DTSTAMP:20260423T051653
CREATED:20250720T113735Z
LAST-MODIFIED:20250720T113735Z
UID:10000330-1787824800-1787839200@rutherfordconnect.com
SUMMARY:Basics Christian Ministries Food Pantry
DESCRIPTION:BASICS is an all-volunteer Christian ministry that provides food\, clothing\, and\nspiritual counseling to those who need it in Rutherford County\, NC. Provides\nshowers and laundry services for homeless persons. Food pantry Thursdays from\n10:00am – 2:00pm. Thrift store open Thursday – Saturday\, 10:00am – 2:00pm.
URL:https://rutherfordconnect.com/event/basics-christian-ministries-food-pantry/2026-08-27/
LOCATION:Basics Christian Ministries\, 141 N Main St\, Mooresboro\, NC\, 28114\, United States
CATEGORIES:Soup Kitchens & Free Meal Events
END:VEVENT
BEGIN:VEVENT
DTSTART;TZID=America/New_York:20260903T100000
DTEND;TZID=America/New_York:20260903T140000
DTSTAMP:20260423T051653
CREATED:20250720T113735Z
LAST-MODIFIED:20250720T113735Z
UID:10000331-1788429600-1788444000@rutherfordconnect.com
SUMMARY:Basics Christian Ministries Food Pantry
DESCRIPTION:BASICS is an all-volunteer Christian ministry that provides food\, clothing\, and\nspiritual counseling to those who need it in Rutherford County\, NC. Provides\nshowers and laundry services for homeless persons. Food pantry Thursdays from\n10:00am – 2:00pm. Thrift store open Thursday – Saturday\, 10:00am – 2:00pm.
URL:https://rutherfordconnect.com/event/basics-christian-ministries-food-pantry/2026-09-03/
LOCATION:Basics Christian Ministries\, 141 N Main St\, Mooresboro\, NC\, 28114\, United States
CATEGORIES:Soup Kitchens & Free Meal Events
END:VEVENT
BEGIN:VEVENT
DTSTART;TZID=America/New_York:20260910T100000
DTEND;TZID=America/New_York:20260910T140000
DTSTAMP:20260423T051653
CREATED:20250720T113735Z
LAST-MODIFIED:20250720T113735Z
UID:10000332-1789034400-1789048800@rutherfordconnect.com
SUMMARY:Basics Christian Ministries Food Pantry
DESCRIPTION:BASICS is an all-volunteer Christian ministry that provides food\, clothing\, and\nspiritual counseling to those who need it in Rutherford County\, NC. Provides\nshowers and laundry services for homeless persons. Food pantry Thursdays from\n10:00am – 2:00pm. Thrift store open Thursday – Saturday\, 10:00am – 2:00pm.
URL:https://rutherfordconnect.com/event/basics-christian-ministries-food-pantry/2026-09-10/
LOCATION:Basics Christian Ministries\, 141 N Main St\, Mooresboro\, NC\, 28114\, United States
CATEGORIES:Soup Kitchens & Free Meal Events
END:VEVENT
BEGIN:VEVENT
DTSTART;TZID=America/New_York:20260917T100000
DTEND;TZID=America/New_York:20260917T140000
DTSTAMP:20260423T051653
CREATED:20250720T113735Z
LAST-MODIFIED:20250720T113735Z
UID:10000333-1789639200-1789653600@rutherfordconnect.com
SUMMARY:Basics Christian Ministries Food Pantry
DESCRIPTION:BASICS is an all-volunteer Christian ministry that provides food\, clothing\, and\nspiritual counseling to those who need it in Rutherford County\, NC. Provides\nshowers and laundry services for homeless persons. Food pantry Thursdays from\n10:00am – 2:00pm. Thrift store open Thursday – Saturday\, 10:00am – 2:00pm.
URL:https://rutherfordconnect.com/event/basics-christian-ministries-food-pantry/2026-09-17/
LOCATION:Basics Christian Ministries\, 141 N Main St\, Mooresboro\, NC\, 28114\, United States
CATEGORIES:Soup Kitchens & Free Meal Events
END:VEVENT
BEGIN:VEVENT
DTSTART;TZID=America/New_York:20260924T100000
DTEND;TZID=America/New_York:20260924T140000
DTSTAMP:20260423T051653
CREATED:20250720T113735Z
LAST-MODIFIED:20250720T113735Z
UID:10000334-1790244000-1790258400@rutherfordconnect.com
SUMMARY:Basics Christian Ministries Food Pantry
DESCRIPTION:BASICS is an all-volunteer Christian ministry that provides food\, clothing\, and\nspiritual counseling to those who need it in Rutherford County\, NC. Provides\nshowers and laundry services for homeless persons. Food pantry Thursdays from\n10:00am – 2:00pm. Thrift store open Thursday – Saturday\, 10:00am – 2:00pm.
URL:https://rutherfordconnect.com/event/basics-christian-ministries-food-pantry/2026-09-24/
LOCATION:Basics Christian Ministries\, 141 N Main St\, Mooresboro\, NC\, 28114\, United States
CATEGORIES:Soup Kitchens & Free Meal Events
END:VEVENT
BEGIN:VEVENT
DTSTART;TZID=America/New_York:20261001T100000
DTEND;TZID=America/New_York:20261001T140000
DTSTAMP:20260423T051653
CREATED:20250720T113735Z
LAST-MODIFIED:20250720T113735Z
UID:10000335-1790848800-1790863200@rutherfordconnect.com
SUMMARY:Basics Christian Ministries Food Pantry
DESCRIPTION:BASICS is an all-volunteer Christian ministry that provides food\, clothing\, and\nspiritual counseling to those who need it in Rutherford County\, NC. Provides\nshowers and laundry services for homeless persons. Food pantry Thursdays from\n10:00am – 2:00pm. Thrift store open Thursday – Saturday\, 10:00am – 2:00pm.
URL:https://rutherfordconnect.com/event/basics-christian-ministries-food-pantry/2026-10-01/
LOCATION:Basics Christian Ministries\, 141 N Main St\, Mooresboro\, NC\, 28114\, United States
CATEGORIES:Soup Kitchens & Free Meal Events
END:VEVENT
BEGIN:VEVENT
DTSTART;TZID=America/New_York:20261008T100000
DTEND;TZID=America/New_York:20261008T140000
DTSTAMP:20260423T051653
CREATED:20250720T113735Z
LAST-MODIFIED:20250720T113735Z
UID:10000336-1791453600-1791468000@rutherfordconnect.com
SUMMARY:Basics Christian Ministries Food Pantry
DESCRIPTION:BASICS is an all-volunteer Christian ministry that provides food\, clothing\, and\nspiritual counseling to those who need it in Rutherford County\, NC. Provides\nshowers and laundry services for homeless persons. Food pantry Thursdays from\n10:00am – 2:00pm. Thrift store open Thursday – Saturday\, 10:00am – 2:00pm.
URL:https://rutherfordconnect.com/event/basics-christian-ministries-food-pantry/2026-10-08/
LOCATION:Basics Christian Ministries\, 141 N Main St\, Mooresboro\, NC\, 28114\, United States
CATEGORIES:Soup Kitchens & Free Meal Events
END:VEVENT
BEGIN:VEVENT
DTSTART;TZID=America/New_York:20261015T100000
DTEND;TZID=America/New_York:20261015T140000
DTSTAMP:20260423T051653
CREATED:20250720T113735Z
LAST-MODIFIED:20250720T113735Z
UID:10000337-1792058400-1792072800@rutherfordconnect.com
SUMMARY:Basics Christian Ministries Food Pantry
DESCRIPTION:BASICS is an all-volunteer Christian ministry that provides food\, clothing\, and\nspiritual counseling to those who need it in Rutherford County\, NC. Provides\nshowers and laundry services for homeless persons. Food pantry Thursdays from\n10:00am – 2:00pm. Thrift store open Thursday – Saturday\, 10:00am – 2:00pm.
URL:https://rutherfordconnect.com/event/basics-christian-ministries-food-pantry/2026-10-15/
LOCATION:Basics Christian Ministries\, 141 N Main St\, Mooresboro\, NC\, 28114\, United States
CATEGORIES:Soup Kitchens & Free Meal Events
END:VEVENT
BEGIN:VEVENT
DTSTART;TZID=America/New_York:20261022T100000
DTEND;TZID=America/New_York:20261022T140000
DTSTAMP:20260423T051653
CREATED:20250720T113735Z
LAST-MODIFIED:20250720T113735Z
UID:10000338-1792663200-1792677600@rutherfordconnect.com
SUMMARY:Basics Christian Ministries Food Pantry
DESCRIPTION:BASICS is an all-volunteer Christian ministry that provides food\, clothing\, and\nspiritual counseling to those who need it in Rutherford County\, NC. Provides\nshowers and laundry services for homeless persons. Food pantry Thursdays from\n10:00am – 2:00pm. Thrift store open Thursday – Saturday\, 10:00am – 2:00pm.
URL:https://rutherfordconnect.com/event/basics-christian-ministries-food-pantry/2026-10-22/
LOCATION:Basics Christian Ministries\, 141 N Main St\, Mooresboro\, NC\, 28114\, United States
CATEGORIES:Soup Kitchens & Free Meal Events
END:VEVENT
BEGIN:VEVENT
DTSTART;TZID=America/New_York:20261029T100000
DTEND;TZID=America/New_York:20261029T140000
DTSTAMP:20260423T051653
CREATED:20250720T113735Z
LAST-MODIFIED:20250720T113735Z
UID:10000339-1793268000-1793282400@rutherfordconnect.com
SUMMARY:Basics Christian Ministries Food Pantry
DESCRIPTION:BASICS is an all-volunteer Christian ministry that provides food\, clothing\, and\nspiritual counseling to those who need it in Rutherford County\, NC. Provides\nshowers and laundry services for homeless persons. Food pantry Thursdays from\n10:00am – 2:00pm. Thrift store open Thursday – Saturday\, 10:00am – 2:00pm.
URL:https://rutherfordconnect.com/event/basics-christian-ministries-food-pantry/2026-10-29/
LOCATION:Basics Christian Ministries\, 141 N Main St\, Mooresboro\, NC\, 28114\, United States
CATEGORIES:Soup Kitchens & Free Meal Events
END:VEVENT
BEGIN:VEVENT
DTSTART;TZID=America/New_York:20261105T100000
DTEND;TZID=America/New_York:20261105T140000
DTSTAMP:20260423T051653
CREATED:20250720T113735Z
LAST-MODIFIED:20250720T113735Z
UID:10000340-1793872800-1793887200@rutherfordconnect.com
SUMMARY:Basics Christian Ministries Food Pantry
DESCRIPTION:BASICS is an all-volunteer Christian ministry that provides food\, clothing\, and\nspiritual counseling to those who need it in Rutherford County\, NC. Provides\nshowers and laundry services for homeless persons. Food pantry Thursdays from\n10:00am – 2:00pm. Thrift store open Thursday – Saturday\, 10:00am – 2:00pm.
URL:https://rutherfordconnect.com/event/basics-christian-ministries-food-pantry/2026-11-05/
LOCATION:Basics Christian Ministries\, 141 N Main St\, Mooresboro\, NC\, 28114\, United States
CATEGORIES:Soup Kitchens & Free Meal Events
END:VEVENT
BEGIN:VEVENT
DTSTART;TZID=America/New_York:20261112T100000
DTEND;TZID=America/New_York:20261112T140000
DTSTAMP:20260423T051653
CREATED:20250720T113735Z
LAST-MODIFIED:20250720T113735Z
UID:10000341-1794477600-1794492000@rutherfordconnect.com
SUMMARY:Basics Christian Ministries Food Pantry
DESCRIPTION:BASICS is an all-volunteer Christian ministry that provides food\, clothing\, and\nspiritual counseling to those who need it in Rutherford County\, NC. Provides\nshowers and laundry services for homeless persons. Food pantry Thursdays from\n10:00am – 2:00pm. Thrift store open Thursday – Saturday\, 10:00am – 2:00pm.
URL:https://rutherfordconnect.com/event/basics-christian-ministries-food-pantry/2026-11-12/
LOCATION:Basics Christian Ministries\, 141 N Main St\, Mooresboro\, NC\, 28114\, United States
CATEGORIES:Soup Kitchens & Free Meal Events
END:VEVENT
END:VCALENDAR