BEGIN:VCALENDAR
VERSION:2.0
PRODID:-//Rutherford Connect - ECPv6.15.20//NONSGML v1.0//EN
CALSCALE:GREGORIAN
METHOD:PUBLISH
X-ORIGINAL-URL:https://rutherfordconnect.com
X-WR-CALDESC:Events for Rutherford Connect
REFRESH-INTERVAL;VALUE=DURATION:PT1H
X-Robots-Tag:noindex
X-PUBLISHED-TTL:PT1H
BEGIN:VTIMEZONE
TZID:America/New_York
BEGIN:DAYLIGHT
TZOFFSETFROM:-0500
TZOFFSETTO:-0400
TZNAME:EDT
DTSTART:20240310T070000
END:DAYLIGHT
BEGIN:STANDARD
TZOFFSETFROM:-0400
TZOFFSETTO:-0500
TZNAME:EST
DTSTART:20241103T060000
END:STANDARD
BEGIN:DAYLIGHT
TZOFFSETFROM:-0500
TZOFFSETTO:-0400
TZNAME:EDT
DTSTART:20250309T070000
END:DAYLIGHT
BEGIN:STANDARD
TZOFFSETFROM:-0400
TZOFFSETTO:-0500
TZNAME:EST
DTSTART:20251102T060000
END:STANDARD
BEGIN:DAYLIGHT
TZOFFSETFROM:-0500
TZOFFSETTO:-0400
TZNAME:EDT
DTSTART:20260308T070000
END:DAYLIGHT
BEGIN:STANDARD
TZOFFSETFROM:-0400
TZOFFSETTO:-0500
TZNAME:EST
DTSTART:20261101T060000
END:STANDARD
BEGIN:DAYLIGHT
TZOFFSETFROM:-0500
TZOFFSETTO:-0400
TZNAME:EDT
DTSTART:20270314T070000
END:DAYLIGHT
BEGIN:STANDARD
TZOFFSETFROM:-0400
TZOFFSETTO:-0500
TZNAME:EST
DTSTART:20271107T060000
END:STANDARD
END:VTIMEZONE
BEGIN:VEVENT
DTSTART;TZID=America/New_York:20260416T163000
DTEND;TZID=America/New_York:20260416T180000
DTSTAMP:20260421T111401
CREATED:20250720T121851Z
LAST-MODIFIED:20250720T121851Z
UID:10003486-1776357000-1776362400@rutherfordconnect.com
SUMMARY:New Beginnings Soup Kitchen
DESCRIPTION:Thursday 4:30-6:00 PM Take Out Only/Soup Kitchen
URL:https://rutherfordconnect.com/event/new-beginnings-soup-kitchen/2026-04-16/
LOCATION:New Beginnings Soup Kitchen\, 668 N. Washington St\, Rutherfordton\, NC\, 28139\, United States
CATEGORIES:Soup Kitchens & Free Meal Events
END:VEVENT
BEGIN:VEVENT
DTSTART;TZID=America/New_York:20260409T163000
DTEND;TZID=America/New_York:20260409T180000
DTSTAMP:20260421T111401
CREATED:20250720T121851Z
LAST-MODIFIED:20250720T121851Z
UID:10003485-1775752200-1775757600@rutherfordconnect.com
SUMMARY:New Beginnings Soup Kitchen
DESCRIPTION:Thursday 4:30-6:00 PM Take Out Only/Soup Kitchen
URL:https://rutherfordconnect.com/event/new-beginnings-soup-kitchen/2026-04-09/
LOCATION:New Beginnings Soup Kitchen\, 668 N. Washington St\, Rutherfordton\, NC\, 28139\, United States
CATEGORIES:Soup Kitchens & Free Meal Events
END:VEVENT
BEGIN:VEVENT
DTSTART;TZID=America/New_York:20260402T163000
DTEND;TZID=America/New_York:20260402T180000
DTSTAMP:20260421T111402
CREATED:20250720T121851Z
LAST-MODIFIED:20250720T121851Z
UID:10003484-1775147400-1775152800@rutherfordconnect.com
SUMMARY:New Beginnings Soup Kitchen
DESCRIPTION:Thursday 4:30-6:00 PM Take Out Only/Soup Kitchen
URL:https://rutherfordconnect.com/event/new-beginnings-soup-kitchen/2026-04-02/
LOCATION:New Beginnings Soup Kitchen\, 668 N. Washington St\, Rutherfordton\, NC\, 28139\, United States
CATEGORIES:Soup Kitchens & Free Meal Events
END:VEVENT
BEGIN:VEVENT
DTSTART;TZID=America/New_York:20260326T163000
DTEND;TZID=America/New_York:20260326T180000
DTSTAMP:20260421T111402
CREATED:20250720T121851Z
LAST-MODIFIED:20250720T121851Z
UID:10003483-1774542600-1774548000@rutherfordconnect.com
SUMMARY:New Beginnings Soup Kitchen
DESCRIPTION:Thursday 4:30-6:00 PM Take Out Only/Soup Kitchen
URL:https://rutherfordconnect.com/event/new-beginnings-soup-kitchen/2026-03-26/
LOCATION:New Beginnings Soup Kitchen\, 668 N. Washington St\, Rutherfordton\, NC\, 28139\, United States
CATEGORIES:Soup Kitchens & Free Meal Events
END:VEVENT
BEGIN:VEVENT
DTSTART;TZID=America/New_York:20260319T163000
DTEND;TZID=America/New_York:20260319T180000
DTSTAMP:20260421T111402
CREATED:20250720T121851Z
LAST-MODIFIED:20250720T121851Z
UID:10003482-1773937800-1773943200@rutherfordconnect.com
SUMMARY:New Beginnings Soup Kitchen
DESCRIPTION:Thursday 4:30-6:00 PM Take Out Only/Soup Kitchen
URL:https://rutherfordconnect.com/event/new-beginnings-soup-kitchen/2026-03-19/
LOCATION:New Beginnings Soup Kitchen\, 668 N. Washington St\, Rutherfordton\, NC\, 28139\, United States
CATEGORIES:Soup Kitchens & Free Meal Events
END:VEVENT
BEGIN:VEVENT
DTSTART;TZID=America/New_York:20260312T163000
DTEND;TZID=America/New_York:20260312T180000
DTSTAMP:20260421T111402
CREATED:20250720T121851Z
LAST-MODIFIED:20250720T121851Z
UID:10003481-1773333000-1773338400@rutherfordconnect.com
SUMMARY:New Beginnings Soup Kitchen
DESCRIPTION:Thursday 4:30-6:00 PM Take Out Only/Soup Kitchen
URL:https://rutherfordconnect.com/event/new-beginnings-soup-kitchen/2026-03-12/
LOCATION:New Beginnings Soup Kitchen\, 668 N. Washington St\, Rutherfordton\, NC\, 28139\, United States
CATEGORIES:Soup Kitchens & Free Meal Events
END:VEVENT
BEGIN:VEVENT
DTSTART;TZID=America/New_York:20260305T163000
DTEND;TZID=America/New_York:20260305T180000
DTSTAMP:20260421T111402
CREATED:20250720T121851Z
LAST-MODIFIED:20250720T121851Z
UID:10003480-1772728200-1772733600@rutherfordconnect.com
SUMMARY:New Beginnings Soup Kitchen
DESCRIPTION:Thursday 4:30-6:00 PM Take Out Only/Soup Kitchen
URL:https://rutherfordconnect.com/event/new-beginnings-soup-kitchen/2026-03-05/
LOCATION:New Beginnings Soup Kitchen\, 668 N. Washington St\, Rutherfordton\, NC\, 28139\, United States
CATEGORIES:Soup Kitchens & Free Meal Events
END:VEVENT
BEGIN:VEVENT
DTSTART;TZID=America/New_York:20260226T163000
DTEND;TZID=America/New_York:20260226T180000
DTSTAMP:20260421T111402
CREATED:20250720T121851Z
LAST-MODIFIED:20250720T121851Z
UID:10003479-1772123400-1772128800@rutherfordconnect.com
SUMMARY:New Beginnings Soup Kitchen
DESCRIPTION:Thursday 4:30-6:00 PM Take Out Only/Soup Kitchen
URL:https://rutherfordconnect.com/event/new-beginnings-soup-kitchen/2026-02-26/
LOCATION:New Beginnings Soup Kitchen\, 668 N. Washington St\, Rutherfordton\, NC\, 28139\, United States
CATEGORIES:Soup Kitchens & Free Meal Events
END:VEVENT
BEGIN:VEVENT
DTSTART;TZID=America/New_York:20260219T163000
DTEND;TZID=America/New_York:20260219T180000
DTSTAMP:20260421T111402
CREATED:20250720T121851Z
LAST-MODIFIED:20250720T121851Z
UID:10003478-1771518600-1771524000@rutherfordconnect.com
SUMMARY:New Beginnings Soup Kitchen
DESCRIPTION:Thursday 4:30-6:00 PM Take Out Only/Soup Kitchen
URL:https://rutherfordconnect.com/event/new-beginnings-soup-kitchen/2026-02-19/
LOCATION:New Beginnings Soup Kitchen\, 668 N. Washington St\, Rutherfordton\, NC\, 28139\, United States
CATEGORIES:Soup Kitchens & Free Meal Events
END:VEVENT
BEGIN:VEVENT
DTSTART;TZID=America/New_York:20260212T163000
DTEND;TZID=America/New_York:20260212T180000
DTSTAMP:20260421T111402
CREATED:20250720T121851Z
LAST-MODIFIED:20250720T121851Z
UID:10003477-1770913800-1770919200@rutherfordconnect.com
SUMMARY:New Beginnings Soup Kitchen
DESCRIPTION:Thursday 4:30-6:00 PM Take Out Only/Soup Kitchen
URL:https://rutherfordconnect.com/event/new-beginnings-soup-kitchen/2026-02-12/
LOCATION:New Beginnings Soup Kitchen\, 668 N. Washington St\, Rutherfordton\, NC\, 28139\, United States
CATEGORIES:Soup Kitchens & Free Meal Events
END:VEVENT
BEGIN:VEVENT
DTSTART;TZID=America/New_York:20260205T163000
DTEND;TZID=America/New_York:20260205T180000
DTSTAMP:20260421T111402
CREATED:20250720T121851Z
LAST-MODIFIED:20250720T121851Z
UID:10003476-1770309000-1770314400@rutherfordconnect.com
SUMMARY:New Beginnings Soup Kitchen
DESCRIPTION:Thursday 4:30-6:00 PM Take Out Only/Soup Kitchen
URL:https://rutherfordconnect.com/event/new-beginnings-soup-kitchen/2026-02-05/
LOCATION:New Beginnings Soup Kitchen\, 668 N. Washington St\, Rutherfordton\, NC\, 28139\, United States
CATEGORIES:Soup Kitchens & Free Meal Events
END:VEVENT
BEGIN:VEVENT
DTSTART;TZID=America/New_York:20260129T163000
DTEND;TZID=America/New_York:20260129T180000
DTSTAMP:20260421T111402
CREATED:20250720T121851Z
LAST-MODIFIED:20250720T121851Z
UID:10003475-1769704200-1769709600@rutherfordconnect.com
SUMMARY:New Beginnings Soup Kitchen
DESCRIPTION:Thursday 4:30-6:00 PM Take Out Only/Soup Kitchen
URL:https://rutherfordconnect.com/event/new-beginnings-soup-kitchen/2026-01-29/
LOCATION:New Beginnings Soup Kitchen\, 668 N. Washington St\, Rutherfordton\, NC\, 28139\, United States
CATEGORIES:Soup Kitchens & Free Meal Events
END:VEVENT
BEGIN:VEVENT
DTSTART;TZID=America/New_York:20260122T163000
DTEND;TZID=America/New_York:20260122T180000
DTSTAMP:20260421T111402
CREATED:20250720T121851Z
LAST-MODIFIED:20250720T121851Z
UID:10003474-1769099400-1769104800@rutherfordconnect.com
SUMMARY:New Beginnings Soup Kitchen
DESCRIPTION:Thursday 4:30-6:00 PM Take Out Only/Soup Kitchen
URL:https://rutherfordconnect.com/event/new-beginnings-soup-kitchen/2026-01-22/
LOCATION:New Beginnings Soup Kitchen\, 668 N. Washington St\, Rutherfordton\, NC\, 28139\, United States
CATEGORIES:Soup Kitchens & Free Meal Events
END:VEVENT
BEGIN:VEVENT
DTSTART;TZID=America/New_York:20260115T163000
DTEND;TZID=America/New_York:20260115T180000
DTSTAMP:20260421T111402
CREATED:20250720T121851Z
LAST-MODIFIED:20250720T121851Z
UID:10003473-1768494600-1768500000@rutherfordconnect.com
SUMMARY:New Beginnings Soup Kitchen
DESCRIPTION:Thursday 4:30-6:00 PM Take Out Only/Soup Kitchen
URL:https://rutherfordconnect.com/event/new-beginnings-soup-kitchen/2026-01-15/
LOCATION:New Beginnings Soup Kitchen\, 668 N. Washington St\, Rutherfordton\, NC\, 28139\, United States
CATEGORIES:Soup Kitchens & Free Meal Events
END:VEVENT
BEGIN:VEVENT
DTSTART;TZID=America/New_York:20260108T163000
DTEND;TZID=America/New_York:20260108T180000
DTSTAMP:20260421T111402
CREATED:20250720T121851Z
LAST-MODIFIED:20250720T121851Z
UID:10003472-1767889800-1767895200@rutherfordconnect.com
SUMMARY:New Beginnings Soup Kitchen
DESCRIPTION:Thursday 4:30-6:00 PM Take Out Only/Soup Kitchen
URL:https://rutherfordconnect.com/event/new-beginnings-soup-kitchen/2026-01-08/
LOCATION:New Beginnings Soup Kitchen\, 668 N. Washington St\, Rutherfordton\, NC\, 28139\, United States
CATEGORIES:Soup Kitchens & Free Meal Events
END:VEVENT
BEGIN:VEVENT
DTSTART;TZID=America/New_York:20260101T163000
DTEND;TZID=America/New_York:20260101T180000
DTSTAMP:20260421T111402
CREATED:20250720T121851Z
LAST-MODIFIED:20250720T121851Z
UID:10003471-1767285000-1767290400@rutherfordconnect.com
SUMMARY:New Beginnings Soup Kitchen
DESCRIPTION:Thursday 4:30-6:00 PM Take Out Only/Soup Kitchen
URL:https://rutherfordconnect.com/event/new-beginnings-soup-kitchen/2026-01-01/
LOCATION:New Beginnings Soup Kitchen\, 668 N. Washington St\, Rutherfordton\, NC\, 28139\, United States
CATEGORIES:Soup Kitchens & Free Meal Events
END:VEVENT
BEGIN:VEVENT
DTSTART;TZID=America/New_York:20251225T163000
DTEND;TZID=America/New_York:20251225T180000
DTSTAMP:20260421T111402
CREATED:20250720T121851Z
LAST-MODIFIED:20250720T121851Z
UID:10003470-1766680200-1766685600@rutherfordconnect.com
SUMMARY:New Beginnings Soup Kitchen
DESCRIPTION:Thursday 4:30-6:00 PM Take Out Only/Soup Kitchen
URL:https://rutherfordconnect.com/event/new-beginnings-soup-kitchen/2025-12-25/
LOCATION:New Beginnings Soup Kitchen\, 668 N. Washington St\, Rutherfordton\, NC\, 28139\, United States
CATEGORIES:Soup Kitchens & Free Meal Events
END:VEVENT
BEGIN:VEVENT
DTSTART;TZID=America/New_York:20251218T163000
DTEND;TZID=America/New_York:20251218T180000
DTSTAMP:20260421T111402
CREATED:20250720T121851Z
LAST-MODIFIED:20250720T121851Z
UID:10003469-1766075400-1766080800@rutherfordconnect.com
SUMMARY:New Beginnings Soup Kitchen
DESCRIPTION:Thursday 4:30-6:00 PM Take Out Only/Soup Kitchen
URL:https://rutherfordconnect.com/event/new-beginnings-soup-kitchen/2025-12-18/
LOCATION:New Beginnings Soup Kitchen\, 668 N. Washington St\, Rutherfordton\, NC\, 28139\, United States
CATEGORIES:Soup Kitchens & Free Meal Events
END:VEVENT
BEGIN:VEVENT
DTSTART;TZID=America/New_York:20251211T163000
DTEND;TZID=America/New_York:20251211T180000
DTSTAMP:20260421T111402
CREATED:20250720T121851Z
LAST-MODIFIED:20250720T121851Z
UID:10003468-1765470600-1765476000@rutherfordconnect.com
SUMMARY:New Beginnings Soup Kitchen
DESCRIPTION:Thursday 4:30-6:00 PM Take Out Only/Soup Kitchen
URL:https://rutherfordconnect.com/event/new-beginnings-soup-kitchen/2025-12-11/
LOCATION:New Beginnings Soup Kitchen\, 668 N. Washington St\, Rutherfordton\, NC\, 28139\, United States
CATEGORIES:Soup Kitchens & Free Meal Events
END:VEVENT
BEGIN:VEVENT
DTSTART;TZID=America/New_York:20251204T163000
DTEND;TZID=America/New_York:20251204T180000
DTSTAMP:20260421T111402
CREATED:20250720T121851Z
LAST-MODIFIED:20250720T121851Z
UID:10003467-1764865800-1764871200@rutherfordconnect.com
SUMMARY:New Beginnings Soup Kitchen
DESCRIPTION:Thursday 4:30-6:00 PM Take Out Only/Soup Kitchen
URL:https://rutherfordconnect.com/event/new-beginnings-soup-kitchen/2025-12-04/
LOCATION:New Beginnings Soup Kitchen\, 668 N. Washington St\, Rutherfordton\, NC\, 28139\, United States
CATEGORIES:Soup Kitchens & Free Meal Events
END:VEVENT
BEGIN:VEVENT
DTSTART;TZID=America/New_York:20251127T163000
DTEND;TZID=America/New_York:20251127T180000
DTSTAMP:20260421T111402
CREATED:20250720T121851Z
LAST-MODIFIED:20250720T121851Z
UID:10003466-1764261000-1764266400@rutherfordconnect.com
SUMMARY:New Beginnings Soup Kitchen
DESCRIPTION:Thursday 4:30-6:00 PM Take Out Only/Soup Kitchen
URL:https://rutherfordconnect.com/event/new-beginnings-soup-kitchen/2025-11-27/
LOCATION:New Beginnings Soup Kitchen\, 668 N. Washington St\, Rutherfordton\, NC\, 28139\, United States
CATEGORIES:Soup Kitchens & Free Meal Events
END:VEVENT
BEGIN:VEVENT
DTSTART;TZID=America/New_York:20251120T163000
DTEND;TZID=America/New_York:20251120T180000
DTSTAMP:20260421T111402
CREATED:20250720T121851Z
LAST-MODIFIED:20250720T121851Z
UID:10003465-1763656200-1763661600@rutherfordconnect.com
SUMMARY:New Beginnings Soup Kitchen
DESCRIPTION:Thursday 4:30-6:00 PM Take Out Only/Soup Kitchen
URL:https://rutherfordconnect.com/event/new-beginnings-soup-kitchen/2025-11-20/
LOCATION:New Beginnings Soup Kitchen\, 668 N. Washington St\, Rutherfordton\, NC\, 28139\, United States
CATEGORIES:Soup Kitchens & Free Meal Events
END:VEVENT
BEGIN:VEVENT
DTSTART;TZID=America/New_York:20251113T163000
DTEND;TZID=America/New_York:20251113T180000
DTSTAMP:20260421T111402
CREATED:20250720T121851Z
LAST-MODIFIED:20250720T121851Z
UID:10003464-1763051400-1763056800@rutherfordconnect.com
SUMMARY:New Beginnings Soup Kitchen
DESCRIPTION:Thursday 4:30-6:00 PM Take Out Only/Soup Kitchen
URL:https://rutherfordconnect.com/event/new-beginnings-soup-kitchen/2025-11-13/
LOCATION:New Beginnings Soup Kitchen\, 668 N. Washington St\, Rutherfordton\, NC\, 28139\, United States
CATEGORIES:Soup Kitchens & Free Meal Events
END:VEVENT
BEGIN:VEVENT
DTSTART;TZID=America/New_York:20251106T163000
DTEND;TZID=America/New_York:20251106T180000
DTSTAMP:20260421T111402
CREATED:20250720T121851Z
LAST-MODIFIED:20250720T121851Z
UID:10003463-1762446600-1762452000@rutherfordconnect.com
SUMMARY:New Beginnings Soup Kitchen
DESCRIPTION:Thursday 4:30-6:00 PM Take Out Only/Soup Kitchen
URL:https://rutherfordconnect.com/event/new-beginnings-soup-kitchen/2025-11-06/
LOCATION:New Beginnings Soup Kitchen\, 668 N. Washington St\, Rutherfordton\, NC\, 28139\, United States
CATEGORIES:Soup Kitchens & Free Meal Events
END:VEVENT
BEGIN:VEVENT
DTSTART;TZID=America/New_York:20251030T163000
DTEND;TZID=America/New_York:20251030T180000
DTSTAMP:20260421T111402
CREATED:20250720T121851Z
LAST-MODIFIED:20250720T121851Z
UID:10003462-1761841800-1761847200@rutherfordconnect.com
SUMMARY:New Beginnings Soup Kitchen
DESCRIPTION:Thursday 4:30-6:00 PM Take Out Only/Soup Kitchen
URL:https://rutherfordconnect.com/event/new-beginnings-soup-kitchen/2025-10-30/
LOCATION:New Beginnings Soup Kitchen\, 668 N. Washington St\, Rutherfordton\, NC\, 28139\, United States
CATEGORIES:Soup Kitchens & Free Meal Events
END:VEVENT
BEGIN:VEVENT
DTSTART;TZID=America/New_York:20251023T163000
DTEND;TZID=America/New_York:20251023T180000
DTSTAMP:20260421T111402
CREATED:20250720T121851Z
LAST-MODIFIED:20250720T121851Z
UID:10003461-1761237000-1761242400@rutherfordconnect.com
SUMMARY:New Beginnings Soup Kitchen
DESCRIPTION:Thursday 4:30-6:00 PM Take Out Only/Soup Kitchen
URL:https://rutherfordconnect.com/event/new-beginnings-soup-kitchen/2025-10-23/
LOCATION:New Beginnings Soup Kitchen\, 668 N. Washington St\, Rutherfordton\, NC\, 28139\, United States
CATEGORIES:Soup Kitchens & Free Meal Events
END:VEVENT
BEGIN:VEVENT
DTSTART;TZID=America/New_York:20251016T163000
DTEND;TZID=America/New_York:20251016T180000
DTSTAMP:20260421T111402
CREATED:20250720T121851Z
LAST-MODIFIED:20250720T121851Z
UID:10003460-1760632200-1760637600@rutherfordconnect.com
SUMMARY:New Beginnings Soup Kitchen
DESCRIPTION:Thursday 4:30-6:00 PM Take Out Only/Soup Kitchen
URL:https://rutherfordconnect.com/event/new-beginnings-soup-kitchen/2025-10-16/
LOCATION:New Beginnings Soup Kitchen\, 668 N. Washington St\, Rutherfordton\, NC\, 28139\, United States
CATEGORIES:Soup Kitchens & Free Meal Events
END:VEVENT
BEGIN:VEVENT
DTSTART;TZID=America/New_York:20251009T163000
DTEND;TZID=America/New_York:20251009T180000
DTSTAMP:20260421T111402
CREATED:20250720T121851Z
LAST-MODIFIED:20250720T121851Z
UID:10003459-1760027400-1760032800@rutherfordconnect.com
SUMMARY:New Beginnings Soup Kitchen
DESCRIPTION:Thursday 4:30-6:00 PM Take Out Only/Soup Kitchen
URL:https://rutherfordconnect.com/event/new-beginnings-soup-kitchen/2025-10-09/
LOCATION:New Beginnings Soup Kitchen\, 668 N. Washington St\, Rutherfordton\, NC\, 28139\, United States
CATEGORIES:Soup Kitchens & Free Meal Events
END:VEVENT
BEGIN:VEVENT
DTSTART;TZID=America/New_York:20251002T163000
DTEND;TZID=America/New_York:20251002T180000
DTSTAMP:20260421T111402
CREATED:20250720T121851Z
LAST-MODIFIED:20250720T121851Z
UID:10003458-1759422600-1759428000@rutherfordconnect.com
SUMMARY:New Beginnings Soup Kitchen
DESCRIPTION:Thursday 4:30-6:00 PM Take Out Only/Soup Kitchen
URL:https://rutherfordconnect.com/event/new-beginnings-soup-kitchen/2025-10-02/
LOCATION:New Beginnings Soup Kitchen\, 668 N. Washington St\, Rutherfordton\, NC\, 28139\, United States
CATEGORIES:Soup Kitchens & Free Meal Events
END:VEVENT
BEGIN:VEVENT
DTSTART;TZID=America/New_York:20250925T163000
DTEND;TZID=America/New_York:20250925T180000
DTSTAMP:20260421T111402
CREATED:20250720T121851Z
LAST-MODIFIED:20250720T121851Z
UID:10003457-1758817800-1758823200@rutherfordconnect.com
SUMMARY:New Beginnings Soup Kitchen
DESCRIPTION:Thursday 4:30-6:00 PM Take Out Only/Soup Kitchen
URL:https://rutherfordconnect.com/event/new-beginnings-soup-kitchen/2025-09-25/
LOCATION:New Beginnings Soup Kitchen\, 668 N. Washington St\, Rutherfordton\, NC\, 28139\, United States
CATEGORIES:Soup Kitchens & Free Meal Events
END:VEVENT
END:VCALENDAR